| Back to Multiple platform build/check report for BioC 3.12 |
|
This page was generated on 2021-05-06 12:34:00 -0400 (Thu, 06 May 2021).
|
To the developers/maintainers of the topdownr package: Please make sure to use the following settings in order to reproduce any error or warning you see on this page. |
| Package 1878/1974 | Hostname | OS / Arch | INSTALL | BUILD | CHECK | BUILD BIN | ||||||||
| topdownr 1.12.0 (landing page) Sebastian Gibb
| malbec1 | Linux (Ubuntu 18.04.5 LTS) / x86_64 | OK | OK | OK | |||||||||
| tokay1 | Windows Server 2012 R2 Standard / x64 | OK | OK | OK | OK | |||||||||
| merida1 | macOS 10.14.6 Mojave / x86_64 | OK | OK | OK | OK | |||||||||
| Package: topdownr |
| Version: 1.12.0 |
| Command: C:\cygwin\bin\curl.exe -O http://172.29.0.3/BBS/3.12/bioc/src/contrib/topdownr_1.12.0.tar.gz && rm -rf topdownr.buildbin-libdir && mkdir topdownr.buildbin-libdir && C:\Users\biocbuild\bbs-3.12-bioc\R\bin\R.exe CMD INSTALL --merge-multiarch --build --library=topdownr.buildbin-libdir topdownr_1.12.0.tar.gz && C:\Users\biocbuild\bbs-3.12-bioc\R\bin\R.exe CMD INSTALL topdownr_1.12.0.zip && rm topdownr_1.12.0.tar.gz topdownr_1.12.0.zip |
| StartedAt: 2021-05-05 17:32:05 -0400 (Wed, 05 May 2021) |
| EndedAt: 2021-05-05 17:33:04 -0400 (Wed, 05 May 2021) |
| EllapsedTime: 59.3 seconds |
| RetCode: 0 |
| Status: OK |
##############################################################################
##############################################################################
###
### Running command:
###
### C:\cygwin\bin\curl.exe -O http://172.29.0.3/BBS/3.12/bioc/src/contrib/topdownr_1.12.0.tar.gz && rm -rf topdownr.buildbin-libdir && mkdir topdownr.buildbin-libdir && C:\Users\biocbuild\bbs-3.12-bioc\R\bin\R.exe CMD INSTALL --merge-multiarch --build --library=topdownr.buildbin-libdir topdownr_1.12.0.tar.gz && C:\Users\biocbuild\bbs-3.12-bioc\R\bin\R.exe CMD INSTALL topdownr_1.12.0.zip && rm topdownr_1.12.0.tar.gz topdownr_1.12.0.zip
###
##############################################################################
##############################################################################
% Total % Received % Xferd Average Speed Time Time Time Current
Dload Upload Total Spent Left Speed
0 0 0 0 0 0 0 0 --:--:-- --:--:-- --:--:-- 0
100 400k 100 400k 0 0 849k 0 --:--:-- --:--:-- --:--:-- 851k
install for i386
* installing *source* package 'topdownr' ...
** using staged installation
** R
** data
*** moving datasets to lazyload DB
** inst
** byte-compile and prepare package for lazy loading
** help
*** installing help indices
converting help for package 'topdownr'
finding HTML links ... done
AbstractTopDownSet-class html
FragmentViews-class html
NCBSet-class html
TopDownSet-class html
createExperimentsFragmentOptimisation html
expandMsConditions html
readTopDownFiles html
tds html
topdownr-deprecated html
topdownr-package html
validMsSettings html
windows-specific-functions html
writeMethodXmls html
** building package indices
** installing vignettes
** testing if installed package can be loaded from temporary location
** testing if installed package can be loaded from final location
** testing if installed package keeps a record of temporary installation path
install for x64
* installing *source* package 'topdownr' ...
** testing if installed package can be loaded
* MD5 sums
packaged installation of 'topdownr' as topdownr_1.12.0.zip
* DONE (topdownr)
* installing to library 'C:/Users/biocbuild/bbs-3.12-bioc/R/library'
package 'topdownr' successfully unpacked and MD5 sums checked