| Back to Multiple platform build/check report for BioC 3.12 |
|
This page was generated on 2021-05-06 12:33:54 -0400 (Thu, 06 May 2021).
|
To the developers/maintainers of the target package: Please make sure to use the following settings in order to reproduce any error or warning you see on this page. |
| Package 1836/1974 | Hostname | OS / Arch | INSTALL | BUILD | CHECK | BUILD BIN | ||||||||
| target 1.4.0 (landing page) Mahmoud Ahmed
| malbec1 | Linux (Ubuntu 18.04.5 LTS) / x86_64 | OK | OK | OK | |||||||||
| tokay1 | Windows Server 2012 R2 Standard / x64 | OK | OK | OK | OK | |||||||||
| merida1 | macOS 10.14.6 Mojave / x86_64 | OK | OK | OK | OK | |||||||||
| Package: target |
| Version: 1.4.0 |
| Command: rm -rf target.buildbin-libdir && mkdir target.buildbin-libdir && C:\Users\biocbuild\bbs-3.12-bioc\R\bin\R.exe CMD INSTALL --merge-multiarch --build --library=target.buildbin-libdir target_1.4.0.tar.gz |
| StartedAt: 2021-05-06 10:14:45 -0400 (Thu, 06 May 2021) |
| EndedAt: 2021-05-06 10:15:30 -0400 (Thu, 06 May 2021) |
| EllapsedTime: 45.2 seconds |
| RetCode: 0 |
| Status: OK |
| PackageFile: target_1.4.0.zip |
| PackageFileSize: 3.17 MiB |
##############################################################################
##############################################################################
###
### Running command:
###
### rm -rf target.buildbin-libdir && mkdir target.buildbin-libdir && C:\Users\biocbuild\bbs-3.12-bioc\R\bin\R.exe CMD INSTALL --merge-multiarch --build --library=target.buildbin-libdir target_1.4.0.tar.gz
###
##############################################################################
##############################################################################
install for i386
* installing *source* package 'target' ...
** using staged installation
** R
** data
*** moving datasets to lazyload DB
** inst
** byte-compile and prepare package for lazy loading
** help
*** installing help indices
converting help for package 'target'
finding HTML links ... done
associated_peaks html
direct_targets html
find_distance html
merge_ranges html
plot_predictions html
rank_product html
real_peaks html
real_transcripts html
score_peaks html
score_regions html
sim_peaks html
sim_transcripts html
target html
target_app html
test_predictions html
** building package indices
** installing vignettes
** testing if installed package can be loaded from temporary location
** testing if installed package can be loaded from final location
** testing if installed package keeps a record of temporary installation path
install for x64
* installing *source* package 'target' ...
** testing if installed package can be loaded
* MD5 sums
packaged installation of 'target' as target_1.4.0.zip
* DONE (target)