| Back to Multiple platform build/check report for BioC 3.12 |
|
This page was generated on 2021-05-06 12:29:17 -0400 (Thu, 06 May 2021).
|
To the developers/maintainers of the splatter package: Please make sure to use the following settings in order to reproduce any error or warning you see on this page. |
| Package 1772/1974 | Hostname | OS / Arch | INSTALL | BUILD | CHECK | BUILD BIN | ||||||||
| splatter 1.14.1 (landing page) Luke Zappia
| malbec1 | Linux (Ubuntu 18.04.5 LTS) / x86_64 | OK | OK | OK | |||||||||
| tokay1 | Windows Server 2012 R2 Standard / x64 | OK | OK | OK | OK | |||||||||
| merida1 | macOS 10.14.6 Mojave / x86_64 | OK | OK | OK | OK | |||||||||
| Package: splatter |
| Version: 1.14.1 |
| Command: /home/biocbuild/bbs-3.12-bioc/R/bin/R CMD check --install=check:splatter.install-out.txt --library=/home/biocbuild/bbs-3.12-bioc/R/library --no-vignettes --timings splatter_1.14.1.tar.gz |
| StartedAt: 2021-05-06 06:18:28 -0400 (Thu, 06 May 2021) |
| EndedAt: 2021-05-06 06:29:24 -0400 (Thu, 06 May 2021) |
| EllapsedTime: 656.0 seconds |
| RetCode: 0 |
| Status: OK |
| CheckDir: splatter.Rcheck |
| Warnings: 0 |
##############################################################################
##############################################################################
###
### Running command:
###
### /home/biocbuild/bbs-3.12-bioc/R/bin/R CMD check --install=check:splatter.install-out.txt --library=/home/biocbuild/bbs-3.12-bioc/R/library --no-vignettes --timings splatter_1.14.1.tar.gz
###
##############################################################################
##############################################################################
* using log directory ‘/home/biocbuild/bbs-3.12-bioc/meat/splatter.Rcheck’
* using R version 4.0.5 (2021-03-31)
* using platform: x86_64-pc-linux-gnu (64-bit)
* using session charset: UTF-8
* using option ‘--no-vignettes’
* checking for file ‘splatter/DESCRIPTION’ ... OK
* checking extension type ... Package
* this is package ‘splatter’ version ‘1.14.1’
* package encoding: UTF-8
* checking package namespace information ... OK
* checking package dependencies ... OK
* checking if this is a source package ... OK
* checking if there is a namespace ... OK
* checking for hidden files and directories ... OK
* checking for portable file names ... OK
* checking for sufficient/correct file permissions ... OK
* checking whether package ‘splatter’ can be installed ... OK
* checking installed package size ... OK
* checking package directory ... OK
* checking ‘build’ directory ... OK
* checking DESCRIPTION meta-information ... OK
* checking top-level files ... OK
* checking for left-over files ... OK
* checking index information ... OK
* checking package subdirectories ... OK
* checking R files for non-ASCII characters ... OK
* checking R files for syntax errors ... OK
* checking whether the package can be loaded ... OK
* checking whether the package can be loaded with stated dependencies ... OK
* checking whether the package can be unloaded cleanly ... OK
* checking whether the namespace can be loaded with stated dependencies ... OK
* checking whether the namespace can be unloaded cleanly ... OK
* checking dependencies in R code ... OK
* checking S3 generic/method consistency ... OK
* checking replacement functions ... OK
* checking foreign function calls ... OK
* checking R code for possible problems ... OK
* checking Rd files ... OK
* checking Rd metadata ... OK
* checking Rd cross-references ... OK
* checking for missing documentation entries ... OK
* checking for code/documentation mismatches ... OK
* checking Rd \usage sections ... OK
* checking Rd contents ... OK
* checking for unstated dependencies in examples ... OK
* checking files in ‘vignettes’ ... OK
* checking examples ... OK
Examples with CPU (user + system) or elapsed time > 5s
user system elapsed
scDDEstimate 33.156 0.840 34.068
zinbEstimate 17.216 0.028 17.267
kersplatEstimate 6.764 0.080 6.854
splatPopEstimate 6.508 0.008 6.520
mockBulkeQTL 6.032 0.064 7.696
splatEstimate 5.648 0.036 5.689
* checking for unstated dependencies in ‘tests’ ... OK
* checking tests ...
Running ‘spelling.R’
Running ‘testthat.R’
OK
* checking for unstated dependencies in vignettes ... OK
* checking package vignettes in ‘inst/doc’ ... OK
* checking running R code from vignettes ... SKIPPED
* checking re-building of vignette outputs ... SKIPPED
* checking PDF version of manual ... OK
* DONE
Status: OK
splatter.Rcheck/00install.out
############################################################################## ############################################################################## ### ### Running command: ### ### /home/biocbuild/bbs-3.12-bioc/R/bin/R CMD INSTALL splatter ### ############################################################################## ############################################################################## * installing to library ‘/home/biocbuild/bbs-3.12-bioc/R/library’ * installing *source* package ‘splatter’ ... ** using staged installation ** R ** inst ** byte-compile and prepare package for lazy loading ** help *** installing help indices ** building package indices ** installing vignettes ** testing if installed package can be loaded from temporary location ** testing if installed package can be loaded from final location ** testing if installed package keeps a record of temporary installation path * DONE (splatter)
splatter.Rcheck/tests/spelling.Rout
R version 4.0.5 (2021-03-31) -- "Shake and Throw"
Copyright (C) 2021 The R Foundation for Statistical Computing
Platform: x86_64-pc-linux-gnu (64-bit)
R is free software and comes with ABSOLUTELY NO WARRANTY.
You are welcome to redistribute it under certain conditions.
Type 'license()' or 'licence()' for distribution details.
R is a collaborative project with many contributors.
Type 'contributors()' for more information and
'citation()' on how to cite R or R packages in publications.
Type 'demo()' for some demos, 'help()' for on-line help, or
'help.start()' for an HTML browser interface to help.
Type 'q()' to quit R.
> if(requireNamespace('spelling', quietly = TRUE))
+ spelling::spell_check_test(vignettes = TRUE, error = FALSE,
+ skip_on_cran = TRUE)
NULL
>
> proc.time()
user system elapsed
0.244 0.040 0.279
splatter.Rcheck/tests/testthat.Rout
R version 4.0.5 (2021-03-31) -- "Shake and Throw"
Copyright (C) 2021 The R Foundation for Statistical Computing
Platform: x86_64-pc-linux-gnu (64-bit)
R is free software and comes with ABSOLUTELY NO WARRANTY.
You are welcome to redistribute it under certain conditions.
Type 'license()' or 'licence()' for distribution details.
R is a collaborative project with many contributors.
Type 'contributors()' for more information and
'citation()' on how to cite R or R packages in publications.
Type 'demo()' for some demos, 'help()' for on-line help, or
'help.start()' for an HTML browser interface to help.
Type 'q()' to quit R.
> # setting R_TESTS to empty string because of
> # https://github.com/hadley/testthat/issues/144
> # revert this when that issue in R is fixed.
> Sys.setenv("R_TESTS" = "")
>
> library(testthat)
> library(splatter)
Loading required package: SingleCellExperiment
Loading required package: SummarizedExperiment
Loading required package: MatrixGenerics
Loading required package: matrixStats
Attaching package: 'MatrixGenerics'
The following objects are masked from 'package:matrixStats':
colAlls, colAnyNAs, colAnys, colAvgsPerRowSet, colCollapse,
colCounts, colCummaxs, colCummins, colCumprods, colCumsums,
colDiffs, colIQRDiffs, colIQRs, colLogSumExps, colMadDiffs,
colMads, colMaxs, colMeans2, colMedians, colMins, colOrderStats,
colProds, colQuantiles, colRanges, colRanks, colSdDiffs, colSds,
colSums2, colTabulates, colVarDiffs, colVars, colWeightedMads,
colWeightedMeans, colWeightedMedians, colWeightedSds,
colWeightedVars, rowAlls, rowAnyNAs, rowAnys, rowAvgsPerColSet,
rowCollapse, rowCounts, rowCummaxs, rowCummins, rowCumprods,
rowCumsums, rowDiffs, rowIQRDiffs, rowIQRs, rowLogSumExps,
rowMadDiffs, rowMads, rowMaxs, rowMeans2, rowMedians, rowMins,
rowOrderStats, rowProds, rowQuantiles, rowRanges, rowRanks,
rowSdDiffs, rowSds, rowSums2, rowTabulates, rowVarDiffs, rowVars,
rowWeightedMads, rowWeightedMeans, rowWeightedMedians,
rowWeightedSds, rowWeightedVars
Loading required package: GenomicRanges
Loading required package: stats4
Loading required package: BiocGenerics
Loading required package: parallel
Attaching package: 'BiocGenerics'
The following objects are masked from 'package:parallel':
clusterApply, clusterApplyLB, clusterCall, clusterEvalQ,
clusterExport, clusterMap, parApply, parCapply, parLapply,
parLapplyLB, parRapply, parSapply, parSapplyLB
The following objects are masked from 'package:stats':
IQR, mad, sd, var, xtabs
The following objects are masked from 'package:base':
Filter, Find, Map, Position, Reduce, anyDuplicated, append,
as.data.frame, basename, cbind, colnames, dirname, do.call,
duplicated, eval, evalq, get, grep, grepl, intersect, is.unsorted,
lapply, mapply, match, mget, order, paste, pmax, pmax.int, pmin,
pmin.int, rank, rbind, rownames, sapply, setdiff, sort, table,
tapply, union, unique, unsplit, which.max, which.min
Loading required package: S4Vectors
Attaching package: 'S4Vectors'
The following object is masked from 'package:base':
expand.grid
Loading required package: IRanges
Loading required package: GenomeInfoDb
Loading required package: Biobase
Welcome to Bioconductor
Vignettes contain introductory material; view with
'browseVignettes()'. To cite Bioconductor, see
'citation("Biobase")', and for packages 'citation("pkgname")'.
Attaching package: 'Biobase'
The following object is masked from 'package:MatrixGenerics':
rowMedians
The following objects are masked from 'package:matrixStats':
anyMissing, rowMedians
>
> test_check("splatter")
-----------------------------------------------------
MCMC sampler has been started: 20000 iterations to go.
-----------------------------------------------------
-----------------------------------------------------
End of Burn-in period.
-----------------------------------------------------
-----------------------------------------------------
-----------------------------------------------------
All 20000 MCMC iterations have been completed.
-----------------------------------------------------
-----------------------------------------------------
-----------------------------------------------------
Please see below a summary of the overall acceptance rates.
-----------------------------------------------------
Minimum acceptance rate among mu[i]'s: 0.318933
Average acceptance rate among mu[i]'s: 0.442449
Maximum acceptance rate among mu[i]'s: 0.642267
Minimum acceptance rate among delta[i]'s: 0.3818
Average acceptance rate among delta[i]'s: 0.450307
Maximum acceptance rate among delta[i]'s: 0.525867
Acceptance rate for phi (joint): 0.407
Minimum acceptance rate among nu[j]'s: 0.392933
Average acceptance rate among nu[j]'s: 0.446416
Maximum acceptance rate among nu[j]'s: 0.5014
Minimum acceptance rate among theta[k]'s: 0.422333
Average acceptance rate among theta[k]'s: 0.422333
Maximum acceptance rate among theta[k]'s: 0.422333
-----------------------------------------------------
-----------------------------------------------------
MCMC sampler has been started: 20000 iterations to go.
-----------------------------------------------------
-----------------------------------------------------
End of Burn-in period.
-----------------------------------------------------
-----------------------------------------------------
-----------------------------------------------------
All 20000 MCMC iterations have been completed.
-----------------------------------------------------
-----------------------------------------------------
-----------------------------------------------------
Please see below a summary of the overall acceptance rates.
-----------------------------------------------------
Minimum acceptance rate among mu[i]'s: 0.3176
Average acceptance rate among mu[i]'s: 0.459391
Maximum acceptance rate among mu[i]'s: 0.6118
Minimum acceptance rate among delta[i]'s: 0.381067
Average acceptance rate among delta[i]'s: 0.448929
Maximum acceptance rate among delta[i]'s: 0.522067
Minimum acceptance rate among nu[jk]'s: 0.376667
Average acceptance rate among nu[jk]'s: 0.4292
Maximum acceptance rate among nu[jk]'s: 0.470267
Minimum acceptance rate among theta[k]'s: 0.433533
Average acceptance rate among theta[k]'s: 0.4432
Maximum acceptance rate among theta[k]'s: 0.452867
-----------------------------------------------------
[ FAIL 0 | WARN 9 | SKIP 0 | PASS 168 ]
>
> proc.time()
user system elapsed
338.276 2.244 342.829
splatter.Rcheck/splatter-Ex.timings
| name | user | system | elapsed | |
| BASiCSEstimate | 0 | 0 | 0 | |
| BASiCSSimulate | 4.556 | 0.048 | 4.611 | |
| addGeneLengths | 1.116 | 0.008 | 1.124 | |
| compareSCEs | 2.456 | 0.056 | 2.515 | |
| diffSCEs | 2.128 | 0.000 | 2.128 | |
| getParam | 0 | 0 | 0 | |
| getParams | 0 | 0 | 0 | |
| kersplatEstimate | 6.764 | 0.080 | 6.854 | |
| kersplatSample | 2.172 | 0.028 | 2.206 | |
| kersplatSetup | 0.280 | 0.000 | 0.284 | |
| kersplatSimulate | 0 | 0 | 0 | |
| listSims | 0.040 | 0.000 | 0.041 | |
| lun2Estimate | 0.004 | 0.000 | 0.000 | |
| lun2Simulate | 1.136 | 0.004 | 1.147 | |
| lunEstimate | 0.376 | 0.000 | 0.376 | |
| lunSimulate | 0.324 | 0.000 | 0.322 | |
| makeCompPanel | 0 | 0 | 0 | |
| makeDiffPanel | 0 | 0 | 0 | |
| makeOverallPanel | 0 | 0 | 0 | |
| mfaEstimate | 0.172 | 0.000 | 0.190 | |
| mfaSimulate | 1.312 | 0.004 | 1.318 | |
| minimiseSCE | 0.728 | 0.004 | 0.735 | |
| mockBulkMatrix | 0 | 0 | 0 | |
| mockBulkeQTL | 6.032 | 0.064 | 7.696 | |
| mockGFF | 0.004 | 0.000 | 0.002 | |
| mockVCF | 0.200 | 0.000 | 0.201 | |
| newParams | 0.004 | 0.000 | 0.002 | |
| phenoEstimate | 0.840 | 0.000 | 0.841 | |
| phenoSimulate | 1.780 | 0.028 | 1.830 | |
| scDDEstimate | 33.156 | 0.840 | 34.068 | |
| scDDSimulate | 0 | 0 | 0 | |
| setParam | 0.020 | 0.000 | 0.017 | |
| setParams | 0.044 | 0.000 | 0.042 | |
| simpleEstimate | 0.584 | 0.004 | 0.589 | |
| simpleSimulate | 0.556 | 0.008 | 0.565 | |
| sparseDCEstimate | 0.972 | 0.008 | 1.021 | |
| sparseDCSimulate | 1.712 | 0.040 | 1.755 | |
| splatEstimate | 5.648 | 0.036 | 5.689 | |
| splatPopEstimate | 6.508 | 0.008 | 6.520 | |
| splatPopQuantNorm | 0.028 | 0.000 | 0.030 | |
| splatPopSimulate | 0 | 0 | 0 | |
| splatPopSimulateMeans | 0 | 0 | 0 | |
| splatPopSimulateSC | 0 | 0 | 0 | |
| splatSimulate | 1.812 | 0.004 | 1.819 | |
| summariseDiff | 2.544 | 0.000 | 2.545 | |
| zinbEstimate | 17.216 | 0.028 | 17.267 | |
| zinbSimulate | 0.112 | 0.000 | 0.115 | |