| Back to Multiple platform build/check report for BioC 3.12 |
|
This page was generated on 2021-05-06 12:36:52 -0400 (Thu, 06 May 2021).
|
To the developers/maintainers of the snapcount package: Please make sure to use the following settings in order to reproduce any error or warning you see on this page. |
| Package 1742/1974 | Hostname | OS / Arch | INSTALL | BUILD | CHECK | BUILD BIN | ||||||||
| snapcount 1.2.0 (landing page) Rone Charles
| malbec1 | Linux (Ubuntu 18.04.5 LTS) / x86_64 | OK | OK | OK | |||||||||
| tokay1 | Windows Server 2012 R2 Standard / x64 | OK | OK | OK | OK | |||||||||
| merida1 | macOS 10.14.6 Mojave / x86_64 | OK | OK | OK | OK | |||||||||
| Package: snapcount |
| Version: 1.2.0 |
| Command: /Library/Frameworks/R.framework/Versions/Current/Resources/bin/R CMD check --install=check:snapcount.install-out.txt --library=/Library/Frameworks/R.framework/Versions/Current/Resources/library --no-vignettes --timings snapcount_1.2.0.tar.gz |
| StartedAt: 2021-05-06 06:24:36 -0400 (Thu, 06 May 2021) |
| EndedAt: 2021-05-06 06:30:43 -0400 (Thu, 06 May 2021) |
| EllapsedTime: 366.2 seconds |
| RetCode: 0 |
| Status: OK |
| CheckDir: snapcount.Rcheck |
| Warnings: 0 |
##############################################################################
##############################################################################
###
### Running command:
###
### /Library/Frameworks/R.framework/Versions/Current/Resources/bin/R CMD check --install=check:snapcount.install-out.txt --library=/Library/Frameworks/R.framework/Versions/Current/Resources/library --no-vignettes --timings snapcount_1.2.0.tar.gz
###
##############################################################################
##############################################################################
* using log directory ‘/Users/biocbuild/bbs-3.12-bioc/meat/snapcount.Rcheck’
* using R version 4.0.5 (2021-03-31)
* using platform: x86_64-apple-darwin17.0 (64-bit)
* using session charset: UTF-8
* using option ‘--no-vignettes’
* checking for file ‘snapcount/DESCRIPTION’ ... OK
* checking extension type ... Package
* this is package ‘snapcount’ version ‘1.2.0’
* package encoding: UTF-8
* checking package namespace information ... OK
* checking package dependencies ... OK
* checking if this is a source package ... OK
* checking if there is a namespace ... OK
* checking for hidden files and directories ... OK
* checking for portable file names ... OK
* checking for sufficient/correct file permissions ... OK
* checking whether package ‘snapcount’ can be installed ... OK
* checking installed package size ... OK
* checking package directory ... OK
* checking ‘build’ directory ... OK
* checking DESCRIPTION meta-information ... OK
* checking top-level files ... OK
* checking for left-over files ... OK
* checking index information ... OK
* checking package subdirectories ... OK
* checking R files for non-ASCII characters ... OK
* checking R files for syntax errors ... OK
* checking whether the package can be loaded ... OK
* checking whether the package can be loaded with stated dependencies ... OK
* checking whether the package can be unloaded cleanly ... OK
* checking whether the namespace can be loaded with stated dependencies ... OK
* checking whether the namespace can be unloaded cleanly ... OK
* checking dependencies in R code ... OK
* checking S3 generic/method consistency ... OK
* checking replacement functions ... OK
* checking foreign function calls ... OK
* checking R code for possible problems ... OK
* checking Rd files ... OK
* checking Rd metadata ... OK
* checking Rd cross-references ... OK
* checking for missing documentation entries ... OK
* checking for code/documentation mismatches ... OK
* checking Rd \usage sections ... OK
* checking Rd contents ... OK
* checking for unstated dependencies in examples ... OK
* checking files in ‘vignettes’ ... OK
* checking examples ... OK
Examples with CPU (user + system) or elapsed time > 5s
user system elapsed
junction_intersection 9.569 0.466 14.762
junction_union 3.104 0.202 5.508
Compilation 2.893 0.118 5.904
* checking for unstated dependencies in ‘tests’ ... OK
* checking tests ...
Running ‘testthat.R’
OK
* checking for unstated dependencies in vignettes ... OK
* checking package vignettes in ‘inst/doc’ ... OK
* checking running R code from vignettes ... SKIPPED
* checking re-building of vignette outputs ... SKIPPED
* checking PDF version of manual ... OK
* DONE
Status: OK
snapcount.Rcheck/00install.out
############################################################################## ############################################################################## ### ### Running command: ### ### /Library/Frameworks/R.framework/Versions/Current/Resources/bin/R CMD INSTALL snapcount ### ############################################################################## ############################################################################## * installing to library ‘/Library/Frameworks/R.framework/Versions/4.0/Resources/library’ * installing *source* package ‘snapcount’ ... ** using staged installation ** R ** inst ** byte-compile and prepare package for lazy loading ** help *** installing help indices ** building package indices ** installing vignettes ** testing if installed package can be loaded from temporary location ** testing if installed package can be loaded from final location ** testing if installed package keeps a record of temporary installation path * DONE (snapcount)
snapcount.Rcheck/tests/testthat.Rout
R version 4.0.5 (2021-03-31) -- "Shake and Throw"
Copyright (C) 2021 The R Foundation for Statistical Computing
Platform: x86_64-apple-darwin17.0 (64-bit)
R is free software and comes with ABSOLUTELY NO WARRANTY.
You are welcome to redistribute it under certain conditions.
Type 'license()' or 'licence()' for distribution details.
R is a collaborative project with many contributors.
Type 'contributors()' for more information and
'citation()' on how to cite R or R packages in publications.
Type 'demo()' for some demos, 'help()' for on-line help, or
'help.start()' for an HTML browser interface to help.
Type 'q()' to quit R.
> library(testthat)
> library(snapcount)
>
> test_check("snapcount")
Read 2 items
[ FAIL 0 | WARN 0 | SKIP 0 | PASS 84 ]
>
> proc.time()
user system elapsed
12.367 1.089 76.932
snapcount.Rcheck/snapcount-Ex.timings
| name | user | system | elapsed | |
| Compilation | 2.893 | 0.118 | 5.904 | |
| Coordinates | 0.035 | 0.001 | 0.036 | |
| QueryBuilder | 0.184 | 0.010 | 0.194 | |
| from_url | 0.009 | 0.001 | 1.302 | |
| get_JunctionSeq_params | 0.000 | 0.000 | 0.001 | |
| get_column_filters | 0.236 | 0.017 | 0.253 | |
| get_compilation | 0.001 | 0.000 | 0.001 | |
| get_coordinate_modifier | 0.001 | 0.000 | 0.001 | |
| get_regions | 0.083 | 0.010 | 0.093 | |
| get_row_filters | 0.004 | 0.001 | 0.005 | |
| get_sids | 0.002 | 0.001 | 0.003 | |
| junction_inclusion_ratio | 0.229 | 0.010 | 2.476 | |
| junction_intersection | 9.569 | 0.466 | 14.762 | |
| junction_union | 3.104 | 0.202 | 5.508 | |
| percent_spliced_in | 0.066 | 0.003 | 3.067 | |
| query_jx | 1.011 | 0.037 | 3.046 | |
| shared_sample_counts | 0.243 | 0.037 | 1.906 | |
| tissue_specificity | 0.041 | 0.001 | 1.603 | |
| uri_of_last_successful_request | 1.253 | 0.037 | 2.743 | |