| Back to Multiple platform build/check report for BioC 3.12 |
|
This page was generated on 2021-05-06 12:33:40 -0400 (Thu, 06 May 2021).
|
To the developers/maintainers of the slinky package: Please make sure to use the following settings in order to reproduce any error or warning you see on this page. |
| Package 1735/1974 | Hostname | OS / Arch | INSTALL | BUILD | CHECK | BUILD BIN | ||||||||
| slinky 1.8.0 (landing page) Eric J. Kort
| malbec1 | Linux (Ubuntu 18.04.5 LTS) / x86_64 | OK | OK | OK | |||||||||
| tokay1 | Windows Server 2012 R2 Standard / x64 | OK | OK | OK | OK | |||||||||
| merida1 | macOS 10.14.6 Mojave / x86_64 | OK | OK | OK | OK | |||||||||
| Package: slinky |
| Version: 1.8.0 |
| Command: C:\cygwin\bin\curl.exe -O http://172.29.0.3/BBS/3.12/bioc/src/contrib/slinky_1.8.0.tar.gz && rm -rf slinky.buildbin-libdir && mkdir slinky.buildbin-libdir && C:\Users\biocbuild\bbs-3.12-bioc\R\bin\R.exe CMD INSTALL --merge-multiarch --build --library=slinky.buildbin-libdir slinky_1.8.0.tar.gz && C:\Users\biocbuild\bbs-3.12-bioc\R\bin\R.exe CMD INSTALL slinky_1.8.0.zip && rm slinky_1.8.0.tar.gz slinky_1.8.0.zip |
| StartedAt: 2021-05-05 19:03:58 -0400 (Wed, 05 May 2021) |
| EndedAt: 2021-05-05 19:04:46 -0400 (Wed, 05 May 2021) |
| EllapsedTime: 47.7 seconds |
| RetCode: 0 |
| Status: OK |
##############################################################################
##############################################################################
###
### Running command:
###
### C:\cygwin\bin\curl.exe -O http://172.29.0.3/BBS/3.12/bioc/src/contrib/slinky_1.8.0.tar.gz && rm -rf slinky.buildbin-libdir && mkdir slinky.buildbin-libdir && C:\Users\biocbuild\bbs-3.12-bioc\R\bin\R.exe CMD INSTALL --merge-multiarch --build --library=slinky.buildbin-libdir slinky_1.8.0.tar.gz && C:\Users\biocbuild\bbs-3.12-bioc\R\bin\R.exe CMD INSTALL slinky_1.8.0.zip && rm slinky_1.8.0.tar.gz slinky_1.8.0.zip
###
##############################################################################
##############################################################################
% Total % Received % Xferd Average Speed Time Time Time Current
Dload Upload Total Spent Left Speed
0 0 0 0 0 0 0 0 --:--:-- --:--:-- --:--:-- 0
100 1171k 100 1171k 0 0 41.0M 0 --:--:-- --:--:-- --:--:-- 42.3M
install for i386
* installing *source* package 'slinky' ...
** using staged installation
** R
** inst
** byte-compile and prepare package for lazy loading
** help
*** installing help indices
converting help for package 'slinky'
finding HTML links ... done
Slinky-class html
chDir html
closeAll html
clue html
clueCount html
clueInstances html
clueVehicle html
coerce html
colnames html
controls html
diffexp html
download html
get_metadata html
ks html
loadL1K html
finding level-2 HTML links ... done
metadata html
nrow html
readGCTX html
rownames html
rzs html
slinky-internal html
subset html
** building package indices
** installing vignettes
** testing if installed package can be loaded from temporary location
** testing if installed package can be loaded from final location
** testing if installed package keeps a record of temporary installation path
install for x64
* installing *source* package 'slinky' ...
** testing if installed package can be loaded
* MD5 sums
packaged installation of 'slinky' as slinky_1.8.0.zip
* DONE (slinky)
* installing to library 'C:/Users/biocbuild/bbs-3.12-bioc/R/library'
package 'slinky' successfully unpacked and MD5 sums checked