| Back to Multiple platform build/check report for BioC 3.12 |
|
This page was generated on 2021-05-06 12:36:23 -0400 (Thu, 06 May 2021).
|
To the developers/maintainers of the rgsepd package: Please make sure to use the following settings in order to reproduce any error or warning you see on this page. |
| Package 1520/1974 | Hostname | OS / Arch | INSTALL | BUILD | CHECK | BUILD BIN | ||||||||
| rgsepd 1.22.0 (landing page) Karl Stamm
| malbec1 | Linux (Ubuntu 18.04.5 LTS) / x86_64 | OK | OK | OK | |||||||||
| tokay1 | Windows Server 2012 R2 Standard / x64 | OK | OK | OK | OK | |||||||||
| merida1 | macOS 10.14.6 Mojave / x86_64 | OK | OK | OK | OK | |||||||||
| Package: rgsepd |
| Version: 1.22.0 |
| Command: /Library/Frameworks/R.framework/Versions/Current/Resources/bin/R CMD check --install=check:rgsepd.install-out.txt --library=/Library/Frameworks/R.framework/Versions/Current/Resources/library --no-vignettes --timings rgsepd_1.22.0.tar.gz |
| StartedAt: 2021-05-06 05:27:21 -0400 (Thu, 06 May 2021) |
| EndedAt: 2021-05-06 05:36:30 -0400 (Thu, 06 May 2021) |
| EllapsedTime: 549.2 seconds |
| RetCode: 0 |
| Status: OK |
| CheckDir: rgsepd.Rcheck |
| Warnings: 0 |
##############################################################################
##############################################################################
###
### Running command:
###
### /Library/Frameworks/R.framework/Versions/Current/Resources/bin/R CMD check --install=check:rgsepd.install-out.txt --library=/Library/Frameworks/R.framework/Versions/Current/Resources/library --no-vignettes --timings rgsepd_1.22.0.tar.gz
###
##############################################################################
##############################################################################
* using log directory ‘/Users/biocbuild/bbs-3.12-bioc/meat/rgsepd.Rcheck’
* using R version 4.0.5 (2021-03-31)
* using platform: x86_64-apple-darwin17.0 (64-bit)
* using session charset: UTF-8
* using option ‘--no-vignettes’
* checking for file ‘rgsepd/DESCRIPTION’ ... OK
* checking extension type ... Package
* this is package ‘rgsepd’ version ‘1.22.0’
* checking package namespace information ... OK
* checking package dependencies ... OK
* checking if this is a source package ... OK
* checking if there is a namespace ... OK
* checking for hidden files and directories ... OK
* checking for portable file names ... OK
* checking for sufficient/correct file permissions ... OK
* checking whether package ‘rgsepd’ can be installed ... OK
* checking installed package size ... OK
* checking package directory ... OK
* checking ‘build’ directory ... OK
* checking DESCRIPTION meta-information ... OK
* checking top-level files ... OK
* checking for left-over files ... OK
* checking index information ... OK
* checking package subdirectories ... OK
* checking R files for non-ASCII characters ... OK
* checking R files for syntax errors ... OK
* checking whether the package can be loaded ... OK
* checking whether the package can be loaded with stated dependencies ... OK
* checking whether the package can be unloaded cleanly ... OK
* checking whether the namespace can be loaded with stated dependencies ... OK
* checking whether the namespace can be unloaded cleanly ... OK
* checking dependencies in R code ... OK
* checking S3 generic/method consistency ... OK
* checking replacement functions ... OK
* checking foreign function calls ... OK
* checking R code for possible problems ... OK
* checking Rd files ... OK
* checking Rd metadata ... OK
* checking Rd cross-references ... OK
* checking for missing documentation entries ... OK
* checking for code/documentation mismatches ... OK
* checking Rd \usage sections ... OK
* checking Rd contents ... OK
* checking for unstated dependencies in examples ... OK
* checking contents of ‘data’ directory ... OK
* checking data for non-ASCII characters ... OK
* checking data for ASCII and uncompressed saves ... OK
* checking sizes of PDF files under ‘inst/doc’ ... OK
* checking files in ‘vignettes’ ... OK
* checking examples ... OK
Examples with CPU (user + system) or elapsed time > 5s
user system elapsed
ExtractProjection 95.605 3.944 106.311
GSEPD_DEGHeatmap 5.720 0.058 5.801
* checking for unstated dependencies in vignettes ... OK
* checking package vignettes in ‘inst/doc’ ... OK
* checking running R code from vignettes ... SKIPPED
* checking re-building of vignette outputs ... SKIPPED
* checking PDF version of manual ... OK
* DONE
Status: OK
rgsepd.Rcheck/00install.out
############################################################################## ############################################################################## ### ### Running command: ### ### /Library/Frameworks/R.framework/Versions/Current/Resources/bin/R CMD INSTALL rgsepd ### ############################################################################## ############################################################################## * installing to library ‘/Library/Frameworks/R.framework/Versions/4.0/Resources/library’ * installing *source* package ‘rgsepd’ ... ** using staged installation ** R ** data ** inst ** byte-compile and prepare package for lazy loading ** help *** installing help indices ** building package indices ** installing vignettes ** testing if installed package can be loaded from temporary location 'select()' returned 1:1 mapping between keys and columns 'select()' returned 1:1 mapping between keys and columns ** testing if installed package can be loaded from final location 'select()' returned 1:1 mapping between keys and columns 'select()' returned 1:1 mapping between keys and columns ** testing if installed package keeps a record of temporary installation path * DONE (rgsepd)
rgsepd.Rcheck/rgsepd-Ex.timings
| name | user | system | elapsed | |
| DisplayName | 0.004 | 0.001 | 0.004 | |
| ExtractProjection | 95.605 | 3.944 | 106.311 | |
| GSEPD_ChangeConditions | 0.386 | 0.018 | 0.466 | |
| GSEPD_ChangeOutput | 0.469 | 0.007 | 0.476 | |
| GSEPD_DEGHeatmap | 5.720 | 0.058 | 5.801 | |
| GSEPD_Export_DESeq | 0.922 | 0.018 | 0.943 | |
| GSEPD_Heatmap | 3.898 | 0.027 | 3.936 | |
| GSEPD_INIT | 0.473 | 0.007 | 0.480 | |
| GSEPD_PCA_Plot | 4.013 | 0.026 | 4.044 | |
| GSEPD_PCA_Spec | 3.765 | 0.025 | 3.799 | |
| GSEPD_Process | 0.448 | 0.006 | 0.454 | |
| GSEPD_ProcessAll | 0.473 | 0.008 | 0.481 | |
| GSEPD_PullDEG | 3.743 | 0.031 | 3.781 | |
| IlluminaBodymap | 0.336 | 0.006 | 0.342 | |
| IlluminaBodymapMeta | 0.009 | 0.002 | 0.011 | |
| Name_to_RefSeq | 0.000 | 0.000 | 0.001 | |
| rgsepd-package | 0.406 | 0.005 | 0.412 | |