| Back to Multiple platform build/check report for BioC 3.12 |
|
This page was generated on 2021-05-06 12:28:47 -0400 (Thu, 06 May 2021).
|
To the developers/maintainers of the regionReport package: Please make sure to use the following settings in order to reproduce any error or warning you see on this page. |
| Package 1498/1974 | Hostname | OS / Arch | INSTALL | BUILD | CHECK | BUILD BIN | ||||||||
| regionReport 1.24.2 (landing page) Leonardo Collado-Torres
| malbec1 | Linux (Ubuntu 18.04.5 LTS) / x86_64 | OK | OK | OK | |||||||||
| tokay1 | Windows Server 2012 R2 Standard / x64 | OK | OK | OK | OK | |||||||||
| merida1 | macOS 10.14.6 Mojave / x86_64 | OK | OK | OK | OK | |||||||||
| Package: regionReport |
| Version: 1.24.2 |
| Command: /home/biocbuild/bbs-3.12-bioc/R/bin/R CMD check --install=check:regionReport.install-out.txt --library=/home/biocbuild/bbs-3.12-bioc/R/library --no-vignettes --timings regionReport_1.24.2.tar.gz |
| StartedAt: 2021-05-06 05:07:00 -0400 (Thu, 06 May 2021) |
| EndedAt: 2021-05-06 05:18:26 -0400 (Thu, 06 May 2021) |
| EllapsedTime: 686.3 seconds |
| RetCode: 0 |
| Status: OK |
| CheckDir: regionReport.Rcheck |
| Warnings: 0 |
##############################################################################
##############################################################################
###
### Running command:
###
### /home/biocbuild/bbs-3.12-bioc/R/bin/R CMD check --install=check:regionReport.install-out.txt --library=/home/biocbuild/bbs-3.12-bioc/R/library --no-vignettes --timings regionReport_1.24.2.tar.gz
###
##############################################################################
##############################################################################
* using log directory ‘/home/biocbuild/bbs-3.12-bioc/meat/regionReport.Rcheck’
* using R version 4.0.5 (2021-03-31)
* using platform: x86_64-pc-linux-gnu (64-bit)
* using session charset: UTF-8
* using option ‘--no-vignettes’
* checking for file ‘regionReport/DESCRIPTION’ ... OK
* checking extension type ... Package
* this is package ‘regionReport’ version ‘1.24.2’
* package encoding: UTF-8
* checking package namespace information ... OK
* checking package dependencies ... OK
* checking if this is a source package ... OK
* checking if there is a namespace ... OK
* checking for hidden files and directories ... OK
* checking for portable file names ... OK
* checking for sufficient/correct file permissions ... OK
* checking whether package ‘regionReport’ can be installed ... OK
* checking installed package size ... OK
* checking package directory ... OK
* checking ‘build’ directory ... OK
* checking DESCRIPTION meta-information ... OK
* checking top-level files ... OK
* checking for left-over files ... OK
* checking index information ... OK
* checking package subdirectories ... OK
* checking R files for non-ASCII characters ... OK
* checking R files for syntax errors ... OK
* checking whether the package can be loaded ... OK
* checking whether the package can be loaded with stated dependencies ... OK
* checking whether the package can be unloaded cleanly ... OK
* checking whether the namespace can be loaded with stated dependencies ... OK
* checking whether the namespace can be unloaded cleanly ... OK
* checking dependencies in R code ... NOTE
Unexported object imported by a ':::' call: ‘DESeq2:::pvalueAdjustment’
See the note in ?`:::` about the use of this operator.
* checking S3 generic/method consistency ... OK
* checking replacement functions ... OK
* checking foreign function calls ... OK
* checking R code for possible problems ... OK
* checking Rd files ... OK
* checking Rd metadata ... OK
* checking Rd cross-references ... OK
* checking for missing documentation entries ... OK
* checking for code/documentation mismatches ... OK
* checking Rd \usage sections ... OK
* checking Rd contents ... OK
* checking for unstated dependencies in examples ... OK
* checking files in ‘vignettes’ ... OK
* checking examples ... OK
Examples with CPU (user + system) or elapsed time > 5s
user system elapsed
renderReport 198.992 1.456 200.870
derfinderReport 68.376 1.452 70.524
DESeq2Report 28.408 0.728 29.549
edgeReport 23.548 0.252 23.893
* checking for unstated dependencies in vignettes ... OK
* checking package vignettes in ‘inst/doc’ ... OK
* checking running R code from vignettes ... SKIPPED
* checking re-building of vignette outputs ... SKIPPED
* checking PDF version of manual ... OK
* DONE
Status: 1 NOTE
See
‘/home/biocbuild/bbs-3.12-bioc/meat/regionReport.Rcheck/00check.log’
for details.
regionReport.Rcheck/00install.out
############################################################################## ############################################################################## ### ### Running command: ### ### /home/biocbuild/bbs-3.12-bioc/R/bin/R CMD INSTALL regionReport ### ############################################################################## ############################################################################## * installing to library ‘/home/biocbuild/bbs-3.12-bioc/R/library’ * installing *source* package ‘regionReport’ ... ** using staged installation ** R ** inst ** byte-compile and prepare package for lazy loading ** help *** installing help indices ** building package indices ** installing vignettes ** testing if installed package can be loaded from temporary location ** testing if installed package can be loaded from final location ** testing if installed package keeps a record of temporary installation path * DONE (regionReport)
regionReport.Rcheck/regionReport-Ex.timings
| name | user | system | elapsed | |
| DESeq2Report | 28.408 | 0.728 | 29.549 | |
| derfinderReport | 68.376 | 1.452 | 70.524 | |
| edgeReport | 23.548 | 0.252 | 23.893 | |
| renderReport | 198.992 | 1.456 | 200.870 | |