| Back to Multiple platform build/check report for BioC 3.12 |
|
This page was generated on 2021-05-06 12:36:16 -0400 (Thu, 06 May 2021).
|
To the developers/maintainers of the qsea package: Please make sure to use the following settings in order to reproduce any error or warning you see on this page. |
| Package 1429/1974 | Hostname | OS / Arch | INSTALL | BUILD | CHECK | BUILD BIN | ||||||||
| qsea 1.16.0 (landing page) Matthias Lienhard
| malbec1 | Linux (Ubuntu 18.04.5 LTS) / x86_64 | OK | OK | OK | |||||||||
| tokay1 | Windows Server 2012 R2 Standard / x64 | OK | OK | OK | OK | |||||||||
| merida1 | macOS 10.14.6 Mojave / x86_64 | OK | OK | OK | OK | |||||||||
| Package: qsea |
| Version: 1.16.0 |
| Command: /Library/Frameworks/R.framework/Versions/Current/Resources/bin/R CMD check --install=check:qsea.install-out.txt --library=/Library/Frameworks/R.framework/Versions/Current/Resources/library --no-vignettes --timings qsea_1.16.0.tar.gz |
| StartedAt: 2021-05-06 05:05:02 -0400 (Thu, 06 May 2021) |
| EndedAt: 2021-05-06 05:10:11 -0400 (Thu, 06 May 2021) |
| EllapsedTime: 308.9 seconds |
| RetCode: 0 |
| Status: OK |
| CheckDir: qsea.Rcheck |
| Warnings: 0 |
##############################################################################
##############################################################################
###
### Running command:
###
### /Library/Frameworks/R.framework/Versions/Current/Resources/bin/R CMD check --install=check:qsea.install-out.txt --library=/Library/Frameworks/R.framework/Versions/Current/Resources/library --no-vignettes --timings qsea_1.16.0.tar.gz
###
##############################################################################
##############################################################################
* using log directory ‘/Users/biocbuild/bbs-3.12-bioc/meat/qsea.Rcheck’
* using R version 4.0.5 (2021-03-31)
* using platform: x86_64-apple-darwin17.0 (64-bit)
* using session charset: UTF-8
* using option ‘--no-vignettes’
* checking for file ‘qsea/DESCRIPTION’ ... OK
* checking extension type ... Package
* this is package ‘qsea’ version ‘1.16.0’
* checking package namespace information ... OK
* checking package dependencies ... OK
* checking if this is a source package ... OK
* checking if there is a namespace ... OK
* checking for hidden files and directories ... OK
* checking for portable file names ... OK
* checking for sufficient/correct file permissions ... OK
* checking whether package ‘qsea’ can be installed ... OK
* checking installed package size ... OK
* checking package directory ... OK
* checking ‘build’ directory ... OK
* checking DESCRIPTION meta-information ... OK
* checking top-level files ... OK
* checking for left-over files ... OK
* checking index information ... OK
* checking package subdirectories ... OK
* checking R files for non-ASCII characters ... OK
* checking R files for syntax errors ... OK
* checking whether the package can be loaded ... OK
* checking whether the package can be loaded with stated dependencies ... OK
* checking whether the package can be unloaded cleanly ... OK
* checking whether the namespace can be loaded with stated dependencies ... OK
* checking whether the namespace can be unloaded cleanly ... OK
* checking dependencies in R code ... NOTE
Namespaces in Imports field not imported from:
‘KernSmooth’ ‘MASS’
All declared Imports should be used.
* checking S3 generic/method consistency ... OK
* checking replacement functions ... OK
* checking foreign function calls ... OK
* checking R code for possible problems ... OK
* checking Rd files ... OK
* checking Rd metadata ... OK
* checking Rd cross-references ... OK
* checking for missing documentation entries ... OK
* checking for code/documentation mismatches ... OK
* checking Rd \usage sections ... OK
* checking Rd contents ... OK
* checking for unstated dependencies in examples ... OK
* checking R/sysdata.rda ... OK
* checking line endings in C/C++/Fortran sources/headers ... OK
* checking compiled code ... NOTE
Note: information on .o files is not available
* checking files in ‘vignettes’ ... OK
* checking examples ... OK
Examples with CPU (user + system) or elapsed time > 5s
user system elapsed
addNewSamples 20.557 0.864 21.464
addCNV 6.674 0.298 7.056
addPatternDensity 5.777 0.348 6.131
* checking for unstated dependencies in ‘tests’ ... OK
* checking tests ...
Running ‘testthat.R’
OK
* checking for unstated dependencies in vignettes ... OK
* checking package vignettes in ‘inst/doc’ ... OK
* checking running R code from vignettes ... SKIPPED
* checking re-building of vignette outputs ... SKIPPED
* checking PDF version of manual ... OK
* DONE
Status: 2 NOTEs
See
‘/Users/biocbuild/bbs-3.12-bioc/meat/qsea.Rcheck/00check.log’
for details.
qsea.Rcheck/00install.out
############################################################################## ############################################################################## ### ### Running command: ### ### /Library/Frameworks/R.framework/Versions/Current/Resources/bin/R CMD INSTALL qsea ### ############################################################################## ############################################################################## * installing to library ‘/Library/Frameworks/R.framework/Versions/4.0/Resources/library’ * installing *source* package ‘qsea’ ... ** using staged installation ** libs clang -mmacosx-version-min=10.13 -I"/Library/Frameworks/R.framework/Resources/include" -DNDEBUG -I/usr/local/include -fPIC -Wall -g -O2 -c lm.c -o lm.o clang -mmacosx-version-min=10.13 -dynamiclib -Wl,-headerpad_max_install_names -undefined dynamic_lookup -single_module -multiply_defined suppress -L/Library/Frameworks/R.framework/Resources/lib -L/usr/local/lib -o qsea.so lm.o -F/Library/Frameworks/R.framework/.. -framework R -Wl,-framework -Wl,CoreFoundation installing to /Library/Frameworks/R.framework/Versions/4.0/Resources/library/00LOCK-qsea/00new/qsea/libs ** R ** inst ** preparing package for lazy loading No methods found in package ‘IRanges’ for request: ‘values’ when loading ‘qsea’ ** help *** installing help indices ** building package indices ** installing vignettes ** testing if installed package can be loaded from temporary location No methods found in package ‘IRanges’ for request: ‘values’ when loading ‘qsea’ ** checking absolute paths in shared objects and dynamic libraries ** testing if installed package can be loaded from final location No methods found in package ‘IRanges’ for request: ‘values’ when loading ‘qsea’ ** testing if installed package keeps a record of temporary installation path * DONE (qsea)
qsea.Rcheck/tests/testthat.Rout
R version 4.0.5 (2021-03-31) -- "Shake and Throw"
Copyright (C) 2021 The R Foundation for Statistical Computing
Platform: x86_64-apple-darwin17.0 (64-bit)
R is free software and comes with ABSOLUTELY NO WARRANTY.
You are welcome to redistribute it under certain conditions.
Type 'license()' or 'licence()' for distribution details.
R is a collaborative project with many contributors.
Type 'contributors()' for more information and
'citation()' on how to cite R or R packages in publications.
Type 'demo()' for some demos, 'help()' for on-line help, or
'help.start()' for an HTML browser interface to help.
Type 'q()' to quit R.
> library(testthat)
> library(qsea)
No methods found in package 'IRanges' for request: 'values' when loading 'qsea'
>
> test_check("qsea")
[ FAIL 0 | WARN 0 | SKIP 0 | PASS 3 ]
>
> proc.time()
user system elapsed
14.793 0.579 15.367
qsea.Rcheck/qsea-Ex.timings
| name | user | system | elapsed | |
| addCNV | 6.674 | 0.298 | 7.056 | |
| addContrast | 2.381 | 0.056 | 2.441 | |
| addCoverage | 2.610 | 0.093 | 2.707 | |
| addEnrichmentParameters | 0.454 | 0.004 | 0.457 | |
| addLibraryFactors | 0.984 | 0.080 | 1.066 | |
| addNewSamples | 20.557 | 0.864 | 21.464 | |
| addOffset | 0.472 | 0.011 | 0.485 | |
| addPatternDensity | 5.777 | 0.348 | 6.131 | |
| createQseaSet | 0.270 | 0.014 | 0.284 | |
| example | 0.354 | 0.004 | 0.359 | |
| fitNBglm | 1.462 | 0.054 | 1.518 | |
| getPCA | 0.829 | 0.018 | 0.847 | |
| isSignificant | 1.772 | 0.035 | 1.810 | |
| makeTable | 2.015 | 0.017 | 2.035 | |
| normMethod | 0.001 | 0.000 | 0.001 | |
| plotCNV | 0.317 | 0.003 | 0.322 | |
| plotCoverage | 1.081 | 0.023 | 1.106 | |
| plotEnrichmentProfile | 0.471 | 0.013 | 0.484 | |
| plotPCA | 0.778 | 0.033 | 0.812 | |
| qseaGLM-class | 0.000 | 0.000 | 0.001 | |
| qseaPCA-class | 0.001 | 0.000 | 0.000 | |
| qseaSet-class | 0.001 | 0.001 | 0.001 | |
| regionStats | 0.929 | 0.086 | 1.017 | |