| Back to Multiple platform build/check report for BioC 3.12 |
|
This page was generated on 2021-05-06 12:36:05 -0400 (Thu, 06 May 2021).
|
To the developers/maintainers of the peakPantheR package: Please make sure to use the following settings in order to reproduce any error or warning you see on this page. |
| Package 1322/1974 | Hostname | OS / Arch | INSTALL | BUILD | CHECK | BUILD BIN | ||||||||
| peakPantheR 1.4.0 (landing page) Arnaud Wolfer
| malbec1 | Linux (Ubuntu 18.04.5 LTS) / x86_64 | OK | OK | OK | |||||||||
| tokay1 | Windows Server 2012 R2 Standard / x64 | OK | OK | OK | OK | |||||||||
| merida1 | macOS 10.14.6 Mojave / x86_64 | OK | OK | OK | OK | |||||||||
| Package: peakPantheR |
| Version: 1.4.0 |
| Command: /Library/Frameworks/R.framework/Versions/Current/Resources/bin/R CMD check --install=check:peakPantheR.install-out.txt --library=/Library/Frameworks/R.framework/Versions/Current/Resources/library --no-vignettes --timings peakPantheR_1.4.0.tar.gz |
| StartedAt: 2021-05-06 04:36:17 -0400 (Thu, 06 May 2021) |
| EndedAt: 2021-05-06 04:52:41 -0400 (Thu, 06 May 2021) |
| EllapsedTime: 983.4 seconds |
| RetCode: 0 |
| Status: OK |
| CheckDir: peakPantheR.Rcheck |
| Warnings: 0 |
##############################################################################
##############################################################################
###
### Running command:
###
### /Library/Frameworks/R.framework/Versions/Current/Resources/bin/R CMD check --install=check:peakPantheR.install-out.txt --library=/Library/Frameworks/R.framework/Versions/Current/Resources/library --no-vignettes --timings peakPantheR_1.4.0.tar.gz
###
##############################################################################
##############################################################################
* using log directory ‘/Users/biocbuild/bbs-3.12-bioc/meat/peakPantheR.Rcheck’
* using R version 4.0.5 (2021-03-31)
* using platform: x86_64-apple-darwin17.0 (64-bit)
* using session charset: UTF-8
* using option ‘--no-vignettes’
* checking for file ‘peakPantheR/DESCRIPTION’ ... OK
* this is package ‘peakPantheR’ version ‘1.4.0’
* package encoding: UTF-8
* checking package namespace information ... OK
* checking package dependencies ... OK
* checking if this is a source package ... OK
* checking if there is a namespace ... OK
* checking for hidden files and directories ... OK
* checking for portable file names ... OK
* checking for sufficient/correct file permissions ... OK
* checking whether package ‘peakPantheR’ can be installed ... OK
* checking installed package size ... OK
* checking package directory ... OK
* checking ‘build’ directory ... OK
* checking DESCRIPTION meta-information ... OK
* checking top-level files ... OK
* checking for left-over files ... OK
* checking index information ... OK
* checking package subdirectories ... OK
* checking R files for non-ASCII characters ... OK
* checking R files for syntax errors ... OK
* checking whether the package can be loaded ... OK
* checking whether the package can be loaded with stated dependencies ... OK
* checking whether the package can be unloaded cleanly ... OK
* checking whether the namespace can be loaded with stated dependencies ... OK
* checking whether the namespace can be unloaded cleanly ... OK
* checking dependencies in R code ... OK
* checking S3 generic/method consistency ... OK
* checking replacement functions ... OK
* checking foreign function calls ... OK
* checking R code for possible problems ... OK
* checking Rd files ... OK
* checking Rd metadata ... OK
* checking Rd cross-references ... OK
* checking for missing documentation entries ... OK
* checking for code/documentation mismatches ... OK
* checking Rd \usage sections ... OK
* checking Rd contents ... OK
* checking for unstated dependencies in examples ... OK
* checking files in ‘vignettes’ ... OK
* checking examples ... OK
Examples with CPU (user + system) or elapsed time > 5s
user system elapsed
peakPantheR_ROIStatistics 15.821 0.206 16.098
peakPantheR_parallelAnnotation 12.293 0.092 12.399
outputAnnotationDiagnostic-peakPantheRAnnotation-method 11.838 0.123 11.979
EICs-peakPantheRAnnotation-method 11.020 0.417 11.565
outputAnnotationResult-peakPantheRAnnotation-method 11.231 0.074 11.318
retentionTimeCorrection-peakPantheRAnnotation-method 7.773 0.051 7.833
* checking for unstated dependencies in ‘tests’ ... OK
* checking tests ...
Running ‘testthat.R’
OK
* checking for unstated dependencies in vignettes ... OK
* checking package vignettes in ‘inst/doc’ ... OK
* checking running R code from vignettes ... SKIPPED
* checking re-building of vignette outputs ... SKIPPED
* checking PDF version of manual ... OK
* DONE
Status: OK
peakPantheR.Rcheck/00install.out
############################################################################## ############################################################################## ### ### Running command: ### ### /Library/Frameworks/R.framework/Versions/Current/Resources/bin/R CMD INSTALL peakPantheR ### ############################################################################## ############################################################################## * installing to library ‘/Library/Frameworks/R.framework/Versions/4.0/Resources/library’ * installing *source* package ‘peakPantheR’ ... ** using staged installation ** R ** inst ** byte-compile and prepare package for lazy loading ** help *** installing help indices *** copying figures ** building package indices ** installing vignettes ** testing if installed package can be loaded from temporary location ** testing if installed package can be loaded from final location ** testing if installed package keeps a record of temporary installation path * DONE (peakPantheR)
peakPantheR.Rcheck/tests/testthat.Rout
R version 4.0.5 (2021-03-31) -- "Shake and Throw"
Copyright (C) 2021 The R Foundation for Statistical Computing
Platform: x86_64-apple-darwin17.0 (64-bit)
R is free software and comes with ABSOLUTELY NO WARRANTY.
You are welcome to redistribute it under certain conditions.
Type 'license()' or 'licence()' for distribution details.
R is a collaborative project with many contributors.
Type 'contributors()' for more information and
'citation()' on how to cite R or R packages in publications.
Type 'demo()' for some demos, 'help()' for on-line help, or
'help.start()' for an HTML browser interface to help.
Type 'q()' to quit R.
> library(testthat)
> library(peakPantheR)
This is peakPantheR version 1.4.0
>
> test_check("peakPantheR")
[ FAIL 0 | WARN 0 | SKIP 0 | PASS 1432 ]
>
> proc.time()
user system elapsed
622.520 4.166 813.552
peakPantheR.Rcheck/peakPantheR-Ex.timings
| name | user | system | elapsed | |
| EICs-peakPantheRAnnotation-method | 11.020 | 0.417 | 11.565 | |
| FIR-peakPantheRAnnotation-method | 0.233 | 0.021 | 0.254 | |
| ROI-peakPantheRAnnotation-method | 0.201 | 0.016 | 0.217 | |
| TIC-peakPantheRAnnotation-method | 0.321 | 0.019 | 0.341 | |
| acquisitionTime-peakPantheRAnnotation-method | 0.208 | 0.012 | 0.220 | |
| annotationDiagnosticPlots-peakPantheRAnnotation-method | 0.213 | 0.012 | 0.226 | |
| annotationParamsDiagnostic-peakPantheRAnnotation-method | 0.228 | 0.014 | 0.242 | |
| annotationTable-peakPantheRAnnotation-method | 0.224 | 0.013 | 0.238 | |
| annotation_diagnostic_multiplot_UI_helper | 0.646 | 0.004 | 0.650 | |
| annotation_fit_summary_UI_helper | 0.01 | 0.00 | 0.01 | |
| annotation_showMethod_UI_helper | 0.004 | 0.000 | 0.005 | |
| annotation_showText_UI_helper | 0.001 | 0.000 | 0.001 | |
| cpdID-peakPantheRAnnotation-method | 0.233 | 0.011 | 0.244 | |
| cpdMetadata-peakPantheRAnnotation-method | 0.279 | 0.012 | 0.291 | |
| cpdName-peakPantheRAnnotation-method | 0.247 | 0.012 | 0.259 | |
| dataPoints-peakPantheRAnnotation-method | 0.254 | 0.012 | 0.266 | |
| filename-peakPantheRAnnotation-method | 0.244 | 0.012 | 0.256 | |
| filepath-peakPantheRAnnotation-method | 0.242 | 0.013 | 0.256 | |
| initialise_annotation_from_files_UI_helper | 0.022 | 0.002 | 0.023 | |
| isAnnotated-peakPantheRAnnotation-method | 0.245 | 0.013 | 0.257 | |
| load_annotation_from_file_UI_helper | 0.013 | 0.002 | 0.015 | |
| nbCompounds-peakPantheRAnnotation-method | 0.248 | 0.019 | 0.268 | |
| nbSamples-peakPantheRAnnotation-method | 0.245 | 0.020 | 0.264 | |
| outputAnnotationDiagnostic-peakPantheRAnnotation-method | 11.838 | 0.123 | 11.979 | |
| outputAnnotationFeatureMetadata_UI_helper | 0.008 | 0.001 | 0.009 | |
| outputAnnotationParamsCSV-peakPantheRAnnotation-method | 0.041 | 0.002 | 0.042 | |
| outputAnnotationResult-peakPantheRAnnotation-method | 11.231 | 0.074 | 11.318 | |
| outputAnnotationSpectraMetadata_UI_helper | 0.008 | 0.000 | 0.009 | |
| peakFit-peakPantheRAnnotation-method | 0.201 | 0.009 | 0.211 | |
| peakPantheRAnnotation | 0.223 | 0.011 | 0.234 | |
| peakPantheR_ROIStatistics | 15.821 | 0.206 | 16.098 | |
| peakPantheR_loadAnnotationParamsCSV | 0.011 | 0.002 | 0.012 | |
| peakPantheR_parallelAnnotation | 12.293 | 0.092 | 12.399 | |
| peakPantheR_plotEICFit | 0.488 | 0.004 | 0.531 | |
| peakPantheR_plotPeakwidth | 0.611 | 0.010 | 0.623 | |
| peakPantheR_singleFileSearch | 4.017 | 0.048 | 4.070 | |
| peakPantheR_start_GUI | 0.000 | 0.000 | 0.001 | |
| peakTables-peakPantheRAnnotation-method | 0.243 | 0.011 | 0.254 | |
| resetAnnotation-peakPantheRAnnotation-method | 0.270 | 0.013 | 0.282 | |
| resetFIR-peakPantheRAnnotation-method | 0.010 | 0.001 | 0.011 | |
| retentionTimeCorrection-peakPantheRAnnotation-method | 7.773 | 0.051 | 7.833 | |
| spectraMetadata-peakPantheRAnnotation-method | 0.235 | 0.012 | 0.247 | |
| spectraPaths_and_metadata_UI_helper | 0.003 | 0.001 | 0.004 | |
| spectra_metadata_colourScheme_UI_helper | 0.007 | 0.001 | 0.008 | |
| uROI-peakPantheRAnnotation-method | 0.223 | 0.011 | 0.235 | |
| uROIExist-peakPantheRAnnotation-method | 0.182 | 0.009 | 0.191 | |
| useFIR-peakPantheRAnnotation-method | 0.196 | 0.009 | 0.205 | |
| useUROI-peakPantheRAnnotation-method | 0.266 | 0.012 | 0.278 | |