| Back to Multiple platform build/check report for BioC 3.12 | 
  | 
This page was generated on 2021-05-06 12:32:40 -0400 (Thu, 06 May 2021).
| 
To the developers/maintainers of the paircompviz package: Please make sure to use the following settings in order to reproduce any error or warning you see on this page.  | 
| Package 1293/1974 | Hostname | OS / Arch | INSTALL | BUILD | CHECK | BUILD BIN | ||||||||
| paircompviz 1.28.0  (landing page) Michal Burda 
  | malbec1 | Linux (Ubuntu 18.04.5 LTS) / x86_64 | OK | OK | OK | |||||||||
| tokay1 | Windows Server 2012 R2 Standard / x64 | OK | OK | OK | OK | |||||||||
| merida1 | macOS 10.14.6 Mojave / x86_64 | OK | OK | OK | OK | |||||||||
| Package: paircompviz | 
| Version: 1.28.0 | 
| Command: chmod a+r paircompviz -R && C:\Users\biocbuild\bbs-3.12-bioc\R\bin\R.exe CMD build --keep-empty-dirs --no-resave-data paircompviz | 
| StartedAt: 2021-05-05 22:30:41 -0400 (Wed, 05 May 2021) | 
| EndedAt: 2021-05-05 22:31:11 -0400 (Wed, 05 May 2021) | 
| EllapsedTime: 29.5 seconds | 
| RetCode: 0 | 
| Status: OK | 
| PackageFile: paircompviz_1.28.0.tar.gz | 
| PackageFileSize: 364.8 KiB | 
############################################################################## ############################################################################## ### ### Running command: ### ### chmod a+r paircompviz -R && C:\Users\biocbuild\bbs-3.12-bioc\R\bin\R.exe CMD build --keep-empty-dirs --no-resave-data paircompviz ### ############################################################################## ############################################################################## * checking for file 'paircompviz/DESCRIPTION' ... OK * preparing 'paircompviz': * checking DESCRIPTION meta-information ... OK * installing the package to build vignettes * creating vignettes ... OK * checking for LF line-endings in source and make files and shell scripts * checking for empty or unneeded directories * looking to see if a 'data/datalist' file should be added * building 'paircompviz_1.28.0.tar.gz'