| Back to Multiple platform build/check report for BioC 3.12 |
|
This page was generated on 2021-05-06 12:28:28 -0400 (Thu, 06 May 2021).
|
To the developers/maintainers of the oppti package: Please make sure to use the following settings in order to reproduce any error or warning you see on this page. |
| Package 1274/1974 | Hostname | OS / Arch | INSTALL | BUILD | CHECK | BUILD BIN | ||||||||
| oppti 1.4.0 (landing page) Abdulkadir Elmas
| malbec1 | Linux (Ubuntu 18.04.5 LTS) / x86_64 | OK | OK | OK | |||||||||
| tokay1 | Windows Server 2012 R2 Standard / x64 | OK | OK | OK | OK | |||||||||
| merida1 | macOS 10.14.6 Mojave / x86_64 | OK | OK | OK | OK | |||||||||
| Package: oppti |
| Version: 1.4.0 |
| Command: /home/biocbuild/bbs-3.12-bioc/R/bin/R CMD check --install=check:oppti.install-out.txt --library=/home/biocbuild/bbs-3.12-bioc/R/library --no-vignettes --timings oppti_1.4.0.tar.gz |
| StartedAt: 2021-05-06 04:13:11 -0400 (Thu, 06 May 2021) |
| EndedAt: 2021-05-06 04:14:08 -0400 (Thu, 06 May 2021) |
| EllapsedTime: 57.3 seconds |
| RetCode: 0 |
| Status: OK |
| CheckDir: oppti.Rcheck |
| Warnings: 0 |
##############################################################################
##############################################################################
###
### Running command:
###
### /home/biocbuild/bbs-3.12-bioc/R/bin/R CMD check --install=check:oppti.install-out.txt --library=/home/biocbuild/bbs-3.12-bioc/R/library --no-vignettes --timings oppti_1.4.0.tar.gz
###
##############################################################################
##############################################################################
* using log directory ‘/home/biocbuild/bbs-3.12-bioc/meat/oppti.Rcheck’
* using R version 4.0.5 (2021-03-31)
* using platform: x86_64-pc-linux-gnu (64-bit)
* using session charset: UTF-8
* using option ‘--no-vignettes’
* checking for file ‘oppti/DESCRIPTION’ ... OK
* checking extension type ... Package
* this is package ‘oppti’ version ‘1.4.0’
* package encoding: UTF-8
* checking package namespace information ... OK
* checking package dependencies ... OK
* checking if this is a source package ... OK
* checking if there is a namespace ... OK
* checking for hidden files and directories ... OK
* checking for portable file names ... OK
* checking for sufficient/correct file permissions ... OK
* checking whether package ‘oppti’ can be installed ... OK
* checking installed package size ... OK
* checking package directory ... OK
* checking ‘build’ directory ... OK
* checking DESCRIPTION meta-information ... NOTE
License components which are templates and need '+ file LICENSE':
MIT
* checking top-level files ... OK
* checking for left-over files ... OK
* checking index information ... OK
* checking package subdirectories ... OK
* checking R files for non-ASCII characters ... OK
* checking R files for syntax errors ... OK
* checking whether the package can be loaded ... OK
* checking whether the package can be loaded with stated dependencies ... OK
* checking whether the package can be unloaded cleanly ... OK
* checking whether the namespace can be loaded with stated dependencies ... OK
* checking whether the namespace can be unloaded cleanly ... OK
* checking dependencies in R code ... OK
* checking S3 generic/method consistency ... OK
* checking replacement functions ... OK
* checking foreign function calls ... OK
* checking R code for possible problems ... NOTE
gqplot: no visible binding for global variable ‘variable2’
gqplot: no visible binding for global variable ‘variable1’
gqplot: no visible binding for global variable ‘cupper’
gqplot: no visible binding for global variable ‘clower’
markOut: no visible binding for global variable ‘data’
Undefined global functions or variables:
clower cupper data variable1 variable2
Consider adding
importFrom("utils", "data")
to your NAMESPACE file.
* checking Rd files ... OK
* checking Rd metadata ... OK
* checking Rd cross-references ... OK
* checking for missing documentation entries ... OK
* checking for code/documentation mismatches ... OK
* checking Rd \usage sections ... OK
* checking Rd contents ... OK
* checking for unstated dependencies in examples ... OK
* checking files in ‘vignettes’ ... OK
* checking examples ... OK
* checking for unstated dependencies in vignettes ... OK
* checking package vignettes in ‘inst/doc’ ... OK
* checking running R code from vignettes ... SKIPPED
* checking re-building of vignette outputs ... SKIPPED
* checking PDF version of manual ... OK
* DONE
Status: 2 NOTEs
See
‘/home/biocbuild/bbs-3.12-bioc/meat/oppti.Rcheck/00check.log’
for details.
oppti.Rcheck/00install.out
############################################################################## ############################################################################## ### ### Running command: ### ### /home/biocbuild/bbs-3.12-bioc/R/bin/R CMD INSTALL oppti ### ############################################################################## ############################################################################## * installing to library ‘/home/biocbuild/bbs-3.12-bioc/R/library’ * installing *source* package ‘oppti’ ... ** using staged installation ** R ** byte-compile and prepare package for lazy loading ** help *** installing help indices ** building package indices ** installing vignettes ** testing if installed package can be loaded from temporary location ** testing if installed package can be loaded from final location ** testing if installed package keeps a record of temporary installation path * DONE (oppti)
oppti.Rcheck/oppti-Ex.timings
| name | user | system | elapsed | |
| artImpute | 0.028 | 0.000 | 0.026 | |
| clusterData | 0.040 | 0.004 | 0.045 | |
| dropMarkers | 0.004 | 0.000 | 0.005 | |
| dysReg | 0.180 | 0.000 | 0.182 | |
| markOut | 4.244 | 0.024 | 4.269 | |
| oppti | 0.272 | 0.000 | 0.271 | |
| outScores | 0.020 | 0.000 | 0.019 | |
| plotDen | 0.052 | 0.000 | 0.051 | |
| rankPerOut | 0.268 | 0.000 | 0.271 | |
| statTest | 0.028 | 0.000 | 0.032 | |