| Back to Multiple platform build/check report for BioC 3.12 |
|
This page was generated on 2021-05-06 12:32:38 -0400 (Thu, 06 May 2021).
|
To the developers/maintainers of the onlineFDR package: Please make sure to use the following settings in order to reproduce any error or warning you see on this page. |
| Package 1266/1974 | Hostname | OS / Arch | INSTALL | BUILD | CHECK | BUILD BIN | ||||||||
| onlineFDR 1.8.0 (landing page) David S. Robertson
| malbec1 | Linux (Ubuntu 18.04.5 LTS) / x86_64 | OK | OK | OK | |||||||||
| tokay1 | Windows Server 2012 R2 Standard / x64 | OK | OK | OK | OK | |||||||||
| merida1 | macOS 10.14.6 Mojave / x86_64 | OK | OK | OK | OK | |||||||||
| Package: onlineFDR |
| Version: 1.8.0 |
| Command: rm -rf onlineFDR.buildbin-libdir && mkdir onlineFDR.buildbin-libdir && C:\Users\biocbuild\bbs-3.12-bioc\R\bin\R.exe CMD INSTALL --merge-multiarch --build --library=onlineFDR.buildbin-libdir onlineFDR_1.8.0.tar.gz |
| StartedAt: 2021-05-06 09:41:14 -0400 (Thu, 06 May 2021) |
| EndedAt: 2021-05-06 09:41:54 -0400 (Thu, 06 May 2021) |
| EllapsedTime: 39.5 seconds |
| RetCode: 0 |
| Status: OK |
| PackageFile: onlineFDR_1.8.0.zip |
| PackageFileSize: 428.9 KiB |
##############################################################################
##############################################################################
###
### Running command:
###
### rm -rf onlineFDR.buildbin-libdir && mkdir onlineFDR.buildbin-libdir && C:\Users\biocbuild\bbs-3.12-bioc\R\bin\R.exe CMD INSTALL --merge-multiarch --build --library=onlineFDR.buildbin-libdir onlineFDR_1.8.0.tar.gz
###
##############################################################################
##############################################################################
install for i386
* installing *source* package 'onlineFDR' ...
** using staged installation
** R
** inst
** byte-compile and prepare package for lazy loading
** help
*** installing help indices
converting help for package 'onlineFDR'
finding HTML links ... done
ADDIS html
ADDIS_spending html
Alpha_investing html
Alpha_spending html
LOND html
LONDstar html
LORD html
LORDdep html
LORDstar html
SAFFRON html
SAFFRONstar html
bonfInfinite html
onlineFDR-deprecated html
onlineFDR-package html
online_fallback html
** building package indices
** installing vignettes
** testing if installed package can be loaded from temporary location
** testing if installed package can be loaded from final location
** testing if installed package keeps a record of temporary installation path
install for x64
* installing *source* package 'onlineFDR' ...
** testing if installed package can be loaded
* MD5 sums
packaged installation of 'onlineFDR' as onlineFDR_1.8.0.zip
* DONE (onlineFDR)