| Back to Multiple platform build/check report for BioC 3.12 |
|
This page was generated on 2021-05-06 12:35:47 -0400 (Thu, 06 May 2021).
|
To the developers/maintainers of the motifcounter package: Please make sure to use the following settings in order to reproduce any error or warning you see on this page. |
| Package 1143/1974 | Hostname | OS / Arch | INSTALL | BUILD | CHECK | BUILD BIN | ||||||||
| motifcounter 1.14.0 (landing page) Wolfgang Kopp
| malbec1 | Linux (Ubuntu 18.04.5 LTS) / x86_64 | OK | OK | OK | |||||||||
| tokay1 | Windows Server 2012 R2 Standard / x64 | OK | OK | OK | OK | |||||||||
| merida1 | macOS 10.14.6 Mojave / x86_64 | OK | OK | OK | OK | |||||||||
| Package: motifcounter |
| Version: 1.14.0 |
| Command: /Library/Frameworks/R.framework/Versions/Current/Resources/bin/R CMD check --install=check:motifcounter.install-out.txt --library=/Library/Frameworks/R.framework/Versions/Current/Resources/library --no-vignettes --timings motifcounter_1.14.0.tar.gz |
| StartedAt: 2021-05-06 03:53:49 -0400 (Thu, 06 May 2021) |
| EndedAt: 2021-05-06 03:57:56 -0400 (Thu, 06 May 2021) |
| EllapsedTime: 246.8 seconds |
| RetCode: 0 |
| Status: OK |
| CheckDir: motifcounter.Rcheck |
| Warnings: 0 |
##############################################################################
##############################################################################
###
### Running command:
###
### /Library/Frameworks/R.framework/Versions/Current/Resources/bin/R CMD check --install=check:motifcounter.install-out.txt --library=/Library/Frameworks/R.framework/Versions/Current/Resources/library --no-vignettes --timings motifcounter_1.14.0.tar.gz
###
##############################################################################
##############################################################################
* using log directory ‘/Users/biocbuild/bbs-3.12-bioc/meat/motifcounter.Rcheck’
* using R version 4.0.5 (2021-03-31)
* using platform: x86_64-apple-darwin17.0 (64-bit)
* using session charset: UTF-8
* using option ‘--no-vignettes’
* checking for file ‘motifcounter/DESCRIPTION’ ... OK
* checking extension type ... Package
* this is package ‘motifcounter’ version ‘1.14.0’
* checking package namespace information ... OK
* checking package dependencies ... OK
* checking if this is a source package ... OK
* checking if there is a namespace ... OK
* checking for hidden files and directories ... NOTE
Found the following hidden files and directories:
.zenodo.json
These were most likely included in error. See section ‘Package
structure’ in the ‘Writing R Extensions’ manual.
* checking for portable file names ... OK
* checking for sufficient/correct file permissions ... OK
* checking whether package ‘motifcounter’ can be installed ... OK
* checking installed package size ... OK
* checking package directory ... OK
* checking ‘build’ directory ... OK
* checking DESCRIPTION meta-information ... OK
* checking top-level files ... OK
* checking for left-over files ... OK
* checking index information ... OK
* checking package subdirectories ... OK
* checking R files for non-ASCII characters ... OK
* checking R files for syntax errors ... OK
* checking whether the package can be loaded ... OK
* checking whether the package can be loaded with stated dependencies ... OK
* checking whether the package can be unloaded cleanly ... OK
* checking whether the namespace can be loaded with stated dependencies ... OK
* checking whether the namespace can be unloaded cleanly ... OK
* checking dependencies in R code ... OK
* checking S3 generic/method consistency ... OK
* checking replacement functions ... OK
* checking foreign function calls ... OK
* checking R code for possible problems ... OK
* checking Rd files ... OK
* checking Rd metadata ... OK
* checking Rd cross-references ... OK
* checking for missing documentation entries ... OK
* checking for code/documentation mismatches ... OK
* checking Rd \usage sections ... OK
* checking Rd contents ... OK
* checking for unstated dependencies in examples ... OK
* checking line endings in C/C++/Fortran sources/headers ... OK
* checking line endings in Makefiles ... OK
* checking compilation flags in Makevars ... OK
* checking for GNU extensions in Makefiles ... OK
* checking for portable use of $(BLAS_LIBS) and $(LAPACK_LIBS) ... OK
* checking use of PKG_*FLAGS in Makefiles ... OK
* checking compiled code ... NOTE
Note: information on .o files is not available
* checking files in ‘vignettes’ ... OK
* checking examples ... OK
Examples with CPU (user + system) or elapsed time > 5s
user system elapsed
simulateClumpSizeDist 14.887 0.316 15.226
* checking for unstated dependencies in ‘tests’ ... OK
* checking tests ...
Running ‘testthat.R’
OK
* checking for unstated dependencies in vignettes ... OK
* checking package vignettes in ‘inst/doc’ ... OK
* checking running R code from vignettes ... SKIPPED
* checking re-building of vignette outputs ... SKIPPED
* checking PDF version of manual ... OK
* DONE
Status: 2 NOTEs
See
‘/Users/biocbuild/bbs-3.12-bioc/meat/motifcounter.Rcheck/00check.log’
for details.
motifcounter.Rcheck/00install.out
##############################################################################
##############################################################################
###
### Running command:
###
### /Library/Frameworks/R.framework/Versions/Current/Resources/bin/R CMD INSTALL motifcounter
###
##############################################################################
##############################################################################
* installing to library ‘/Library/Frameworks/R.framework/Versions/4.0/Resources/library’
* installing *source* package ‘motifcounter’ ...
** using staged installation
** libs
clang -mmacosx-version-min=10.13 -I"/Library/Frameworks/R.framework/Resources/include" -DNDEBUG -I/usr/local/include -DIN_R -fPIC -Wall -g -O2 -c Rbackground.c -o Rbackground.o
clang -mmacosx-version-min=10.13 -I"/Library/Frameworks/R.framework/Resources/include" -DNDEBUG -I/usr/local/include -DIN_R -fPIC -Wall -g -O2 -c Rcombinatorial.c -o Rcombinatorial.o
clang -mmacosx-version-min=10.13 -I"/Library/Frameworks/R.framework/Resources/include" -DNDEBUG -I/usr/local/include -DIN_R -fPIC -Wall -g -O2 -c Rcompoundpoisson.c -o Rcompoundpoisson.o
clang -mmacosx-version-min=10.13 -I"/Library/Frameworks/R.framework/Resources/include" -DNDEBUG -I/usr/local/include -DIN_R -fPIC -Wall -g -O2 -c Rminmaxscore.c -o Rminmaxscore.o
clang -mmacosx-version-min=10.13 -I"/Library/Frameworks/R.framework/Resources/include" -DNDEBUG -I/usr/local/include -DIN_R -fPIC -Wall -g -O2 -c Roption.c -o Roption.o
clang -mmacosx-version-min=10.13 -I"/Library/Frameworks/R.framework/Resources/include" -DNDEBUG -I/usr/local/include -DIN_R -fPIC -Wall -g -O2 -c Roverlap.c -o Roverlap.o
clang -mmacosx-version-min=10.13 -I"/Library/Frameworks/R.framework/Resources/include" -DNDEBUG -I/usr/local/include -DIN_R -fPIC -Wall -g -O2 -c Rscore1d.c -o Rscore1d.o
clang -mmacosx-version-min=10.13 -I"/Library/Frameworks/R.framework/Resources/include" -DNDEBUG -I/usr/local/include -DIN_R -fPIC -Wall -g -O2 -c Rsequence.c -o Rsequence.o
Rsequence.c:143:21: warning: unused variable 'noscores' [-Wunused-variable]
int mins, maxs, noscores;
^
1 warning generated.
clang -mmacosx-version-min=10.13 -I"/Library/Frameworks/R.framework/Resources/include" -DNDEBUG -I/usr/local/include -DIN_R -fPIC -Wall -g -O2 -c Rsimulate.c -o Rsimulate.o
clang -mmacosx-version-min=10.13 -I"/Library/Frameworks/R.framework/Resources/include" -DNDEBUG -I/usr/local/include -DIN_R -fPIC -Wall -g -O2 -c background.c -o background.o
clang -mmacosx-version-min=10.13 -I"/Library/Frameworks/R.framework/Resources/include" -DNDEBUG -I/usr/local/include -DIN_R -fPIC -Wall -g -O2 -c combinatorial.c -o combinatorial.o
clang -mmacosx-version-min=10.13 -I"/Library/Frameworks/R.framework/Resources/include" -DNDEBUG -I/usr/local/include -DIN_R -fPIC -Wall -g -O2 -c compoundpoisson.c -o compoundpoisson.o
clang -mmacosx-version-min=10.13 -I"/Library/Frameworks/R.framework/Resources/include" -DNDEBUG -I/usr/local/include -DIN_R -fPIC -Wall -g -O2 -c markovchain.c -o markovchain.o
clang -mmacosx-version-min=10.13 -I"/Library/Frameworks/R.framework/Resources/include" -DNDEBUG -I/usr/local/include -DIN_R -fPIC -Wall -g -O2 -c markovchain_single.c -o markovchain_single.o
clang -mmacosx-version-min=10.13 -I"/Library/Frameworks/R.framework/Resources/include" -DNDEBUG -I/usr/local/include -DIN_R -fPIC -Wall -g -O2 -c matrix.c -o matrix.o
clang -mmacosx-version-min=10.13 -I"/Library/Frameworks/R.framework/Resources/include" -DNDEBUG -I/usr/local/include -DIN_R -fPIC -Wall -g -O2 -c mdist_register.c -o mdist_register.o
clang -mmacosx-version-min=10.13 -I"/Library/Frameworks/R.framework/Resources/include" -DNDEBUG -I/usr/local/include -DIN_R -fPIC -Wall -g -O2 -c minmaxscore.c -o minmaxscore.o
clang -mmacosx-version-min=10.13 -I"/Library/Frameworks/R.framework/Resources/include" -DNDEBUG -I/usr/local/include -DIN_R -fPIC -Wall -g -O2 -c overlap.c -o overlap.o
clang -mmacosx-version-min=10.13 -I"/Library/Frameworks/R.framework/Resources/include" -DNDEBUG -I/usr/local/include -DIN_R -fPIC -Wall -g -O2 -c score1d.c -o score1d.o
clang -mmacosx-version-min=10.13 -I"/Library/Frameworks/R.framework/Resources/include" -DNDEBUG -I/usr/local/include -DIN_R -fPIC -Wall -g -O2 -c score2d.c -o score2d.o
clang -mmacosx-version-min=10.13 -I"/Library/Frameworks/R.framework/Resources/include" -DNDEBUG -I/usr/local/include -DIN_R -fPIC -Wall -g -O2 -c scorefunctions.c -o scorefunctions.o
scorefunctions.c:84:22: warning: unused variable 'cindex' [-Wunused-variable]
int j, i, index, cindex, ds;
^
scorefunctions.c:119:17: warning: unused variable 'cindex' [-Wunused-variable]
int s, index, cindex;
^
scorefunctions.c:159:19: warning: unused variable 'cindex' [-Wunused-variable]
int s, index, cindex;
^
3 warnings generated.
clang -mmacosx-version-min=10.13 -I"/Library/Frameworks/R.framework/Resources/include" -DNDEBUG -I/usr/local/include -DIN_R -fPIC -Wall -g -O2 -c sequence.c -o sequence.o
clang -mmacosx-version-min=10.13 -I"/Library/Frameworks/R.framework/Resources/include" -DNDEBUG -I/usr/local/include -DIN_R -fPIC -Wall -g -O2 -c simulate.c -o simulate.o
clang -mmacosx-version-min=10.13 -dynamiclib -Wl,-headerpad_max_install_names -undefined dynamic_lookup -single_module -multiply_defined suppress -L/Library/Frameworks/R.framework/Resources/lib -L/usr/local/lib -o motifcounter.so Rbackground.o Rcombinatorial.o Rcompoundpoisson.o Rminmaxscore.o Roption.o Roverlap.o Rscore1d.o Rsequence.o Rsimulate.o background.o combinatorial.o compoundpoisson.o markovchain.o markovchain_single.o matrix.o mdist_register.o minmaxscore.o overlap.o score1d.o score2d.o scorefunctions.o sequence.o simulate.o -F/Library/Frameworks/R.framework/.. -framework R -Wl,-framework -Wl,CoreFoundation
installing to /Library/Frameworks/R.framework/Versions/4.0/Resources/library/00LOCK-motifcounter/00new/motifcounter/libs
** R
** inst
** byte-compile and prepare package for lazy loading
** help
*** installing help indices
** building package indices
** installing vignettes
** testing if installed package can be loaded from temporary location
** checking absolute paths in shared objects and dynamic libraries
** testing if installed package can be loaded from final location
** testing if installed package keeps a record of temporary installation path
* DONE (motifcounter)
motifcounter.Rcheck/tests/testthat.Rout
R version 4.0.5 (2021-03-31) -- "Shake and Throw"
Copyright (C) 2021 The R Foundation for Statistical Computing
Platform: x86_64-apple-darwin17.0 (64-bit)
R is free software and comes with ABSOLUTELY NO WARRANTY.
You are welcome to redistribute it under certain conditions.
Type 'license()' or 'licence()' for distribution details.
R is a collaborative project with many contributors.
Type 'contributors()' for more information and
'citation()' on how to cite R or R packages in publications.
Type 'demo()' for some demos, 'help()' for on-line help, or
'help.start()' for an HTML browser interface to help.
Type 'q()' to quit R.
> library(testthat)
> library(motifcounter)
>
> test_check("motifcounter")
[ FAIL 0 | WARN 1 | SKIP 0 | PASS 841 ]
>
> proc.time()
user system elapsed
129.401 1.408 130.962
motifcounter.Rcheck/motifcounter-Ex.timings
| name | user | system | elapsed | |
| clumpSizeDist | 0.368 | 0.007 | 0.416 | |
| combinatorialDist | 0.288 | 0.008 | 0.297 | |
| compoundPoissonDist | 0.216 | 0.015 | 0.230 | |
| computeClumpStartProb | 0.172 | 0.020 | 0.191 | |
| generateDNAString | 0.112 | 0.001 | 0.112 | |
| generateDNAStringSet | 0.168 | 0.002 | 0.171 | |
| hitStrand | 0.107 | 0.002 | 0.110 | |
| lenSequences | 0.096 | 0.012 | 0.108 | |
| markovModel | 0.150 | 0.016 | 0.166 | |
| motifAndBackgroundValid | 0.105 | 0.005 | 0.111 | |
| motifEnrichment | 3.313 | 0.018 | 3.335 | |
| motifHitProfile | 0.108 | 0.004 | 0.112 | |
| motifHits | 0.120 | 0.004 | 0.125 | |
| motifValid | 0.002 | 0.000 | 0.003 | |
| motifcounter-package | 0.852 | 0.014 | 0.866 | |
| motifcounterOptions | 0.000 | 0.001 | 0.001 | |
| normalizeMotif | 0.002 | 0.000 | 0.002 | |
| numMotifHits | 0.645 | 0.008 | 0.653 | |
| probOverlapHit | 0.188 | 0.004 | 0.192 | |
| readBackground | 0.112 | 0.001 | 0.113 | |
| revcompMotif | 0.002 | 0.000 | 0.002 | |
| scoreDist | 0.109 | 0.002 | 0.111 | |
| scoreDistBf | 0.136 | 0.002 | 0.138 | |
| scoreDistEmpirical | 3.031 | 0.032 | 3.067 | |
| scoreHistogram | 0.290 | 0.010 | 0.302 | |
| scoreHistogramSingleSeq | 0.085 | 0.006 | 0.091 | |
| scoreProfile | 0.509 | 0.004 | 0.513 | |
| scoreSequence | 0.106 | 0.004 | 0.110 | |
| scoreStrand | 0.116 | 0.002 | 0.118 | |
| scoreThreshold | 0.102 | 0.002 | 0.104 | |
| sigLevel | 0 | 0 | 0 | |
| simulateClumpSizeDist | 14.887 | 0.316 | 15.226 | |
| simulateNumHitsDist | 2.572 | 0.038 | 2.614 | |