| Back to Multiple platform build/check report for BioC 3.12 |
|
This page was generated on 2021-05-06 12:32:18 -0400 (Thu, 06 May 2021).
|
To the developers/maintainers of the missRows package: Please make sure to use the following settings in order to reproduce any error or warning you see on this page. |
| Package 1120/1974 | Hostname | OS / Arch | INSTALL | BUILD | CHECK | BUILD BIN | ||||||||
| missRows 1.10.0 (landing page) Gonzalez Ignacio
| malbec1 | Linux (Ubuntu 18.04.5 LTS) / x86_64 | OK | OK | OK | |||||||||
| tokay1 | Windows Server 2012 R2 Standard / x64 | OK | OK | OK | OK | |||||||||
| merida1 | macOS 10.14.6 Mojave / x86_64 | OK | OK | OK | OK | |||||||||
| Package: missRows |
| Version: 1.10.0 |
| Command: C:\cygwin\bin\curl.exe -O http://172.29.0.3/BBS/3.12/bioc/src/contrib/missRows_1.10.0.tar.gz && rm -rf missRows.buildbin-libdir && mkdir missRows.buildbin-libdir && C:\Users\biocbuild\bbs-3.12-bioc\R\bin\R.exe CMD INSTALL --merge-multiarch --build --library=missRows.buildbin-libdir missRows_1.10.0.tar.gz && C:\Users\biocbuild\bbs-3.12-bioc\R\bin\R.exe CMD INSTALL missRows_1.10.0.zip && rm missRows_1.10.0.tar.gz missRows_1.10.0.zip |
| StartedAt: 2021-05-05 18:34:07 -0400 (Wed, 05 May 2021) |
| EndedAt: 2021-05-05 18:35:12 -0400 (Wed, 05 May 2021) |
| EllapsedTime: 65.3 seconds |
| RetCode: 0 |
| Status: OK |
##############################################################################
##############################################################################
###
### Running command:
###
### C:\cygwin\bin\curl.exe -O http://172.29.0.3/BBS/3.12/bioc/src/contrib/missRows_1.10.0.tar.gz && rm -rf missRows.buildbin-libdir && mkdir missRows.buildbin-libdir && C:\Users\biocbuild\bbs-3.12-bioc\R\bin\R.exe CMD INSTALL --merge-multiarch --build --library=missRows.buildbin-libdir missRows_1.10.0.tar.gz && C:\Users\biocbuild\bbs-3.12-bioc\R\bin\R.exe CMD INSTALL missRows_1.10.0.zip && rm missRows_1.10.0.tar.gz missRows_1.10.0.zip
###
##############################################################################
##############################################################################
% Total % Received % Xferd Average Speed Time Time Time Current
Dload Upload Total Spent Left Speed
0 0 0 0 0 0 0 0 --:--:-- --:--:-- --:--:-- 0
25 204k 25 52317 0 0 1113k 0 --:--:-- --:--:-- --:--:-- 1110k
100 204k 100 204k 0 0 4328k 0 --:--:-- --:--:-- --:--:-- 4348k
install for i386
* installing *source* package 'missRows' ...
** using staged installation
** R
** data
** inst
** byte-compile and prepare package for lazy loading
** help
*** installing help indices
converting help for package 'missRows'
finding HTML links ... done
MFA html
MIDTList html
finding level-2 HTML links ... done
MIMFA html
NCI60 html
RVcoeff html
STATIS html
eigenvalue html
estimNC html
imputeDataMFA html
imputedData html
missPattern html
missRows-package html
plotInd html
plotVar html
searchsComb html
tuneM html
wrapperSVD html
** building package indices
** installing vignettes
** testing if installed package can be loaded from temporary location
** testing if installed package can be loaded from final location
** testing if installed package keeps a record of temporary installation path
install for x64
* installing *source* package 'missRows' ...
** testing if installed package can be loaded
* MD5 sums
packaged installation of 'missRows' as missRows_1.10.0.zip
* DONE (missRows)
* installing to library 'C:/Users/biocbuild/bbs-3.12-bioc/R/library'
package 'missRows' successfully unpacked and MD5 sums checked