| Back to Multiple platform build/check report for BioC 3.12 |
|
This page was generated on 2021-05-06 12:32:17 -0400 (Thu, 06 May 2021).
|
To the developers/maintainers of the miRNApath package: Please make sure to use the following settings in order to reproduce any error or warning you see on this page. |
| Package 1114/1974 | Hostname | OS / Arch | INSTALL | BUILD | CHECK | BUILD BIN | ||||||||
| miRNApath 1.50.0 (landing page) James M. Ward
| malbec1 | Linux (Ubuntu 18.04.5 LTS) / x86_64 | OK | OK | OK | |||||||||
| tokay1 | Windows Server 2012 R2 Standard / x64 | OK | OK | OK | OK | |||||||||
| merida1 | macOS 10.14.6 Mojave / x86_64 | OK | OK | OK | OK | |||||||||
| Package: miRNApath |
| Version: 1.50.0 |
| Command: C:\Users\biocbuild\bbs-3.12-bioc\R\bin\R.exe CMD check --force-multiarch --install=check:miRNApath.install-out.txt --library=C:\Users\biocbuild\bbs-3.12-bioc\R\library --no-vignettes --timings miRNApath_1.50.0.tar.gz |
| StartedAt: 2021-05-06 04:42:58 -0400 (Thu, 06 May 2021) |
| EndedAt: 2021-05-06 04:44:56 -0400 (Thu, 06 May 2021) |
| EllapsedTime: 118.4 seconds |
| RetCode: 0 |
| Status: OK |
| CheckDir: miRNApath.Rcheck |
| Warnings: 0 |
##############################################################################
##############################################################################
###
### Running command:
###
### C:\Users\biocbuild\bbs-3.12-bioc\R\bin\R.exe CMD check --force-multiarch --install=check:miRNApath.install-out.txt --library=C:\Users\biocbuild\bbs-3.12-bioc\R\library --no-vignettes --timings miRNApath_1.50.0.tar.gz
###
##############################################################################
##############################################################################
* using log directory 'C:/Users/biocbuild/bbs-3.12-bioc/meat/miRNApath.Rcheck'
* using R version 4.0.5 (2021-03-31)
* using platform: x86_64-w64-mingw32 (64-bit)
* using session charset: ISO8859-1
* using option '--no-vignettes'
* checking for file 'miRNApath/DESCRIPTION' ... OK
* checking extension type ... Package
* this is package 'miRNApath' version '1.50.0'
* checking package namespace information ... OK
* checking package dependencies ... OK
* checking if this is a source package ... OK
* checking if there is a namespace ... OK
* checking for hidden files and directories ... OK
* checking for portable file names ... OK
* checking whether package 'miRNApath' can be installed ... OK
* checking installed package size ... OK
* checking package directory ... OK
* checking 'build' directory ... OK
* checking DESCRIPTION meta-information ... OK
* checking top-level files ... OK
* checking for left-over files ... OK
* checking index information ... OK
* checking package subdirectories ... OK
* checking R files for non-ASCII characters ... OK
* checking R files for syntax errors ... OK
* loading checks for arch 'i386'
** checking whether the package can be loaded ... OK
** checking whether the package can be loaded with stated dependencies ... OK
** checking whether the package can be unloaded cleanly ... OK
** checking whether the namespace can be loaded with stated dependencies ... NOTE
Warning: no function found corresponding to methods exports from 'miRNApath' for: 'show'
A namespace must be able to be loaded with just the base namespace
loaded: otherwise if the namespace gets loaded by a saved object, the
session will be unable to start.
Probably some imports need to be declared in the NAMESPACE file.
** checking whether the namespace can be unloaded cleanly ... OK
* loading checks for arch 'x64'
** checking whether the package can be loaded ... OK
** checking whether the package can be loaded with stated dependencies ... OK
** checking whether the package can be unloaded cleanly ... OK
** checking whether the namespace can be loaded with stated dependencies ... NOTE
Warning: no function found corresponding to methods exports from 'miRNApath' for: 'show'
A namespace must be able to be loaded with just the base namespace
loaded: otherwise if the namespace gets loaded by a saved object, the
session will be unable to start.
Probably some imports need to be declared in the NAMESPACE file.
** checking whether the namespace can be unloaded cleanly ... OK
* checking dependencies in R code ... NOTE
Package in Depends field not imported from: 'methods'
These packages need to be imported from (in the NAMESPACE file)
for when this namespace is loaded but not attached.
* checking S3 generic/method consistency ... OK
* checking replacement functions ... OK
* checking foreign function calls ... OK
* checking R code for possible problems ... NOTE
loadmirnapath: no visible global function definition for 'read.table'
loadmirnapath: no visible global function definition for 'new'
loadmirnapathways: no visible global function definition for
'read.table'
loadmirnatogene: no visible global function definition for 'read.table'
mirnaTable: no visible global function definition for 'reshape'
runEnrichment : <anonymous> : <anonymous>: no visible global function
definition for 'phyper'
runEnrichment: no visible global function definition for 'slotNames'
Undefined global functions or variables:
new phyper read.table reshape slotNames
Consider adding
importFrom("methods", "new", "slotNames")
importFrom("stats", "phyper", "reshape")
importFrom("utils", "read.table")
to your NAMESPACE file (and ensure that your DESCRIPTION Imports field
contains 'methods').
* checking Rd files ... OK
* checking Rd metadata ... OK
* checking Rd cross-references ... OK
* checking for missing documentation entries ... OK
* checking for code/documentation mismatches ... OK
* checking Rd \usage sections ... OK
* checking Rd contents ... OK
* checking for unstated dependencies in examples ... OK
* checking contents of 'data' directory ... OK
* checking data for non-ASCII characters ... OK
* checking data for ASCII and uncompressed saves ... OK
* checking files in 'vignettes' ... OK
* checking examples ...
** running examples for arch 'i386' ... OK
Examples with CPU (user + system) or elapsed time > 5s
user system elapsed
mirnaTable 44.84 0.03 44.87
** running examples for arch 'x64' ... OK
Examples with CPU (user + system) or elapsed time > 5s
user system elapsed
mirnaTable 39.78 0.02 39.81
* checking for unstated dependencies in vignettes ... OK
* checking package vignettes in 'inst/doc' ... OK
* checking running R code from vignettes ... SKIPPED
* checking re-building of vignette outputs ... SKIPPED
* checking PDF version of manual ... OK
* DONE
Status: 4 NOTEs
See
'C:/Users/biocbuild/bbs-3.12-bioc/meat/miRNApath.Rcheck/00check.log'
for details.
miRNApath.Rcheck/00install.out
##############################################################################
##############################################################################
###
### Running command:
###
### C:\cygwin\bin\curl.exe -O http://172.29.0.3/BBS/3.12/bioc/src/contrib/miRNApath_1.50.0.tar.gz && rm -rf miRNApath.buildbin-libdir && mkdir miRNApath.buildbin-libdir && C:\Users\biocbuild\bbs-3.12-bioc\R\bin\R.exe CMD INSTALL --merge-multiarch --build --library=miRNApath.buildbin-libdir miRNApath_1.50.0.tar.gz && C:\Users\biocbuild\bbs-3.12-bioc\R\bin\R.exe CMD INSTALL miRNApath_1.50.0.zip && rm miRNApath_1.50.0.tar.gz miRNApath_1.50.0.zip
###
##############################################################################
##############################################################################
% Total % Received % Xferd Average Speed Time Time Time Current
Dload Upload Total Spent Left Speed
0 0 0 0 0 0 0 0 --:--:-- --:--:-- --:--:-- 0
100 439k 100 439k 0 0 3482k 0 --:--:-- --:--:-- --:--:-- 3516k
install for i386
* installing *source* package 'miRNApath' ...
** using staged installation
** R
** data
** inst
** byte-compile and prepare package for lazy loading
** help
*** installing help indices
converting help for package 'miRNApath'
finding HTML links ... done
checkColumns html
convertFoldChange html
filtermirnapath html
loadmirnapath html
loadmirnapathways html
loadmirnatogene html
miRNApath-package html
mirnaTable html
mirnaobj html
mirnapath-class html
runEnrichment html
** building package indices
** installing vignettes
** testing if installed package can be loaded from temporary location
** testing if installed package can be loaded from final location
** testing if installed package keeps a record of temporary installation path
install for x64
* installing *source* package 'miRNApath' ...
** testing if installed package can be loaded
* MD5 sums
packaged installation of 'miRNApath' as miRNApath_1.50.0.zip
* DONE (miRNApath)
* installing to library 'C:/Users/biocbuild/bbs-3.12-bioc/R/library'
package 'miRNApath' successfully unpacked and MD5 sums checked
|
miRNApath.Rcheck/examples_i386/miRNApath-Ex.timings
|
miRNApath.Rcheck/examples_x64/miRNApath-Ex.timings
|