| Back to Multiple platform build/check report for BioC 3.12 |
|
This page was generated on 2021-05-06 12:28:14 -0400 (Thu, 06 May 2021).
|
To the developers/maintainers of the mgsa package: Please make sure to use the following settings in order to reproduce any error or warning you see on this page. |
| Package 1091/1974 | Hostname | OS / Arch | INSTALL | BUILD | CHECK | BUILD BIN | ||||||||
| mgsa 1.38.0 (landing page) Sebastian Bauer
| malbec1 | Linux (Ubuntu 18.04.5 LTS) / x86_64 | OK | OK | OK | |||||||||
| tokay1 | Windows Server 2012 R2 Standard / x64 | OK | OK | OK | OK | |||||||||
| merida1 | macOS 10.14.6 Mojave / x86_64 | OK | OK | OK | OK | |||||||||
| Package: mgsa |
| Version: 1.38.0 |
| Command: /home/biocbuild/bbs-3.12-bioc/R/bin/R CMD INSTALL mgsa |
| StartedAt: 2021-05-05 16:04:37 -0400 (Wed, 05 May 2021) |
| EndedAt: 2021-05-05 16:04:41 -0400 (Wed, 05 May 2021) |
| EllapsedTime: 4.2 seconds |
| RetCode: 0 |
| Status: OK |
##############################################################################
##############################################################################
###
### Running command:
###
### /home/biocbuild/bbs-3.12-bioc/R/bin/R CMD INSTALL mgsa
###
##############################################################################
##############################################################################
* installing to library ‘/home/biocbuild/bbs-3.12-bioc/R/library’
* installing *source* package ‘mgsa’ ...
** using staged installation
configure: creating ./config.status
config.status: creating src/Makevars
** libs
gcc -I"/home/biocbuild/bbs-3.12-bioc/R/include" -DNDEBUG -I/usr/local/include -I. -fopenmp -fpic -g -O2 -Wall -c mgsa-core.c -o mgsa-core.o
mgsa-core.c:796:13: warning: ‘print_context’ defined but not used [-Wunused-function]
static void print_context(struct context *cn)
^~~~~~~~~~~~~
gcc -I"/home/biocbuild/bbs-3.12-bioc/R/include" -DNDEBUG -I/usr/local/include -I. -fopenmp -fpic -g -O2 -Wall -c mgsa.c -o mgsa.o
gcc -I"/home/biocbuild/bbs-3.12-bioc/R/include" -DNDEBUG -I/usr/local/include -I. -fopenmp -fpic -g -O2 -Wall -c mt.c -o mt.o
gcc -shared -L/home/biocbuild/bbs-3.12-bioc/R/lib -L/usr/local/lib -o mgsa.so mgsa-core.o mgsa.o mt.o -fopenmp -L/home/biocbuild/bbs-3.12-bioc/R/lib -lR
installing to /home/biocbuild/bbs-3.12-bioc/R/library/00LOCK-mgsa/00new/mgsa/libs
** R
** data
** inst
** byte-compile and prepare package for lazy loading
** help
*** installing help indices
** building package indices
** installing vignettes
** testing if installed package can be loaded from temporary location
** checking absolute paths in shared objects and dynamic libraries
** testing if installed package can be loaded from final location
** testing if installed package keeps a record of temporary installation path
* DONE (mgsa)