| Back to Multiple platform build/check report for BioC 3.12 |
|
This page was generated on 2021-05-06 12:35:27 -0400 (Thu, 06 May 2021).
|
To the developers/maintainers of the keggorthology package: Please make sure to use the following settings in order to reproduce any error or warning you see on this page. |
| Package 939/1974 | Hostname | OS / Arch | INSTALL | BUILD | CHECK | BUILD BIN | ||||||||
| keggorthology 2.42.0 (landing page) VJ Carey
| malbec1 | Linux (Ubuntu 18.04.5 LTS) / x86_64 | OK | OK | OK | |||||||||
| tokay1 | Windows Server 2012 R2 Standard / x64 | OK | OK | OK | OK | |||||||||
| merida1 | macOS 10.14.6 Mojave / x86_64 | OK | OK | OK | OK | |||||||||
| Package: keggorthology |
| Version: 2.42.0 |
| Command: /Library/Frameworks/R.framework/Versions/Current/Resources/bin/R CMD build --keep-empty-dirs --no-resave-data keggorthology |
| StartedAt: 2021-05-05 20:17:39 -0400 (Wed, 05 May 2021) |
| EndedAt: 2021-05-05 20:18:05 -0400 (Wed, 05 May 2021) |
| EllapsedTime: 26.4 seconds |
| RetCode: 0 |
| Status: OK |
| PackageFile: keggorthology_2.42.0.tar.gz |
| PackageFileSize: 683.3 KiB |
############################################################################## ############################################################################## ### ### Running command: ### ### /Library/Frameworks/R.framework/Versions/Current/Resources/bin/R CMD build --keep-empty-dirs --no-resave-data keggorthology ### ############################################################################## ############################################################################## * checking for file ‘keggorthology/DESCRIPTION’ ... OK * preparing ‘keggorthology’: * checking DESCRIPTION meta-information ... OK * installing the package to build vignettes * creating vignettes ... OK * checking for LF line-endings in source and make files and shell scripts * checking for empty or unneeded directories * looking to see if a ‘data/datalist’ file should be added * building ‘keggorthology_2.42.0.tar.gz’