| Back to Multiple platform build/check report for BioC 3.12 |
|
This page was generated on 2021-05-06 12:28:01 -0400 (Thu, 06 May 2021).
|
To the developers/maintainers of the inveRsion package: Please make sure to use the following settings in order to reproduce any error or warning you see on this page. |
| Package 907/1974 | Hostname | OS / Arch | INSTALL | BUILD | CHECK | BUILD BIN | ||||||||
| inveRsion 1.38.0 (landing page) Alejandro Caceres
| malbec1 | Linux (Ubuntu 18.04.5 LTS) / x86_64 | OK | OK | WARNINGS | |||||||||
| tokay1 | Windows Server 2012 R2 Standard / x64 | OK | OK | WARNINGS | OK | |||||||||
| merida1 | macOS 10.14.6 Mojave / x86_64 | OK | OK | OK | OK | |||||||||
| Package: inveRsion |
| Version: 1.38.0 |
| Command: /home/biocbuild/bbs-3.12-bioc/R/bin/R CMD INSTALL inveRsion |
| StartedAt: 2021-05-05 16:23:36 -0400 (Wed, 05 May 2021) |
| EndedAt: 2021-05-05 16:23:52 -0400 (Wed, 05 May 2021) |
| EllapsedTime: 15.3 seconds |
| RetCode: 0 |
| Status: OK |
##############################################################################
##############################################################################
###
### Running command:
###
### /home/biocbuild/bbs-3.12-bioc/R/bin/R CMD INSTALL inveRsion
###
##############################################################################
##############################################################################
* installing to library ‘/home/biocbuild/bbs-3.12-bioc/R/library’
* installing *source* package ‘inveRsion’ ...
** using staged installation
** libs
gcc -I"/home/biocbuild/bbs-3.12-bioc/R/include" -DNDEBUG -I/usr/local/include -fpic -g -O2 -Wall -c init_inveRsion.c -o init_inveRsion.o
gcc -I"/home/biocbuild/bbs-3.12-bioc/R/include" -DNDEBUG -I/usr/local/include -fpic -g -O2 -Wall -c inversionModel.c -o inversionModel.o
inversionModel.c: In function ‘blockAndLev’:
inversionModel.c:185:31: warning: suggest parentheses around comparison in operand of ‘&’ [-Wparentheses]
if(dat[(*nr)*(c1)+row]==levelleft[level] & dat[(*nr)*(c2)+row]==levelright[level])
~~~~~~~~~~~~~~~~~~~^~~~~~~~~~~~~~~~~~
inversionModel.c: In function ‘inversionModel’:
inversionModel.c:360:15: warning: suggest parentheses around comparison in operand of ‘&’ [-Wparentheses]
while(steps<*maxSteps & tol>mintol)
~~~~~^~~~~~~~~~
gcc -I"/home/biocbuild/bbs-3.12-bioc/R/include" -DNDEBUG -I/usr/local/include -fpic -g -O2 -Wall -c writeGenoDat.c -o writeGenoDat.o
writeGenoDat.c: In function ‘writeGenoDat’:
writeGenoDat.c:103:9: warning: ‘dat’ may be used uninitialized in this function [-Wmaybe-uninitialized]
fprintf(fg,"%d ", dat-1);
^~~~~~~~~~~~~~~~~~~~~~~~
gcc -shared -L/home/biocbuild/bbs-3.12-bioc/R/lib -L/usr/local/lib -o inveRsion.so init_inveRsion.o inversionModel.o writeGenoDat.o -L/home/biocbuild/bbs-3.12-bioc/R/lib -lRlapack -L/home/biocbuild/bbs-3.12-bioc/R/lib -lRblas -lgfortran -lm -lquadmath -L/home/biocbuild/bbs-3.12-bioc/R/lib -lR
installing to /home/biocbuild/bbs-3.12-bioc/R/library/00LOCK-inveRsion/00new/inveRsion/libs
** R
** data
** inst
** byte-compile and prepare package for lazy loading
Warning message:
In .recacheSubclasses(def@className, def, env) :
undefined subclass "numericVector" of class "Mnumeric"; definition not updated
** help
*** installing help indices
** building package indices
** installing vignettes
** testing if installed package can be loaded from temporary location
Warning in .recacheSubclasses(def@className, def, env) :
undefined subclass "numericVector" of class "Mnumeric"; definition not updated
** checking absolute paths in shared objects and dynamic libraries
** testing if installed package can be loaded from final location
Warning in .recacheSubclasses(def@className, def, env) :
undefined subclass "numericVector" of class "Mnumeric"; definition not updated
** testing if installed package keeps a record of temporary installation path
* DONE (inveRsion)