| Back to Multiple platform build/check report for BioC 3.12 |
|
This page was generated on 2021-05-06 12:31:50 -0400 (Thu, 06 May 2021).
|
To the developers/maintainers of the infercnv package: Please make sure to use the following settings in order to reproduce any error or warning you see on this page. |
| Package 893/1974 | Hostname | OS / Arch | INSTALL | BUILD | CHECK | BUILD BIN | ||||||||
| infercnv 1.6.0 (landing page) Christophe Georgescu
| malbec1 | Linux (Ubuntu 18.04.5 LTS) / x86_64 | OK | OK | OK | |||||||||
| tokay1 | Windows Server 2012 R2 Standard / x64 | OK | OK | OK | OK | |||||||||
| merida1 | macOS 10.14.6 Mojave / x86_64 | OK | OK | OK | OK | |||||||||
| Package: infercnv |
| Version: 1.6.0 |
| Command: rm -rf infercnv.buildbin-libdir && mkdir infercnv.buildbin-libdir && C:\Users\biocbuild\bbs-3.12-bioc\R\bin\R.exe CMD INSTALL --merge-multiarch --build --library=infercnv.buildbin-libdir infercnv_1.6.0.tar.gz |
| StartedAt: 2021-05-06 09:20:06 -0400 (Thu, 06 May 2021) |
| EndedAt: 2021-05-06 09:20:54 -0400 (Thu, 06 May 2021) |
| EllapsedTime: 48.3 seconds |
| RetCode: 0 |
| Status: OK |
| PackageFile: infercnv_1.6.0.zip |
| PackageFileSize: 4.273 MiB |
##############################################################################
##############################################################################
###
### Running command:
###
### rm -rf infercnv.buildbin-libdir && mkdir infercnv.buildbin-libdir && C:\Users\biocbuild\bbs-3.12-bioc\R\bin\R.exe CMD INSTALL --merge-multiarch --build --library=infercnv.buildbin-libdir infercnv_1.6.0.tar.gz
###
##############################################################################
##############################################################################
install for i386
* installing *source* package 'infercnv' ...
** using staged installation
** R
** data
*** moving datasets to lazyload DB
** inst
** byte-compile and prepare package for lazy loading
** help
*** installing help indices
converting help for package 'infercnv'
finding HTML links ... done
CreateInfercnvObject html
HMM_states html
MCMC_inferCNV-class html
add_to_seurat html
apply_median_filtering html
color.palette html
filterHighPNormals html
inferCNVBayesNet html
infercnv-class html
infercnv-package html
infercnv_annots_example html
infercnv_data_example html
infercnv_genes_example html
infercnv_object_example html
mcmc_obj html
plot_cnv html
plot_per_group html
run html
sample_object html
validate_infercnv_obj html
** building package indices
** installing vignettes
** testing if installed package can be loaded from temporary location
** testing if installed package can be loaded from final location
** testing if installed package keeps a record of temporary installation path
install for x64
* installing *source* package 'infercnv' ...
** testing if installed package can be loaded
* MD5 sums
packaged installation of 'infercnv' as infercnv_1.6.0.zip
* DONE (infercnv)