| Back to Multiple platform build/check report for BioC 3.12 |
|
This page was generated on 2021-05-06 12:27:54 -0400 (Thu, 06 May 2021).
|
To the developers/maintainers of the iasva package: Please make sure to use the following settings in order to reproduce any error or warning you see on this page. |
| Package 859/1974 | Hostname | OS / Arch | INSTALL | BUILD | CHECK | BUILD BIN | ||||||||
| iasva 1.8.0 (landing page) Donghyung Lee
| malbec1 | Linux (Ubuntu 18.04.5 LTS) / x86_64 | OK | OK | OK | |||||||||
| tokay1 | Windows Server 2012 R2 Standard / x64 | OK | OK | OK | OK | |||||||||
| merida1 | macOS 10.14.6 Mojave / x86_64 | OK | OK | OK | OK | |||||||||
| Package: iasva |
| Version: 1.8.0 |
| Command: /home/biocbuild/bbs-3.12-bioc/R/bin/R CMD build --keep-empty-dirs --no-resave-data iasva |
| StartedAt: 2021-05-05 19:42:17 -0400 (Wed, 05 May 2021) |
| EndedAt: 2021-05-05 19:43:10 -0400 (Wed, 05 May 2021) |
| EllapsedTime: 53.4 seconds |
| RetCode: 0 |
| Status: OK |
| PackageFile: iasva_1.8.0.tar.gz |
| PackageFileSize: 1.064 MiB |
############################################################################## ############################################################################## ### ### Running command: ### ### /home/biocbuild/bbs-3.12-bioc/R/bin/R CMD build --keep-empty-dirs --no-resave-data iasva ### ############################################################################## ############################################################################## * checking for file ‘iasva/DESCRIPTION’ ... OK * preparing ‘iasva’: * checking DESCRIPTION meta-information ... OK * installing the package to build vignettes * creating vignettes ... OK * checking for LF line-endings in source and make files and shell scripts * checking for empty or unneeded directories * building ‘iasva_1.8.0.tar.gz’