| Back to Multiple platform build/check report for BioC 3.12 |
|
This page was generated on 2021-05-06 12:35:13 -0400 (Thu, 06 May 2021).
|
To the developers/maintainers of the gwasurvivr package: Please make sure to use the following settings in order to reproduce any error or warning you see on this page. |
| Package 810/1974 | Hostname | OS / Arch | INSTALL | BUILD | CHECK | BUILD BIN | ||||||||
| gwasurvivr 1.8.0 (landing page) Abbas Rizvi
| malbec1 | Linux (Ubuntu 18.04.5 LTS) / x86_64 | OK | OK | OK | |||||||||
| tokay1 | Windows Server 2012 R2 Standard / x64 | OK | OK | OK | OK | |||||||||
| merida1 | macOS 10.14.6 Mojave / x86_64 | OK | OK | OK | OK | |||||||||
| Package: gwasurvivr |
| Version: 1.8.0 |
| Command: /Library/Frameworks/R.framework/Versions/Current/Resources/bin/R CMD check --install=check:gwasurvivr.install-out.txt --library=/Library/Frameworks/R.framework/Versions/Current/Resources/library --no-vignettes --timings gwasurvivr_1.8.0.tar.gz |
| StartedAt: 2021-05-06 02:31:24 -0400 (Thu, 06 May 2021) |
| EndedAt: 2021-05-06 02:40:48 -0400 (Thu, 06 May 2021) |
| EllapsedTime: 564.1 seconds |
| RetCode: 0 |
| Status: OK |
| CheckDir: gwasurvivr.Rcheck |
| Warnings: 0 |
##############################################################################
##############################################################################
###
### Running command:
###
### /Library/Frameworks/R.framework/Versions/Current/Resources/bin/R CMD check --install=check:gwasurvivr.install-out.txt --library=/Library/Frameworks/R.framework/Versions/Current/Resources/library --no-vignettes --timings gwasurvivr_1.8.0.tar.gz
###
##############################################################################
##############################################################################
* using log directory ‘/Users/biocbuild/bbs-3.12-bioc/meat/gwasurvivr.Rcheck’
* using R version 4.0.5 (2021-03-31)
* using platform: x86_64-apple-darwin17.0 (64-bit)
* using session charset: UTF-8
* using option ‘--no-vignettes’
* checking for file ‘gwasurvivr/DESCRIPTION’ ... OK
* checking extension type ... Package
* this is package ‘gwasurvivr’ version ‘1.8.0’
* package encoding: UTF-8
* checking package namespace information ... OK
* checking package dependencies ... OK
* checking if this is a source package ... OK
* checking if there is a namespace ... OK
* checking for hidden files and directories ... OK
* checking for portable file names ... OK
* checking for sufficient/correct file permissions ... OK
* checking whether package ‘gwasurvivr’ can be installed ... OK
* checking installed package size ... OK
* checking package directory ... OK
* checking ‘build’ directory ... OK
* checking DESCRIPTION meta-information ... OK
* checking top-level files ... OK
* checking for left-over files ... OK
* checking index information ... OK
* checking package subdirectories ... OK
* checking R files for non-ASCII characters ... OK
* checking R files for syntax errors ... OK
* checking whether the package can be loaded ... OK
* checking whether the package can be loaded with stated dependencies ... OK
* checking whether the package can be unloaded cleanly ... OK
* checking whether the namespace can be loaded with stated dependencies ... OK
* checking whether the namespace can be unloaded cleanly ... OK
* checking dependencies in R code ... OK
* checking S3 generic/method consistency ... OK
* checking replacement functions ... OK
* checking foreign function calls ... OK
* checking R code for possible problems ... OK
* checking Rd files ... OK
* checking Rd metadata ... OK
* checking Rd cross-references ... OK
* checking for missing documentation entries ... OK
* checking for code/documentation mismatches ... OK
* checking Rd \usage sections ... OK
* checking Rd contents ... OK
* checking for unstated dependencies in examples ... OK
* checking files in ‘vignettes’ ... OK
* checking examples ... OK
Examples with CPU (user + system) or elapsed time > 5s
user system elapsed
michiganCoxSurv 1.880 0.197 29.403
impute2CoxSurv 1.209 0.042 26.665
plinkCoxSurv 1.180 0.039 28.493
sangerCoxSurv 1.002 0.020 27.715
gdsCoxSurv 0.117 0.024 22.661
* checking for unstated dependencies in vignettes ... OK
* checking package vignettes in ‘inst/doc’ ... OK
* checking running R code from vignettes ... SKIPPED
* checking re-building of vignette outputs ... SKIPPED
* checking PDF version of manual ... OK
* DONE
Status: OK
gwasurvivr.Rcheck/00install.out
############################################################################## ############################################################################## ### ### Running command: ### ### /Library/Frameworks/R.framework/Versions/Current/Resources/bin/R CMD INSTALL gwasurvivr ### ############################################################################## ############################################################################## * installing to library ‘/Library/Frameworks/R.framework/Versions/4.0/Resources/library’ * installing *source* package ‘gwasurvivr’ ... ** using staged installation ** R ** inst ** byte-compile and prepare package for lazy loading Warning in .recacheSubclasses(def@className, def, env) : undefined subclass "numericVector" of class "Mnumeric"; definition not updated ** help *** installing help indices ** building package indices ** installing vignettes ** testing if installed package can be loaded from temporary location Warning in .recacheSubclasses(def@className, def, env) : undefined subclass "numericVector" of class "Mnumeric"; definition not updated ** testing if installed package can be loaded from final location Warning in .recacheSubclasses(def@className, def, env) : undefined subclass "numericVector" of class "Mnumeric"; definition not updated ** testing if installed package keeps a record of temporary installation path * DONE (gwasurvivr)
gwasurvivr.Rcheck/gwasurvivr-Ex.timings
| name | user | system | elapsed | |
| gdsCoxSurv | 0.117 | 0.024 | 22.661 | |
| impute2CoxSurv | 1.209 | 0.042 | 26.665 | |
| michiganCoxSurv | 1.880 | 0.197 | 29.403 | |
| plinkCoxSurv | 1.180 | 0.039 | 28.493 | |
| sangerCoxSurv | 1.002 | 0.020 | 27.715 | |