| Back to Multiple platform build/check report for BioC 3.12 |
|
This page was generated on 2021-05-06 12:31:43 -0400 (Thu, 06 May 2021).
|
To the developers/maintainers of the gwascat package: Please make sure to use the following settings in order to reproduce any error or warning you see on this page. |
| Package 808/1974 | Hostname | OS / Arch | INSTALL | BUILD | CHECK | BUILD BIN | ||||||||
| gwascat 2.22.0 (landing page) VJ Carey
| malbec1 | Linux (Ubuntu 18.04.5 LTS) / x86_64 | OK | OK | OK | |||||||||
| tokay1 | Windows Server 2012 R2 Standard / x64 | OK | OK | OK | OK | |||||||||
| merida1 | macOS 10.14.6 Mojave / x86_64 | OK | OK | OK | OK | |||||||||
| Package: gwascat |
| Version: 2.22.0 |
| Command: C:\Users\biocbuild\bbs-3.12-bioc\R\bin\R.exe CMD check --force-multiarch --install=check:gwascat.install-out.txt --library=C:\Users\biocbuild\bbs-3.12-bioc\R\library --no-vignettes --timings gwascat_2.22.0.tar.gz |
| StartedAt: 2021-05-06 03:30:34 -0400 (Thu, 06 May 2021) |
| EndedAt: 2021-05-06 03:43:27 -0400 (Thu, 06 May 2021) |
| EllapsedTime: 773.1 seconds |
| RetCode: 0 |
| Status: OK |
| CheckDir: gwascat.Rcheck |
| Warnings: 0 |
##############################################################################
##############################################################################
###
### Running command:
###
### C:\Users\biocbuild\bbs-3.12-bioc\R\bin\R.exe CMD check --force-multiarch --install=check:gwascat.install-out.txt --library=C:\Users\biocbuild\bbs-3.12-bioc\R\library --no-vignettes --timings gwascat_2.22.0.tar.gz
###
##############################################################################
##############################################################################
* using log directory 'C:/Users/biocbuild/bbs-3.12-bioc/meat/gwascat.Rcheck'
* using R version 4.0.5 (2021-03-31)
* using platform: x86_64-w64-mingw32 (64-bit)
* using session charset: ISO8859-1
* using option '--no-vignettes'
* checking for file 'gwascat/DESCRIPTION' ... OK
* this is package 'gwascat' version '2.22.0'
* package encoding: UTF-8
* checking package namespace information ... OK
* checking package dependencies ... OK
* checking if this is a source package ... OK
* checking if there is a namespace ... OK
* checking for hidden files and directories ... OK
* checking for portable file names ... OK
* checking whether package 'gwascat' can be installed ... OK
* checking installed package size ... NOTE
installed size is 34.1Mb
sub-directories of 1Mb or more:
data 10.1Mb
legacy 15.6Mb
obo 3.0Mb
olddata 2.2Mb
tab 1.1Mb
* checking package directory ... OK
* checking 'build' directory ... OK
* checking DESCRIPTION meta-information ... NOTE
Package listed in more than one of Depends, Imports, Suggests, Enhances:
'IRanges'
A package should be listed in only one of these fields.
* checking top-level files ... OK
* checking for left-over files ... OK
* checking index information ... OK
* checking package subdirectories ... OK
* checking R files for non-ASCII characters ... OK
* checking R files for syntax errors ... OK
* loading checks for arch 'i386'
** checking whether the package can be loaded ... OK
** checking whether the package can be loaded with stated dependencies ... OK
** checking whether the package can be unloaded cleanly ... OK
** checking whether the namespace can be loaded with stated dependencies ... OK
** checking whether the namespace can be unloaded cleanly ... OK
* loading checks for arch 'x64'
** checking whether the package can be loaded ... OK
** checking whether the package can be loaded with stated dependencies ... OK
** checking whether the package can be unloaded cleanly ... OK
** checking whether the namespace can be loaded with stated dependencies ... OK
** checking whether the namespace can be unloaded cleanly ... OK
* checking dependencies in R code ... OK
* checking S3 generic/method consistency ... OK
* checking replacement functions ... OK
* checking foreign function calls ... OK
* checking R code for possible problems ... NOTE
addSeqlengths: no visible global function definition for 'seqlengths'
addSeqlengths: no visible global function definition for 'seqlengths<-'
bindcadd_snv: no visible global function definition for 'TabixFile'
bindcadd_snv: no visible global function definition for 'findOverlaps'
buildq: no visible global function definition for 'read.delim'
chklocs: no visible binding for global variable 'gwrngs19'
chklocs: no visible global function definition for 'snpsBySeqname'
lo38to19: no visible global function definition for 'liftOver'
lo38to19: no visible global function definition for 'sessionInfo'
lo38to19: no visible global function definition for 'data'
lo38to19: no visible binding for global variable 'si.hs.37'
makeCurrentGwascat: no visible global function definition for
'download.file'
makeCurrentGwascat: no visible global function definition for 'data'
makeCurrentGwascat: no visible binding for global variable 'si.hs.38'
makeCurrentGwascat: no visible global function definition for
'sessionInfo'
process_gwas_dataframe: no visible global function definition for
'data'
process_gwas_dataframe: no visible binding for global variable
'si.hs.38'
process_gwas_dataframe: no visible global function definition for
'sessionInfo'
snpGenos: no visible global function definition for 'getSNPlocs'
tfilt: no visible binding for global variable 'phr'
tpad: no visible binding for global variable 'phr'
traitsManh: no visible global function definition for 'aes'
traitsManh: no visible binding for global variable 'PVALUE_MLOG'
variantProps: no visible binding for global variable 'gwrngs'
Undefined global functions or variables:
PVALUE_MLOG TabixFile aes data download.file findOverlaps getSNPlocs
gwrngs gwrngs19 liftOver phr read.delim seqlengths seqlengths<-
sessionInfo si.hs.37 si.hs.38 snpsBySeqname
Consider adding
importFrom("utils", "data", "download.file", "read.delim",
"sessionInfo")
to your NAMESPACE file.
* checking Rd files ... OK
* checking Rd metadata ... OK
* checking Rd cross-references ... OK
* checking for missing documentation entries ... OK
* checking for code/documentation mismatches ... OK
* checking Rd \usage sections ... OK
* checking Rd contents ... OK
* checking for unstated dependencies in examples ... OK
* checking contents of 'data' directory ... OK
* checking data for non-ASCII characters ... NOTE
Note: found 2077 marked UTF-8 strings
* checking data for ASCII and uncompressed saves ... OK
* checking files in 'vignettes' ... OK
* checking examples ...
** running examples for arch 'i386' ... OK
Examples with CPU (user + system) or elapsed time > 5s
user system elapsed
gg17N 15.12 0.07 15.20
gwcex2gviz 13.50 1.43 15.11
** running examples for arch 'x64' ... OK
Examples with CPU (user + system) or elapsed time > 5s
user system elapsed
gg17N 14.30 0.12 15.31
gwcex2gviz 13.88 0.50 14.62
* checking for unstated dependencies in 'tests' ... OK
* checking tests ...
** running tests for arch 'i386' ...
Running 'testthat.R'
OK
** running tests for arch 'x64' ...
Running 'testthat.R'
OK
* checking for unstated dependencies in vignettes ... OK
* checking package vignettes in 'inst/doc' ... OK
* checking running R code from vignettes ... SKIPPED
* checking re-building of vignette outputs ... SKIPPED
* checking PDF version of manual ... OK
* DONE
Status: 4 NOTEs
See
'C:/Users/biocbuild/bbs-3.12-bioc/meat/gwascat.Rcheck/00check.log'
for details.
gwascat.Rcheck/00install.out
##############################################################################
##############################################################################
###
### Running command:
###
### C:\cygwin\bin\curl.exe -O http://172.29.0.3/BBS/3.12/bioc/src/contrib/gwascat_2.22.0.tar.gz && rm -rf gwascat.buildbin-libdir && mkdir gwascat.buildbin-libdir && C:\Users\biocbuild\bbs-3.12-bioc\R\bin\R.exe CMD INSTALL --merge-multiarch --build --library=gwascat.buildbin-libdir gwascat_2.22.0.tar.gz && C:\Users\biocbuild\bbs-3.12-bioc\R\bin\R.exe CMD INSTALL gwascat_2.22.0.zip && rm gwascat_2.22.0.tar.gz gwascat_2.22.0.zip
###
##############################################################################
##############################################################################
% Total % Received % Xferd Average Speed Time Time Time Current
Dload Upload Total Spent Left Speed
0 0 0 0 0 0 0 0 --:--:-- --:--:-- --:--:-- 0
100 32.8M 100 32.8M 0 0 74.4M 0 --:--:-- --:--:-- --:--:-- 74.5M
install for i386
* installing *source* package 'gwascat' ...
** using staged installation
** R
** data
** inst
** byte-compile and prepare package for lazy loading
** help
*** installing help indices
converting help for package 'gwascat'
finding HTML links ... done
bindcadd_snv html
chklocs html
ebicat_2020_04_30 html
g17SM html
getRsids-gwaswloc-method html
getRsids html
getTraits-gwaswloc-method html
getTraits html
get_cached_gwascat html
gg17N html
gr6.0_hg38 html
gw6.rs_17 html
gwastagger html
gwaswloc-class html
gwcex2gviz html
ldtagr html
locon6 html
locs4trait html
low17 html
makeCurrentGwascat html
obo2graphNEL html
process_gwas_dataframe html
riskyAlleleCount html
si.hs.37 html
si.hs.38 html
sub-gwaswloc-ANY-ANY-ANY-method html
subsetByChromosome-gwaswloc-method html
subsetByChromosome html
subsetByTraits-gwaswloc-method html
subsetByTraits html
topTraits html
traitsManh html
** building package indices
** installing vignettes
** testing if installed package can be loaded from temporary location
** testing if installed package can be loaded from final location
** testing if installed package keeps a record of temporary installation path
install for x64
* installing *source* package 'gwascat' ...
** testing if installed package can be loaded
* MD5 sums
packaged installation of 'gwascat' as gwascat_2.22.0.zip
* DONE (gwascat)
* installing to library 'C:/Users/biocbuild/bbs-3.12-bioc/R/library'
package 'gwascat' successfully unpacked and MD5 sums checked
|
gwascat.Rcheck/tests_i386/testthat.Rout
R version 4.0.5 (2021-03-31) -- "Shake and Throw"
Copyright (C) 2021 The R Foundation for Statistical Computing
Platform: i386-w64-mingw32/i386 (32-bit)
R is free software and comes with ABSOLUTELY NO WARRANTY.
You are welcome to redistribute it under certain conditions.
Type 'license()' or 'licence()' for distribution details.
R is a collaborative project with many contributors.
Type 'contributors()' for more information and
'citation()' on how to cite R or R packages in publications.
Type 'demo()' for some demos, 'help()' for on-line help, or
'help.start()' for an HTML browser interface to help.
Type 'q()' to quit R.
> library(testthat)
>
> test_check("gwascat")
Loading required package: gwascat
gwascat loaded. Use makeCurrentGwascat() to extract current image.
from EBI. The data folder of this package has some legacy extracts.
[ FAIL 0 | WARN 0 | SKIP 0 | PASS 0 ]
>
>
> proc.time()
user system elapsed
16.23 1.21 19.70
|
gwascat.Rcheck/tests_x64/testthat.Rout
R version 4.0.5 (2021-03-31) -- "Shake and Throw"
Copyright (C) 2021 The R Foundation for Statistical Computing
Platform: x86_64-w64-mingw32/x64 (64-bit)
R is free software and comes with ABSOLUTELY NO WARRANTY.
You are welcome to redistribute it under certain conditions.
Type 'license()' or 'licence()' for distribution details.
R is a collaborative project with many contributors.
Type 'contributors()' for more information and
'citation()' on how to cite R or R packages in publications.
Type 'demo()' for some demos, 'help()' for on-line help, or
'help.start()' for an HTML browser interface to help.
Type 'q()' to quit R.
> library(testthat)
>
> test_check("gwascat")
Loading required package: gwascat
gwascat loaded. Use makeCurrentGwascat() to extract current image.
from EBI. The data folder of this package has some legacy extracts.
[ FAIL 0 | WARN 0 | SKIP 0 | PASS 0 ]
>
>
> proc.time()
user system elapsed
13.64 0.56 15.92
|
|
gwascat.Rcheck/examples_i386/gwascat-Ex.timings
|
gwascat.Rcheck/examples_x64/gwascat-Ex.timings
|