| Back to Multiple platform build/check report for BioC 3.12 |
|
This page was generated on 2021-05-06 12:31:42 -0400 (Thu, 06 May 2021).
|
To the developers/maintainers of the gtrellis package: Please make sure to use the following settings in order to reproduce any error or warning you see on this page. |
| Package 803/1974 | Hostname | OS / Arch | INSTALL | BUILD | CHECK | BUILD BIN | ||||||||
| gtrellis 1.22.0 (landing page) Zuguang Gu
| malbec1 | Linux (Ubuntu 18.04.5 LTS) / x86_64 | OK | OK | OK | |||||||||
| tokay1 | Windows Server 2012 R2 Standard / x64 | OK | OK | OK | OK | |||||||||
| merida1 | macOS 10.14.6 Mojave / x86_64 | OK | OK | OK | OK | |||||||||
| Package: gtrellis |
| Version: 1.22.0 |
| Command: C:\cygwin\bin\curl.exe -O http://172.29.0.3/BBS/3.12/bioc/src/contrib/gtrellis_1.22.0.tar.gz && rm -rf gtrellis.buildbin-libdir && mkdir gtrellis.buildbin-libdir && C:\Users\biocbuild\bbs-3.12-bioc\R\bin\R.exe CMD INSTALL --merge-multiarch --build --library=gtrellis.buildbin-libdir gtrellis_1.22.0.tar.gz && C:\Users\biocbuild\bbs-3.12-bioc\R\bin\R.exe CMD INSTALL gtrellis_1.22.0.zip && rm gtrellis_1.22.0.tar.gz gtrellis_1.22.0.zip |
| StartedAt: 2021-05-05 17:30:23 -0400 (Wed, 05 May 2021) |
| EndedAt: 2021-05-05 17:31:14 -0400 (Wed, 05 May 2021) |
| EllapsedTime: 50.6 seconds |
| RetCode: 0 |
| Status: OK |
##############################################################################
##############################################################################
###
### Running command:
###
### C:\cygwin\bin\curl.exe -O http://172.29.0.3/BBS/3.12/bioc/src/contrib/gtrellis_1.22.0.tar.gz && rm -rf gtrellis.buildbin-libdir && mkdir gtrellis.buildbin-libdir && C:\Users\biocbuild\bbs-3.12-bioc\R\bin\R.exe CMD INSTALL --merge-multiarch --build --library=gtrellis.buildbin-libdir gtrellis_1.22.0.tar.gz && C:\Users\biocbuild\bbs-3.12-bioc\R\bin\R.exe CMD INSTALL gtrellis_1.22.0.zip && rm gtrellis_1.22.0.tar.gz gtrellis_1.22.0.zip
###
##############################################################################
##############################################################################
% Total % Received % Xferd Average Speed Time Time Time Current
Dload Upload Total Spent Left Speed
0 0 0 0 0 0 0 0 --:--:-- --:--:-- --:--:-- 0
100 12.0M 100 12.0M 0 0 97.3M 0 --:--:-- --:--:-- --:--:-- 98.3M
install for i386
* installing *source* package 'gtrellis' ...
** using staged installation
** R
** inst
** byte-compile and prepare package for lazy loading
** help
*** installing help indices
converting help for package 'gtrellis'
finding HTML links ... done
add_heatmap_track html
add_ideogram_track html
add_lines_track html
add_points_track html
add_rect_track html
add_segments_track html
add_track html
current_track html
get_cell_meta_data html
gtrellis_layout html
gtrellis_show_index html
** building package indices
** installing vignettes
** testing if installed package can be loaded from temporary location
** testing if installed package can be loaded from final location
** testing if installed package keeps a record of temporary installation path
install for x64
* installing *source* package 'gtrellis' ...
** testing if installed package can be loaded
* MD5 sums
packaged installation of 'gtrellis' as gtrellis_1.22.0.zip
* DONE (gtrellis)
* installing to library 'C:/Users/biocbuild/bbs-3.12-bioc/R/library'
package 'gtrellis' successfully unpacked and MD5 sums checked