| Back to Multiple platform build/check report for BioC 3.12 |
|
This page was generated on 2021-05-06 12:31:26 -0400 (Thu, 06 May 2021).
|
To the developers/maintainers of the geneplast package: Please make sure to use the following settings in order to reproduce any error or warning you see on this page. |
| Package 694/1974 | Hostname | OS / Arch | INSTALL | BUILD | CHECK | BUILD BIN | ||||||||
| geneplast 1.16.0 (landing page) Mauro Castro
| malbec1 | Linux (Ubuntu 18.04.5 LTS) / x86_64 | OK | OK | WARNINGS | |||||||||
| tokay1 | Windows Server 2012 R2 Standard / x64 | OK | OK | WARNINGS | OK | |||||||||
| merida1 | macOS 10.14.6 Mojave / x86_64 | OK | OK | WARNINGS | OK | |||||||||
| Package: geneplast |
| Version: 1.16.0 |
| Command: rm -rf geneplast.buildbin-libdir && mkdir geneplast.buildbin-libdir && C:\Users\biocbuild\bbs-3.12-bioc\R\bin\R.exe CMD INSTALL --merge-multiarch --build --library=geneplast.buildbin-libdir geneplast_1.16.0.tar.gz |
| StartedAt: 2021-05-06 09:09:12 -0400 (Thu, 06 May 2021) |
| EndedAt: 2021-05-06 09:09:41 -0400 (Thu, 06 May 2021) |
| EllapsedTime: 28.7 seconds |
| RetCode: 0 |
| Status: OK |
| PackageFile: geneplast_1.16.0.zip |
| PackageFileSize: 3.789 MiB |
##############################################################################
##############################################################################
###
### Running command:
###
### rm -rf geneplast.buildbin-libdir && mkdir geneplast.buildbin-libdir && C:\Users\biocbuild\bbs-3.12-bioc\R\bin\R.exe CMD INSTALL --merge-multiarch --build --library=geneplast.buildbin-libdir geneplast_1.16.0.tar.gz
###
##############################################################################
##############################################################################
install for i386
* installing *source* package 'geneplast' ...
** using staged installation
** R
** data
** inst
** byte-compile and prepare package for lazy loading
** help
*** installing help indices
converting help for package 'geneplast'
finding HTML links ... done
OGP-class html
OGR-class html
geneplast-package html
gpdata html
gplast html
gplast.get html
gplast.preprocess html
groot html
groot.get html
groot.plot html
groot.preprocess html
ogr2igraph html
ogr2tni html
ppidata html
** building package indices
** installing vignettes
** testing if installed package can be loaded from temporary location
** testing if installed package can be loaded from final location
** testing if installed package keeps a record of temporary installation path
install for x64
* installing *source* package 'geneplast' ...
** testing if installed package can be loaded
* MD5 sums
packaged installation of 'geneplast' as geneplast_1.16.0.zip
* DONE (geneplast)