| Back to Multiple platform build/check report for BioC 3.12 |
|
This page was generated on 2021-05-06 12:31:27 -0400 (Thu, 06 May 2021).
|
To the developers/maintainers of the geneXtendeR package: Please make sure to use the following settings in order to reproduce any error or warning you see on this page. |
| Package 706/1974 | Hostname | OS / Arch | INSTALL | BUILD | CHECK | BUILD BIN | ||||||||
| geneXtendeR 1.16.0 (landing page) Bohdan Khomtchouk
| malbec1 | Linux (Ubuntu 18.04.5 LTS) / x86_64 | OK | OK | WARNINGS | |||||||||
| tokay1 | Windows Server 2012 R2 Standard / x64 | OK | OK | OK | OK | |||||||||
| merida1 | macOS 10.14.6 Mojave / x86_64 | OK | OK | OK | OK | |||||||||
| Package: geneXtendeR |
| Version: 1.16.0 |
| Command: rm -rf geneXtendeR.buildbin-libdir && mkdir geneXtendeR.buildbin-libdir && C:\Users\biocbuild\bbs-3.12-bioc\R\bin\R.exe CMD INSTALL --merge-multiarch --build --library=geneXtendeR.buildbin-libdir geneXtendeR_1.16.0.tar.gz |
| StartedAt: 2021-05-06 09:09:55 -0400 (Thu, 06 May 2021) |
| EndedAt: 2021-05-06 09:10:58 -0400 (Thu, 06 May 2021) |
| EllapsedTime: 62.5 seconds |
| RetCode: 0 |
| Status: OK |
| PackageFile: geneXtendeR_1.16.0.zip |
| PackageFileSize: 8.529 MiB |
##############################################################################
##############################################################################
###
### Running command:
###
### rm -rf geneXtendeR.buildbin-libdir && mkdir geneXtendeR.buildbin-libdir && C:\Users\biocbuild\bbs-3.12-bioc\R\bin\R.exe CMD INSTALL --merge-multiarch --build --library=geneXtendeR.buildbin-libdir geneXtendeR_1.16.0.tar.gz
###
##############################################################################
##############################################################################
install for i386
* installing *source* package 'geneXtendeR' ...
** using staged installation
** libs
"C:/rtools40/mingw32/bin/"gcc -I"C:/Users/BIOCBU~1/BBS-3~1.12-/R/include" -DNDEBUG -I"C:/extsoft/include" -O2 -Wall -std=gnu99 -mfpmath=sse -msse2 -mstackrealign -c annotate.c -o annotate.o
"C:/rtools40/mingw32/bin/"gcc -I"C:/Users/BIOCBU~1/BBS-3~1.12-/R/include" -DNDEBUG -I"C:/extsoft/include" -O2 -Wall -std=gnu99 -mfpmath=sse -msse2 -mstackrealign -c extract_number.c -o extract_number.o
extract_number.c: In function 'extractnumber':
extract_number.c:72:10: warning: variable 'n_1' set but not used [-Wunused-but-set-variable]
long n_1;
^~~
extract_number.c:66:10: warning: variable 'j_1' set but not used [-Wunused-but-set-variable]
long j_1;
^~~
extract_number.c:54:12: warning: variable 'pvcfcol5_5' set but not used [-Wunused-but-set-variable]
char * pvcfcol5_5;
^~~~~~~~~~
extract_number.c:53:12: warning: variable 'pvcfcol4_4' set but not used [-Wunused-but-set-variable]
char * pvcfcol4_4;
^~~~~~~~~~
extract_number.c:52:12: warning: variable 'pvcfcol3_3' set but not used [-Wunused-but-set-variable]
char * pvcfcol3_3;
^~~~~~~~~~
extract_number.c:51:12: warning: variable 'pvcfcol2_2' set but not used [-Wunused-but-set-variable]
char * pvcfcol2_2;
^~~~~~~~~~
extract_number.c:50:12: warning: variable 'pvcfcol1_1' set but not used [-Wunused-but-set-variable]
char * pvcfcol1_1;
^~~~~~~~~~
"C:/rtools40/mingw32/bin/"gcc -I"C:/Users/BIOCBU~1/BBS-3~1.12-/R/include" -DNDEBUG -I"C:/extsoft/include" -O2 -Wall -std=gnu99 -mfpmath=sse -msse2 -mstackrealign -c extract_peaks.c -o extract_peaks.o
C:/rtools40/mingw32/bin/gcc -shared -s -static-libgcc -o geneXtendeR.dll tmp.def annotate.o extract_number.o extract_peaks.o -LC:/extsoft/lib/i386 -LC:/extsoft/lib -LC:/Users/BIOCBU~1/BBS-3~1.12-/R/bin/i386 -lR
installing to C:/Users/biocbuild/bbs-3.12-bioc/meat/geneXtendeR.buildbin-libdir/00LOCK-geneXtendeR/00new/geneXtendeR/libs/i386
** R
** data
*** moving datasets to lazyload DB
** inst
** byte-compile and prepare package for lazy loading
** help
*** installing help indices
converting help for package 'geneXtendeR'
finding HTML links ... done
allPeakLengths html
annotate html
annotate_n html
barChart html
cumlinePlot html
diffGO html
distinct html
dot-geneXtender html
gene_annotate html
gene_lookup html
hotspotPlot html
linePlot html
makeNetwork html
makeWordCloud html
meanPeakLength html
meanPeakLengthPlot html
peakLengthBoxplot html
peaksInput html
peaksMerge html
plotWordFreq html
rat html
samplepeaksinput html
** building package indices
** installing vignettes
** testing if installed package can be loaded from temporary location
** testing if installed package can be loaded from final location
** testing if installed package keeps a record of temporary installation path
install for x64
* installing *source* package 'geneXtendeR' ...
** libs
"C:/rtools40/mingw64/bin/"gcc -I"C:/Users/BIOCBU~1/BBS-3~1.12-/R/include" -DNDEBUG -I"C:/extsoft/include" -O2 -Wall -std=gnu99 -mfpmath=sse -msse2 -mstackrealign -c annotate.c -o annotate.o
"C:/rtools40/mingw64/bin/"gcc -I"C:/Users/BIOCBU~1/BBS-3~1.12-/R/include" -DNDEBUG -I"C:/extsoft/include" -O2 -Wall -std=gnu99 -mfpmath=sse -msse2 -mstackrealign -c extract_number.c -o extract_number.o
extract_number.c: In function 'extractnumber':
extract_number.c:72:10: warning: variable 'n_1' set but not used [-Wunused-but-set-variable]
long n_1;
^~~
extract_number.c:66:10: warning: variable 'j_1' set but not used [-Wunused-but-set-variable]
long j_1;
^~~
extract_number.c:54:12: warning: variable 'pvcfcol5_5' set but not used [-Wunused-but-set-variable]
char * pvcfcol5_5;
^~~~~~~~~~
extract_number.c:53:12: warning: variable 'pvcfcol4_4' set but not used [-Wunused-but-set-variable]
char * pvcfcol4_4;
^~~~~~~~~~
extract_number.c:52:12: warning: variable 'pvcfcol3_3' set but not used [-Wunused-but-set-variable]
char * pvcfcol3_3;
^~~~~~~~~~
extract_number.c:51:12: warning: variable 'pvcfcol2_2' set but not used [-Wunused-but-set-variable]
char * pvcfcol2_2;
^~~~~~~~~~
extract_number.c:50:12: warning: variable 'pvcfcol1_1' set but not used [-Wunused-but-set-variable]
char * pvcfcol1_1;
^~~~~~~~~~
"C:/rtools40/mingw64/bin/"gcc -I"C:/Users/BIOCBU~1/BBS-3~1.12-/R/include" -DNDEBUG -I"C:/extsoft/include" -O2 -Wall -std=gnu99 -mfpmath=sse -msse2 -mstackrealign -c extract_peaks.c -o extract_peaks.o
C:/rtools40/mingw64/bin/gcc -shared -s -static-libgcc -o geneXtendeR.dll tmp.def annotate.o extract_number.o extract_peaks.o -LC:/extsoft/lib/x64 -LC:/extsoft/lib -LC:/Users/BIOCBU~1/BBS-3~1.12-/R/bin/x64 -lR
installing to C:/Users/biocbuild/bbs-3.12-bioc/meat/geneXtendeR.buildbin-libdir/geneXtendeR/libs/x64
** testing if installed package can be loaded
* MD5 sums
packaged installation of 'geneXtendeR' as geneXtendeR_1.16.0.zip
* DONE (geneXtendeR)