| Back to Multiple platform build/check report for BioC 3.12 |
|
This page was generated on 2021-05-06 12:31:23 -0400 (Thu, 06 May 2021).
|
To the developers/maintainers of the gaia package: Please make sure to use the following settings in order to reproduce any error or warning you see on this page. |
| Package 661/1974 | Hostname | OS / Arch | INSTALL | BUILD | CHECK | BUILD BIN | ||||||||
| gaia 2.34.0 (landing page) S. Morganella
| malbec1 | Linux (Ubuntu 18.04.5 LTS) / x86_64 | OK | OK | OK | |||||||||
| tokay1 | Windows Server 2012 R2 Standard / x64 | OK | OK | OK | OK | |||||||||
| merida1 | macOS 10.14.6 Mojave / x86_64 | OK | OK | OK | OK | |||||||||
| Package: gaia |
| Version: 2.34.0 |
| Command: C:\cygwin\bin\curl.exe -O http://172.29.0.3/BBS/3.12/bioc/src/contrib/gaia_2.34.0.tar.gz && rm -rf gaia.buildbin-libdir && mkdir gaia.buildbin-libdir && C:\Users\biocbuild\bbs-3.12-bioc\R\bin\R.exe CMD INSTALL --merge-multiarch --build --library=gaia.buildbin-libdir gaia_2.34.0.tar.gz && C:\Users\biocbuild\bbs-3.12-bioc\R\bin\R.exe CMD INSTALL gaia_2.34.0.zip && rm gaia_2.34.0.tar.gz gaia_2.34.0.zip |
| StartedAt: 2021-05-05 16:35:55 -0400 (Wed, 05 May 2021) |
| EndedAt: 2021-05-05 16:36:31 -0400 (Wed, 05 May 2021) |
| EllapsedTime: 35.7 seconds |
| RetCode: 0 |
| Status: OK |
##############################################################################
##############################################################################
###
### Running command:
###
### C:\cygwin\bin\curl.exe -O http://172.29.0.3/BBS/3.12/bioc/src/contrib/gaia_2.34.0.tar.gz && rm -rf gaia.buildbin-libdir && mkdir gaia.buildbin-libdir && C:\Users\biocbuild\bbs-3.12-bioc\R\bin\R.exe CMD INSTALL --merge-multiarch --build --library=gaia.buildbin-libdir gaia_2.34.0.tar.gz && C:\Users\biocbuild\bbs-3.12-bioc\R\bin\R.exe CMD INSTALL gaia_2.34.0.zip && rm gaia_2.34.0.tar.gz gaia_2.34.0.zip
###
##############################################################################
##############################################################################
% Total % Received % Xferd Average Speed Time Time Time Current
Dload Upload Total Spent Left Speed
0 0 0 0 0 0 0 0 --:--:-- --:--:-- --:--:-- 0
100 456k 100 456k 0 0 3483k 0 --:--:-- --:--:-- --:--:-- 3541k
install for i386
* installing *source* package 'gaia' ...
** using staged installation
** R
** data
** byte-compile and prepare package for lazy loading
** help
*** installing help indices
converting help for package 'gaia'
finding HTML links ... done
crc html
crc_markers html
gaia-package html
generate_approx_null_hypothesis html
generate_null_hypothesis html
load_cnv html
load_markers html
peel_off html
qvalue html
runGAIA html
search_peaks_in_regions html
synthCNV_Matrix html
synthMarkers_Matrix html
write_significant_regions html
** building package indices
** installing vignettes
** testing if installed package can be loaded from temporary location
** testing if installed package can be loaded from final location
** testing if installed package keeps a record of temporary installation path
install for x64
* installing *source* package 'gaia' ...
** testing if installed package can be loaded
* MD5 sums
packaged installation of 'gaia' as gaia_2.34.0.zip
* DONE (gaia)
* installing to library 'C:/Users/biocbuild/bbs-3.12-bioc/R/library'
package 'gaia' successfully unpacked and MD5 sums checked