| Back to Multiple platform build/check report for BioC 3.12 |
|
This page was generated on 2021-05-06 12:31:20 -0400 (Thu, 06 May 2021).
|
To the developers/maintainers of the flowPlots package: Please make sure to use the following settings in order to reproduce any error or warning you see on this page. |
| Package 629/1974 | Hostname | OS / Arch | INSTALL | BUILD | CHECK | BUILD BIN | ||||||||
| flowPlots 1.38.0 (landing page) N. Hawkins
| malbec1 | Linux (Ubuntu 18.04.5 LTS) / x86_64 | OK | OK | OK | |||||||||
| tokay1 | Windows Server 2012 R2 Standard / x64 | OK | OK | OK | OK | |||||||||
| merida1 | macOS 10.14.6 Mojave / x86_64 | OK | OK | OK | OK | |||||||||
| Package: flowPlots |
| Version: 1.38.0 |
| Command: C:\cygwin\bin\curl.exe -O http://172.29.0.3/BBS/3.12/bioc/src/contrib/flowPlots_1.38.0.tar.gz && rm -rf flowPlots.buildbin-libdir && mkdir flowPlots.buildbin-libdir && C:\Users\biocbuild\bbs-3.12-bioc\R\bin\R.exe CMD INSTALL --merge-multiarch --build --library=flowPlots.buildbin-libdir flowPlots_1.38.0.tar.gz && C:\Users\biocbuild\bbs-3.12-bioc\R\bin\R.exe CMD INSTALL flowPlots_1.38.0.zip && rm flowPlots_1.38.0.tar.gz flowPlots_1.38.0.zip |
| StartedAt: 2021-05-05 16:40:06 -0400 (Wed, 05 May 2021) |
| EndedAt: 2021-05-05 16:41:22 -0400 (Wed, 05 May 2021) |
| EllapsedTime: 76.6 seconds |
| RetCode: 0 |
| Status: OK |
##############################################################################
##############################################################################
###
### Running command:
###
### C:\cygwin\bin\curl.exe -O http://172.29.0.3/BBS/3.12/bioc/src/contrib/flowPlots_1.38.0.tar.gz && rm -rf flowPlots.buildbin-libdir && mkdir flowPlots.buildbin-libdir && C:\Users\biocbuild\bbs-3.12-bioc\R\bin\R.exe CMD INSTALL --merge-multiarch --build --library=flowPlots.buildbin-libdir flowPlots_1.38.0.tar.gz && C:\Users\biocbuild\bbs-3.12-bioc\R\bin\R.exe CMD INSTALL flowPlots_1.38.0.zip && rm flowPlots_1.38.0.tar.gz flowPlots_1.38.0.zip
###
##############################################################################
##############################################################################
% Total % Received % Xferd Average Speed Time Time Time Current
Dload Upload Total Spent Left Speed
0 0 0 0 0 0 0 0 --:--:-- --:--:-- --:--:-- 0
100 188k 100 188k 0 0 7818k 0 --:--:-- --:--:-- --:--:-- 8206k
install for i386
* installing *source* package 'flowPlots' ...
** using staged installation
** R
** data
*** moving datasets to lazyload DB
** inst
** byte-compile and prepare package for lazy loading
** help
*** installing help indices
converting help for package 'flowPlots'
finding HTML links ... done
GroupListBoxplot html
StackedData-class html
adultsNeonates html
computeMarginalData-methods html
computeMarkers-methods html
computePFDData-methods html
computePFDGroupStatsList html
computePFDPartsData-methods html
computeProfileData-methods html
legendPFDStatsGroupNames html
makeBarplotData html
makeDataList html
makeTernaryData html
marginalDF html
marginalData-methods html
markerMatrix html
markers-methods html
pfdDF html
pfdData-methods html
pfdPartsData-methods html
pfdPartsList html
profileDF html
profileData-methods html
readStackedData-methods html
stackedData-methods html
** building package indices
** installing vignettes
** testing if installed package can be loaded from temporary location
** testing if installed package can be loaded from final location
** testing if installed package keeps a record of temporary installation path
install for x64
* installing *source* package 'flowPlots' ...
** testing if installed package can be loaded
* MD5 sums
packaged installation of 'flowPlots' as flowPlots_1.38.0.zip
* DONE (flowPlots)
* installing to library 'C:/Users/biocbuild/bbs-3.12-bioc/R/library'
package 'flowPlots' successfully unpacked and MD5 sums checked