| Back to Multiple platform build/check report for BioC 3.12 |
|
This page was generated on 2021-05-06 12:27:33 -0400 (Thu, 06 May 2021).
|
To the developers/maintainers of the fgsea package: Please make sure to use the following settings in order to reproduce any error or warning you see on this page. |
| Package 602/1974 | Hostname | OS / Arch | INSTALL | BUILD | CHECK | BUILD BIN | ||||||||
| fgsea 1.16.0 (landing page) Alexey Sergushichev
| malbec1 | Linux (Ubuntu 18.04.5 LTS) / x86_64 | OK | OK | OK | |||||||||
| tokay1 | Windows Server 2012 R2 Standard / x64 | OK | OK | OK | OK | |||||||||
| merida1 | macOS 10.14.6 Mojave / x86_64 | OK | OK | OK | OK | |||||||||
| Package: fgsea |
| Version: 1.16.0 |
| Command: /home/biocbuild/bbs-3.12-bioc/R/bin/R CMD INSTALL fgsea |
| StartedAt: 2021-05-05 16:19:08 -0400 (Wed, 05 May 2021) |
| EndedAt: 2021-05-05 16:19:39 -0400 (Wed, 05 May 2021) |
| EllapsedTime: 30.5 seconds |
| RetCode: 0 |
| Status: OK |
##############################################################################
##############################################################################
###
### Running command:
###
### /home/biocbuild/bbs-3.12-bioc/R/bin/R CMD INSTALL fgsea
###
##############################################################################
##############################################################################
* installing to library ‘/home/biocbuild/bbs-3.12-bioc/R/library’
* installing *source* package ‘fgsea’ ...
** using staged installation
** libs
g++ -std=gnu++11 -I"/home/biocbuild/bbs-3.12-bioc/R/include" -DNDEBUG -I'/home/biocbuild/bbs-3.12-bioc/R/library/Rcpp/include' -I'/home/biocbuild/bbs-3.12-bioc/R/library/BH/include' -I/usr/local/include -fpic -g -O2 -Wall -c RcppExports.cpp -o RcppExports.o
g++ -std=gnu++11 -I"/home/biocbuild/bbs-3.12-bioc/R/include" -DNDEBUG -I'/home/biocbuild/bbs-3.12-bioc/R/library/Rcpp/include' -I'/home/biocbuild/bbs-3.12-bioc/R/library/BH/include' -I/usr/local/include -fpic -g -O2 -Wall -c esCalculation.cpp -o esCalculation.o
g++ -std=gnu++11 -I"/home/biocbuild/bbs-3.12-bioc/R/include" -DNDEBUG -I'/home/biocbuild/bbs-3.12-bioc/R/library/Rcpp/include' -I'/home/biocbuild/bbs-3.12-bioc/R/library/BH/include' -I/usr/local/include -fpic -g -O2 -Wall -c fastGSEA.cpp -o fastGSEA.o
fastGSEA.cpp: In function ‘Rcpp::NumericVector calcGseaStatBatchCpp(const NumericVector&, const List&, const IntegerVector&)’:
fastGSEA.cpp:446:27: warning: comparison between signed and unsigned integer expressions [-Wsign-compare]
for (int j = 0; j < S.size(); ++j) {
~~^~~~~~~~~~
g++ -std=gnu++11 -I"/home/biocbuild/bbs-3.12-bioc/R/include" -DNDEBUG -I'/home/biocbuild/bbs-3.12-bioc/R/library/Rcpp/include' -I'/home/biocbuild/bbs-3.12-bioc/R/library/BH/include' -I/usr/local/include -fpic -g -O2 -Wall -c fgseaMultilevel.cpp -o fgseaMultilevel.o
fgseaMultilevel.cpp: In function ‘Rcpp::DataFrame fgseaMultilevelCpp(const NumericVector&, const NumericVector&, int, int, int, double, bool)’:
fgseaMultilevel.cpp:10:23: warning: comparison between signed and unsigned integer expressions [-Wsign-compare]
for (int i = 0; i < posRanks.size(); i++) {
~~^~~~~~~~~~~~~~~~~
g++ -std=gnu++11 -I"/home/biocbuild/bbs-3.12-bioc/R/include" -DNDEBUG -I'/home/biocbuild/bbs-3.12-bioc/R/library/Rcpp/include' -I'/home/biocbuild/bbs-3.12-bioc/R/library/BH/include' -I/usr/local/include -fpic -g -O2 -Wall -c fgseaMultilevelSupplement.cpp -o fgseaMultilevelSupplement.o
fgseaMultilevelSupplement.cpp: In member function ‘void EsRuler::duplicateSamples()’:
fgseaMultilevelSupplement.cpp:44:37: warning: comparison between signed and unsigned integer expressions [-Wsign-compare]
for (int sampleId = 0; sampleId < sampleSize; sampleId++) {
~~~~~~~~~^~~~~~~~~~~~
fgseaMultilevelSupplement.cpp:54:41: warning: comparison between signed and unsigned integer expressions [-Wsign-compare]
for (int sampleId = 0; 2 * sampleId < sampleSize; sampleId++) {
~~~~~~~~~~~~~^~~~~~~~~~~~
fgseaMultilevelSupplement.cpp:63:41: warning: comparison between signed and unsigned integer expressions [-Wsign-compare]
for (int sampleId = 0; 2 * sampleId < sampleSize - 2; sampleId++) {
~~~~~~~~~~~~~^~~~~~~~~~~~~~~~
fgseaMultilevelSupplement.cpp: In member function ‘void EsRuler::extend(double, int, double)’:
fgseaMultilevelSupplement.cpp:77:37: warning: comparison between signed and unsigned integer expressions [-Wsign-compare]
for (int sampleId = 0; sampleId < sampleSize; sampleId++) {
~~~~~~~~~^~~~~~~~~~~~
fgseaMultilevelSupplement.cpp:81:16: warning: unused variable ‘currentES’ [-Wunused-variable]
double currentES = calcES(ranks, currentSamples[sampleId]);
^~~~~~~~~
fgseaMultilevelSupplement.cpp:94:31: warning: comparison between signed and unsigned integer expressions [-Wsign-compare]
for (int j = 0; j < sampleSize; ++j) {
~~^~~~~~~~~~~~
fgseaMultilevelSupplement.cpp:101:27: warning: comparison between signed and unsigned integer expressions [-Wsign-compare]
for (int i = 0; i < sampleSize; ++i) {
~~^~~~~~~~~~~~
fgseaMultilevelSupplement.cpp:116:35: warning: comparison between signed and unsigned integer expressions [-Wsign-compare]
for (int moves = 0; moves < sampleSize * pathwaySize;) {
~~~~~~^~~~~~~~~~~~~~~~~~~~~~~~~~
fgseaMultilevelSupplement.cpp:117:45: warning: comparison between signed and unsigned integer expressions [-Wsign-compare]
for (int sampleId = 0; sampleId < sampleSize; sampleId++) {
~~~~~~~~~^~~~~~~~~~~~
fgseaMultilevelSupplement.cpp:122:27: warning: comparison between signed and unsigned integer expressions [-Wsign-compare]
for (int i = 0; i < sampleSize; ++i) {
~~^~~~~~~~~~~~
fgseaMultilevelSupplement.cpp: In member function ‘int EsRuler::perturbate(const std::vector<double>&, int, EsRuler::SampleChunks&, double, std::mt19937&)’:
fgseaMultilevelSupplement.cpp:264:14: warning: unused variable ‘fl’ [-Wunused-variable]
bool fl = false;
^~
g++ -std=gnu++11 -I"/home/biocbuild/bbs-3.12-bioc/R/include" -DNDEBUG -I'/home/biocbuild/bbs-3.12-bioc/R/library/Rcpp/include' -I'/home/biocbuild/bbs-3.12-bioc/R/library/BH/include' -I/usr/local/include -fpic -g -O2 -Wall -c util.cpp -o util.o
g++ -std=gnu++11 -shared -L/home/biocbuild/bbs-3.12-bioc/R/lib -L/usr/local/lib -o fgsea.so RcppExports.o esCalculation.o fastGSEA.o fgseaMultilevel.o fgseaMultilevelSupplement.o util.o -L/home/biocbuild/bbs-3.12-bioc/R/lib -lR
installing to /home/biocbuild/bbs-3.12-bioc/R/library/00LOCK-fgsea/00new/fgsea/libs
** R
** data
*** moving datasets to lazyload DB
** inst
** byte-compile and prepare package for lazy loading
** help
*** installing help indices
** building package indices
** installing vignettes
** testing if installed package can be loaded from temporary location
** checking absolute paths in shared objects and dynamic libraries
** testing if installed package can be loaded from final location
** testing if installed package keeps a record of temporary installation path
* DONE (fgsea)