| Back to Multiple platform build/check report for BioC 3.12 |
|
This page was generated on 2021-05-06 12:31:04 -0400 (Thu, 06 May 2021).
|
To the developers/maintainers of the esetVis package: Please make sure to use the following settings in order to reproduce any error or warning you see on this page. |
| Package 570/1974 | Hostname | OS / Arch | INSTALL | BUILD | CHECK | BUILD BIN | ||||||||
| esetVis 1.16.0 (landing page) Laure Cougnaud
| malbec1 | Linux (Ubuntu 18.04.5 LTS) / x86_64 | OK | OK | OK | |||||||||
| tokay1 | Windows Server 2012 R2 Standard / x64 | OK | OK | OK | OK | |||||||||
| merida1 | macOS 10.14.6 Mojave / x86_64 | OK | OK | OK | OK | |||||||||
| Package: esetVis |
| Version: 1.16.0 |
| Command: rm -rf esetVis.buildbin-libdir && mkdir esetVis.buildbin-libdir && C:\Users\biocbuild\bbs-3.12-bioc\R\bin\R.exe CMD INSTALL --merge-multiarch --build --library=esetVis.buildbin-libdir esetVis_1.16.0.tar.gz |
| StartedAt: 2021-05-06 09:01:58 -0400 (Thu, 06 May 2021) |
| EndedAt: 2021-05-06 09:02:39 -0400 (Thu, 06 May 2021) |
| EllapsedTime: 40.4 seconds |
| RetCode: 0 |
| Status: OK |
| PackageFile: esetVis_1.16.0.zip |
| PackageFileSize: 1.68 MiB |
##############################################################################
##############################################################################
###
### Running command:
###
### rm -rf esetVis.buildbin-libdir && mkdir esetVis.buildbin-libdir && C:\Users\biocbuild\bbs-3.12-bioc\R\bin\R.exe CMD INSTALL --merge-multiarch --build --library=esetVis.buildbin-libdir esetVis_1.16.0.tar.gz
###
##############################################################################
##############################################################################
install for i386
* installing *source* package 'esetVis' ...
** using staged installation
** R
** inst
** byte-compile and prepare package for lazy loading
** help
*** installing help indices
converting help for package 'esetVis'
finding HTML links ... done
characterORexpressionOrCall-class html
esetLda html
finding level-2 HTML links ... done
esetPlot-class html
esetPlotInteractive-class html
esetPlotWrapper html
esetSpectralMap html
esetTsne html
formatManualScale html
formatOutput html
getAxesLimits-methods html
getCoordGeneSets html
getDataPlotSamplesWithAnnotation-methods
html
getGeneSetsForPlot html
getMethodsInputObjectEsetVis html
ggPlotEset html
ggplotEsetPlot-class html
ggvisEsetPlot-class html
ggvisPlotEset html
plotEset-methods html
plotTopElements html
rbokehEsetPlot-class html
rbokehPlotEset html
setFixElement html
setManualScale html
simpleCap html
** building package indices
** installing vignettes
** testing if installed package can be loaded from temporary location
** testing if installed package can be loaded from final location
** testing if installed package keeps a record of temporary installation path
install for x64
* installing *source* package 'esetVis' ...
** testing if installed package can be loaded
* MD5 sums
packaged installation of 'esetVis' as esetVis_1.16.0.zip
* DONE (esetVis)