| Back to Multiple platform build/check report for BioC 3.12 |
|
This page was generated on 2021-05-06 12:27:29 -0400 (Thu, 06 May 2021).
|
To the developers/maintainers of the epihet package: Please make sure to use the following settings in order to reproduce any error or warning you see on this page. |
| Package 557/1974 | Hostname | OS / Arch | INSTALL | BUILD | CHECK | BUILD BIN | ||||||||
| epihet 1.6.1 (landing page) Xiaowen Chen
| malbec1 | Linux (Ubuntu 18.04.5 LTS) / x86_64 | OK | OK | OK | |||||||||
| tokay1 | Windows Server 2012 R2 Standard / x64 | OK | OK | OK | OK | |||||||||
| merida1 | macOS 10.14.6 Mojave / x86_64 | OK | OK | OK | OK | |||||||||
| Package: epihet |
| Version: 1.6.1 |
| Command: /home/biocbuild/bbs-3.12-bioc/R/bin/R CMD check --install=check:epihet.install-out.txt --library=/home/biocbuild/bbs-3.12-bioc/R/library --no-vignettes --timings epihet_1.6.1.tar.gz |
| StartedAt: 2021-05-06 01:19:09 -0400 (Thu, 06 May 2021) |
| EndedAt: 2021-05-06 01:22:44 -0400 (Thu, 06 May 2021) |
| EllapsedTime: 214.3 seconds |
| RetCode: 0 |
| Status: OK |
| CheckDir: epihet.Rcheck |
| Warnings: 0 |
##############################################################################
##############################################################################
###
### Running command:
###
### /home/biocbuild/bbs-3.12-bioc/R/bin/R CMD check --install=check:epihet.install-out.txt --library=/home/biocbuild/bbs-3.12-bioc/R/library --no-vignettes --timings epihet_1.6.1.tar.gz
###
##############################################################################
##############################################################################
* using log directory ‘/home/biocbuild/bbs-3.12-bioc/meat/epihet.Rcheck’
* using R version 4.0.5 (2021-03-31)
* using platform: x86_64-pc-linux-gnu (64-bit)
* using session charset: UTF-8
* using option ‘--no-vignettes’
* checking for file ‘epihet/DESCRIPTION’ ... OK
* this is package ‘epihet’ version ‘1.6.1’
* package encoding: UTF-8
* checking package namespace information ... OK
* checking package dependencies ... NOTE
Depends: includes the non-default packages:
'GenomicRanges', 'IRanges', 'S4Vectors', 'ggplot2', 'foreach',
'Rtsne', 'igraph'
Adding so many packages to the search path is excessive and importing
selectively is preferable.
* checking if this is a source package ... OK
* checking if there is a namespace ... OK
* checking for hidden files and directories ... OK
* checking for portable file names ... OK
* checking for sufficient/correct file permissions ... OK
* checking whether package ‘epihet’ can be installed ... OK
* checking installed package size ... OK
* checking package directory ... OK
* checking ‘build’ directory ... OK
* checking DESCRIPTION meta-information ... OK
* checking top-level files ... OK
* checking for left-over files ... OK
* checking index information ... OK
* checking package subdirectories ... OK
* checking R files for non-ASCII characters ... OK
* checking R files for syntax errors ... OK
* checking whether the package can be loaded ... OK
* checking whether the package can be loaded with stated dependencies ... OK
* checking whether the package can be unloaded cleanly ... OK
* checking whether the namespace can be loaded with stated dependencies ... OK
* checking whether the namespace can be unloaded cleanly ... OK
* checking dependencies in R code ... OK
* checking S3 generic/method consistency ... OK
* checking replacement functions ... OK
* checking foreign function calls ... OK
* checking R code for possible problems ... OK
* checking Rd files ... OK
* checking Rd metadata ... OK
* checking Rd cross-references ... OK
* checking for missing documentation entries ... OK
* checking for code/documentation mismatches ... OK
* checking Rd \usage sections ... OK
* checking Rd contents ... OK
* checking for unstated dependencies in examples ... OK
* checking contents of ‘data’ directory ... OK
* checking data for non-ASCII characters ... OK
* checking data for ASCII and uncompressed saves ... OK
* checking files in ‘vignettes’ ... OK
* checking examples ... OK
Examples with CPU (user + system) or elapsed time > 5s
user system elapsed
epiPathway 12.34 0.1 13.68
* checking for unstated dependencies in vignettes ... OK
* checking package vignettes in ‘inst/doc’ ... OK
* checking running R code from vignettes ... SKIPPED
* checking re-building of vignette outputs ... SKIPPED
* checking PDF version of manual ... OK
* DONE
Status: 1 NOTE
See
‘/home/biocbuild/bbs-3.12-bioc/meat/epihet.Rcheck/00check.log’
for details.
epihet.Rcheck/00install.out
############################################################################## ############################################################################## ### ### Running command: ### ### /home/biocbuild/bbs-3.12-bioc/R/bin/R CMD INSTALL epihet ### ############################################################################## ############################################################################## * installing to library ‘/home/biocbuild/bbs-3.12-bioc/R/library’ * installing *source* package ‘epihet’ ... ** using staged installation ** R ** data ** inst ** byte-compile and prepare package for lazy loading ** help *** installing help indices ** building package indices ** installing vignettes ** testing if installed package can be loaded from temporary location ** testing if installed package can be loaded from final location ** testing if installed package keeps a record of temporary installation path * DONE (epihet)
epihet.Rcheck/epihet-Ex.timings
| name | user | system | elapsed | |
| compMatrix | 0.368 | 0.012 | 0.383 | |
| epiBox | 0.028 | 0.000 | 0.030 | |
| epiMA | 0.008 | 0.000 | 0.006 | |
| epiMap | 0.072 | 0.000 | 0.070 | |
| epiPCA | 0.400 | 0.000 | 0.693 | |
| epiPathway | 12.34 | 0.10 | 13.68 | |
| epiTSNE | 0.252 | 0.000 | 0.251 | |
| jaccard | 0.004 | 0.004 | 0.009 | |
| makeGR | 0.160 | 0.180 | 0.615 | |
| moduleAnno | 0.204 | 0.020 | 0.224 | |
| moduleSim | 0.036 | 0.000 | 0.036 | |
| moduleVisual | 0.144 | 0.020 | 0.163 | |
| readGR | 0.024 | 0.032 | 0.060 | |
| shannon | 0.004 | 0.000 | 0.000 | |
| splitn | 0 | 0 | 0 | |
| summarize | 0.092 | 0.012 | 0.106 | |
| userobj | 0.020 | 0.004 | 0.028 | |