| Back to Multiple platform build/check report for BioC 3.12 |
|
This page was generated on 2021-05-06 12:31:00 -0400 (Thu, 06 May 2021).
|
To the developers/maintainers of the dualKS package: Please make sure to use the following settings in order to reproduce any error or warning you see on this page. |
| Package 515/1974 | Hostname | OS / Arch | INSTALL | BUILD | CHECK | BUILD BIN | ||||||||
| dualKS 1.50.0 (landing page) Eric J. Kort
| malbec1 | Linux (Ubuntu 18.04.5 LTS) / x86_64 | OK | OK | OK | |||||||||
| tokay1 | Windows Server 2012 R2 Standard / x64 | OK | OK | OK | OK | |||||||||
| merida1 | macOS 10.14.6 Mojave / x86_64 | OK | OK | OK | OK | |||||||||
| Package: dualKS |
| Version: 1.50.0 |
| Command: C:\cygwin\bin\curl.exe -O http://172.29.0.3/BBS/3.12/bioc/src/contrib/dualKS_1.50.0.tar.gz && rm -rf dualKS.buildbin-libdir && mkdir dualKS.buildbin-libdir && C:\Users\biocbuild\bbs-3.12-bioc\R\bin\R.exe CMD INSTALL --merge-multiarch --build --library=dualKS.buildbin-libdir dualKS_1.50.0.tar.gz && C:\Users\biocbuild\bbs-3.12-bioc\R\bin\R.exe CMD INSTALL dualKS_1.50.0.zip && rm dualKS_1.50.0.tar.gz dualKS_1.50.0.zip |
| StartedAt: 2021-05-05 17:07:35 -0400 (Wed, 05 May 2021) |
| EndedAt: 2021-05-05 17:07:53 -0400 (Wed, 05 May 2021) |
| EllapsedTime: 18.5 seconds |
| RetCode: 0 |
| Status: OK |
##############################################################################
##############################################################################
###
### Running command:
###
### C:\cygwin\bin\curl.exe -O http://172.29.0.3/BBS/3.12/bioc/src/contrib/dualKS_1.50.0.tar.gz && rm -rf dualKS.buildbin-libdir && mkdir dualKS.buildbin-libdir && C:\Users\biocbuild\bbs-3.12-bioc\R\bin\R.exe CMD INSTALL --merge-multiarch --build --library=dualKS.buildbin-libdir dualKS_1.50.0.tar.gz && C:\Users\biocbuild\bbs-3.12-bioc\R\bin\R.exe CMD INSTALL dualKS_1.50.0.zip && rm dualKS_1.50.0.tar.gz dualKS_1.50.0.zip
###
##############################################################################
##############################################################################
% Total % Received % Xferd Average Speed Time Time Time Current
Dload Upload Total Spent Left Speed
0 0 0 0 0 0 0 0 --:--:-- --:--:-- --:--:-- 0
100 161k 100 161k 0 0 3515k 0 --:--:-- --:--:-- --:--:-- 3592k
install for i386
* installing *source* package 'dualKS' ...
** using staged installation
** R
** data
** byte-compile and prepare package for lazy loading
** help
*** installing help indices
converting help for package 'dualKS'
finding HTML links ... done
KS html
class.DKSClassifier html
class.DKSGeneScores html
class.DKSGeneSet html
class.DKSPredicted html
dks html
dksClassify html
dksCustomClass html
dksPerm html
dksSelectGenes html
dksTrain html
dksWeights html
dualKS-package html
** building package indices
** installing vignettes
** testing if installed package can be loaded from temporary location
** testing if installed package can be loaded from final location
** testing if installed package keeps a record of temporary installation path
install for x64
* installing *source* package 'dualKS' ...
** testing if installed package can be loaded
* MD5 sums
packaged installation of 'dualKS' as dualKS_1.50.0.zip
* DONE (dualKS)
* installing to library 'C:/Users/biocbuild/bbs-3.12-bioc/R/library'
package 'dualKS' successfully unpacked and MD5 sums checked