| Back to Multiple platform build/check report for BioC 3.12 |
|
This page was generated on 2021-05-06 12:30:31 -0400 (Thu, 06 May 2021).
|
To the developers/maintainers of the crisprseekplus package: Please make sure to use the following settings in order to reproduce any error or warning you see on this page. |
| Package 396/1974 | Hostname | OS / Arch | INSTALL | BUILD | CHECK | BUILD BIN | ||||||||
| crisprseekplus 1.16.0 (landing page) Alper Kucukural
| malbec1 | Linux (Ubuntu 18.04.5 LTS) / x86_64 | OK | OK | OK | |||||||||
| tokay1 | Windows Server 2012 R2 Standard / x64 | OK | OK | OK | OK | |||||||||
| merida1 | macOS 10.14.6 Mojave / x86_64 | OK | OK | OK | OK | |||||||||
| Package: crisprseekplus |
| Version: 1.16.0 |
| Command: rm -rf crisprseekplus.buildbin-libdir && mkdir crisprseekplus.buildbin-libdir && C:\Users\biocbuild\bbs-3.12-bioc\R\bin\R.exe CMD INSTALL --merge-multiarch --build --library=crisprseekplus.buildbin-libdir crisprseekplus_1.16.0.tar.gz |
| StartedAt: 2021-05-06 08:49:23 -0400 (Thu, 06 May 2021) |
| EndedAt: 2021-05-06 08:50:47 -0400 (Thu, 06 May 2021) |
| EllapsedTime: 83.7 seconds |
| RetCode: 0 |
| Status: OK |
| PackageFile: crisprseekplus_1.16.0.zip |
| PackageFileSize: 368.5 KiB |
##############################################################################
##############################################################################
###
### Running command:
###
### rm -rf crisprseekplus.buildbin-libdir && mkdir crisprseekplus.buildbin-libdir && C:\Users\biocbuild\bbs-3.12-bioc\R\bin\R.exe CMD INSTALL --merge-multiarch --build --library=crisprseekplus.buildbin-libdir crisprseekplus_1.16.0.tar.gz
###
##############################################################################
##############################################################################
install for i386
* installing *source* package 'crisprseekplus' ...
** using staged installation
** R
** inst
** byte-compile and prepare package for lazy loading
** help
*** installing help indices
converting help for package 'crisprseekplus'
finding HTML links ... done
cspServer html
cspUI html
disableDownload html
fileInputFunc html
getLoadingMsg html
getLogo html
installpack html
startcrisprseekplus html
trueFalseFunc html
** building package indices
** installing vignettes
** testing if installed package can be loaded from temporary location
** testing if installed package can be loaded from final location
** testing if installed package keeps a record of temporary installation path
install for x64
* installing *source* package 'crisprseekplus' ...
** testing if installed package can be loaded
* MD5 sums
packaged installation of 'crisprseekplus' as crisprseekplus_1.16.0.zip
* DONE (crisprseekplus)