| Back to Multiple platform build/check report for BioC 3.12 |
|
This page was generated on 2021-05-06 12:30:31 -0400 (Thu, 06 May 2021).
|
To the developers/maintainers of the cqn package: Please make sure to use the following settings in order to reproduce any error or warning you see on this page. |
| Package 393/1974 | Hostname | OS / Arch | INSTALL | BUILD | CHECK | BUILD BIN | ||||||||
| cqn 1.36.0 (landing page) Kasper Daniel Hansen
| malbec1 | Linux (Ubuntu 18.04.5 LTS) / x86_64 | OK | OK | OK | |||||||||
| tokay1 | Windows Server 2012 R2 Standard / x64 | OK | OK | OK | OK | |||||||||
| merida1 | macOS 10.14.6 Mojave / x86_64 | OK | OK | OK | OK | |||||||||
| Package: cqn |
| Version: 1.36.0 |
| Command: rm -rf cqn.buildbin-libdir && mkdir cqn.buildbin-libdir && C:\Users\biocbuild\bbs-3.12-bioc\R\bin\R.exe CMD INSTALL --merge-multiarch --build --library=cqn.buildbin-libdir cqn_1.36.0.tar.gz |
| StartedAt: 2021-05-06 08:49:09 -0400 (Thu, 06 May 2021) |
| EndedAt: 2021-05-06 08:49:49 -0400 (Thu, 06 May 2021) |
| EllapsedTime: 39.9 seconds |
| RetCode: 0 |
| Status: OK |
| PackageFile: cqn_1.36.0.zip |
| PackageFileSize: 745.1 KiB |
##############################################################################
##############################################################################
###
### Running command:
###
### rm -rf cqn.buildbin-libdir && mkdir cqn.buildbin-libdir && C:\Users\biocbuild\bbs-3.12-bioc\R\bin\R.exe CMD INSTALL --merge-multiarch --build --library=cqn.buildbin-libdir cqn_1.36.0.tar.gz
###
##############################################################################
##############################################################################
install for i386
* installing *source* package 'cqn' ...
** using staged installation
** R
** data
** inst
** byte-compile and prepare package for lazy loading
Warning message:
In .recacheSubclasses(def@className, def, env) :
undefined subclass "numericVector" of class "Mnumeric"; definition not updated
** help
*** installing help indices
converting help for package 'cqn'
finding HTML links ... done
cqn html
cqnplot html
montgomery.subset html
** building package indices
** installing vignettes
** testing if installed package can be loaded from temporary location
Warning in .recacheSubclasses(def@className, def, env) :
undefined subclass "numericVector" of class "Mnumeric"; definition not updated
** testing if installed package can be loaded from final location
Warning in .recacheSubclasses(def@className, def, env) :
undefined subclass "numericVector" of class "Mnumeric"; definition not updated
** testing if installed package keeps a record of temporary installation path
install for x64
* installing *source* package 'cqn' ...
** testing if installed package can be loaded
Warning in .recacheSubclasses(def@className, def, env) :
undefined subclass "numericVector" of class "Mnumeric"; definition not updated
* MD5 sums
packaged installation of 'cqn' as cqn_1.36.0.zip
* DONE (cqn)