| Back to Multiple platform build/check report for BioC 3.12 |
|
This page was generated on 2021-05-06 12:30:29 -0400 (Thu, 06 May 2021).
|
To the developers/maintainers of the corral package: Please make sure to use the following settings in order to reproduce any error or warning you see on this page. |
| Package 382/1974 | Hostname | OS / Arch | INSTALL | BUILD | CHECK | BUILD BIN | ||||||||
| corral 1.0.0 (landing page) Lauren Hsu
| malbec1 | Linux (Ubuntu 18.04.5 LTS) / x86_64 | OK | OK | OK | |||||||||
| tokay1 | Windows Server 2012 R2 Standard / x64 | OK | OK | OK | OK | |||||||||
| merida1 | macOS 10.14.6 Mojave / x86_64 | OK | OK | OK | OK | |||||||||
| Package: corral |
| Version: 1.0.0 |
| Command: C:\Users\biocbuild\bbs-3.12-bioc\R\bin\R.exe CMD check --force-multiarch --install=check:corral.install-out.txt --library=C:\Users\biocbuild\bbs-3.12-bioc\R\library --no-vignettes --timings corral_1.0.0.tar.gz |
| StartedAt: 2021-05-06 01:48:06 -0400 (Thu, 06 May 2021) |
| EndedAt: 2021-05-06 01:55:45 -0400 (Thu, 06 May 2021) |
| EllapsedTime: 458.4 seconds |
| RetCode: 0 |
| Status: OK |
| CheckDir: corral.Rcheck |
| Warnings: 0 |
##############################################################################
##############################################################################
###
### Running command:
###
### C:\Users\biocbuild\bbs-3.12-bioc\R\bin\R.exe CMD check --force-multiarch --install=check:corral.install-out.txt --library=C:\Users\biocbuild\bbs-3.12-bioc\R\library --no-vignettes --timings corral_1.0.0.tar.gz
###
##############################################################################
##############################################################################
* using log directory 'C:/Users/biocbuild/bbs-3.12-bioc/meat/corral.Rcheck'
* using R version 4.0.5 (2021-03-31)
* using platform: x86_64-w64-mingw32 (64-bit)
* using session charset: ISO8859-1
* using option '--no-vignettes'
* checking for file 'corral/DESCRIPTION' ... OK
* this is package 'corral' version '1.0.0'
* package encoding: UTF-8
* checking package namespace information ... OK
* checking package dependencies ... OK
* checking if this is a source package ... OK
* checking if there is a namespace ... OK
* checking for hidden files and directories ... OK
* checking for portable file names ... OK
* checking whether package 'corral' can be installed ... OK
* checking installed package size ... OK
* checking package directory ... OK
* checking 'build' directory ... OK
* checking DESCRIPTION meta-information ... OK
* checking top-level files ... OK
* checking for left-over files ... OK
* checking index information ... OK
* checking package subdirectories ... OK
* checking R files for non-ASCII characters ... OK
* checking R files for syntax errors ... OK
* loading checks for arch 'i386'
** checking whether the package can be loaded ... OK
** checking whether the package can be loaded with stated dependencies ... OK
** checking whether the package can be unloaded cleanly ... OK
** checking whether the namespace can be loaded with stated dependencies ... OK
** checking whether the namespace can be unloaded cleanly ... OK
* loading checks for arch 'x64'
** checking whether the package can be loaded ... OK
** checking whether the package can be loaded with stated dependencies ... OK
** checking whether the package can be unloaded cleanly ... OK
** checking whether the namespace can be loaded with stated dependencies ... OK
** checking whether the namespace can be unloaded cleanly ... OK
* checking dependencies in R code ... NOTE
Unexported object imported by a ':::' call: 'ggthemes:::check_pal_n'
See the note in ?`:::` about the use of this operator.
* checking S3 generic/method consistency ... OK
* checking replacement functions ... OK
* checking foreign function calls ... OK
* checking R code for possible problems ... NOTE
plot_embedding: no visible binding for global variable 'Xdim'
plot_embedding: no visible binding for global variable 'Ydim'
Undefined global functions or variables:
Xdim Ydim
* checking Rd files ... OK
* checking Rd metadata ... OK
* checking Rd cross-references ... OK
* checking for missing documentation entries ... OK
* checking for code/documentation mismatches ... OK
* checking Rd \usage sections ... OK
* checking Rd contents ... OK
* checking for unstated dependencies in examples ... OK
* checking files in 'vignettes' ... OK
* checking examples ...
** running examples for arch 'i386' ... OK
Examples with CPU (user + system) or elapsed time > 5s
user system elapsed
corralm 27.41 2.22 30.78
add_embeddings2scelist 23.99 2.64 27.50
corral 22.92 2.20 25.84
plot_embedding_sce 12.92 1.15 14.42
sce2matlist 11.66 1.10 13.14
** running examples for arch 'x64' ... OK
Examples with CPU (user + system) or elapsed time > 5s
user system elapsed
corralm 25.17 2.11 28.17
corral 21.26 2.19 24.14
add_embeddings2scelist 20.62 1.98 23.44
plot_embedding_sce 15.08 1.33 16.76
sce2matlist 14.31 1.41 17.66
* checking for unstated dependencies in 'tests' ... OK
* checking tests ...
** running tests for arch 'i386' ...
Running 'testthat.R'
OK
** running tests for arch 'x64' ...
Running 'testthat.R'
OK
* checking for unstated dependencies in vignettes ... OK
* checking package vignettes in 'inst/doc' ... OK
* checking running R code from vignettes ... SKIPPED
* checking re-building of vignette outputs ... SKIPPED
* checking PDF version of manual ... OK
* DONE
Status: 2 NOTEs
See
'C:/Users/biocbuild/bbs-3.12-bioc/meat/corral.Rcheck/00check.log'
for details.
corral.Rcheck/00install.out
##############################################################################
##############################################################################
###
### Running command:
###
### C:\cygwin\bin\curl.exe -O http://172.29.0.3/BBS/3.12/bioc/src/contrib/corral_1.0.0.tar.gz && rm -rf corral.buildbin-libdir && mkdir corral.buildbin-libdir && C:\Users\biocbuild\bbs-3.12-bioc\R\bin\R.exe CMD INSTALL --merge-multiarch --build --library=corral.buildbin-libdir corral_1.0.0.tar.gz && C:\Users\biocbuild\bbs-3.12-bioc\R\bin\R.exe CMD INSTALL corral_1.0.0.zip && rm corral_1.0.0.tar.gz corral_1.0.0.zip
###
##############################################################################
##############################################################################
% Total % Received % Xferd Average Speed Time Time Time Current
Dload Upload Total Spent Left Speed
0 0 0 0 0 0 0 0 --:--:-- --:--:-- --:--:-- 0
100 363k 100 363k 0 0 10.8M 0 --:--:-- --:--:-- --:--:-- 11.1M
install for i386
* installing *source* package 'corral' ...
** using staged installation
** R
** byte-compile and prepare package for lazy loading
** help
*** installing help indices
converting help for package 'corral'
finding HTML links ... done
add_embeddings2scelist html
all_are html
compsvd html
corral html
finding level-2 HTML links ... done
corral_preproc html
corralm html
earthmover_dist html
get_pct_var_exp_svd html
get_weights html
list2mat html
na2zero html
obs2probs html
pairwise_rv html
plot_embedding html
plot_embedding_sce html
rv html
sce2matlist html
** building package indices
** installing vignettes
** testing if installed package can be loaded from temporary location
** testing if installed package can be loaded from final location
** testing if installed package keeps a record of temporary installation path
install for x64
* installing *source* package 'corral' ...
** testing if installed package can be loaded
* MD5 sums
packaged installation of 'corral' as corral_1.0.0.zip
* DONE (corral)
* installing to library 'C:/Users/biocbuild/bbs-3.12-bioc/R/library'
package 'corral' successfully unpacked and MD5 sums checked
|
corral.Rcheck/tests_i386/testthat.Rout R version 4.0.5 (2021-03-31) -- "Shake and Throw" Copyright (C) 2021 The R Foundation for Statistical Computing Platform: i386-w64-mingw32/i386 (32-bit) R is free software and comes with ABSOLUTELY NO WARRANTY. You are welcome to redistribute it under certain conditions. Type 'license()' or 'licence()' for distribution details. R is a collaborative project with many contributors. Type 'contributors()' for more information and 'citation()' on how to cite R or R packages in publications. Type 'demo()' for some demos, 'help()' for on-line help, or 'help.start()' for an HTML browser interface to help. Type 'q()' to quit R. > > proc.time() user system elapsed 0.25 0.06 0.29 |
corral.Rcheck/tests_x64/testthat.Rout R version 4.0.5 (2021-03-31) -- "Shake and Throw" Copyright (C) 2021 The R Foundation for Statistical Computing Platform: x86_64-w64-mingw32/x64 (64-bit) R is free software and comes with ABSOLUTELY NO WARRANTY. You are welcome to redistribute it under certain conditions. Type 'license()' or 'licence()' for distribution details. R is a collaborative project with many contributors. Type 'contributors()' for more information and 'citation()' on how to cite R or R packages in publications. Type 'demo()' for some demos, 'help()' for on-line help, or 'help.start()' for an HTML browser interface to help. Type 'q()' to quit R. > > proc.time() user system elapsed 0.28 0.03 0.29 |
|
corral.Rcheck/examples_i386/corral-Ex.timings
|
corral.Rcheck/examples_x64/corral-Ex.timings
|