| Back to Multiple platform build/check report for BioC 3.12 |
|
This page was generated on 2021-05-06 12:27:13 -0400 (Thu, 06 May 2021).
|
To the developers/maintainers of the coMET package: Please make sure to use the following settings in order to reproduce any error or warning you see on this page. |
| Package 356/1974 | Hostname | OS / Arch | INSTALL | BUILD | CHECK | BUILD BIN | ||||||||
| coMET 1.22.0 (landing page) Tiphaine Martin
| malbec1 | Linux (Ubuntu 18.04.5 LTS) / x86_64 | OK | OK | OK | |||||||||
| tokay1 | Windows Server 2012 R2 Standard / x64 | OK | OK | OK | OK | |||||||||
| merida1 | macOS 10.14.6 Mojave / x86_64 | OK | OK | OK | OK | |||||||||
| Package: coMET |
| Version: 1.22.0 |
| Command: /home/biocbuild/bbs-3.12-bioc/R/bin/R CMD check --install=check:coMET.install-out.txt --library=/home/biocbuild/bbs-3.12-bioc/R/library --no-vignettes --timings coMET_1.22.0.tar.gz |
| StartedAt: 2021-05-06 00:19:58 -0400 (Thu, 06 May 2021) |
| EndedAt: 2021-05-06 00:30:01 -0400 (Thu, 06 May 2021) |
| EllapsedTime: 603.4 seconds |
| RetCode: 0 |
| Status: OK |
| CheckDir: coMET.Rcheck |
| Warnings: 0 |
##############################################################################
##############################################################################
###
### Running command:
###
### /home/biocbuild/bbs-3.12-bioc/R/bin/R CMD check --install=check:coMET.install-out.txt --library=/home/biocbuild/bbs-3.12-bioc/R/library --no-vignettes --timings coMET_1.22.0.tar.gz
###
##############################################################################
##############################################################################
* using log directory ‘/home/biocbuild/bbs-3.12-bioc/meat/coMET.Rcheck’
* using R version 4.0.5 (2021-03-31)
* using platform: x86_64-pc-linux-gnu (64-bit)
* using session charset: UTF-8
* using option ‘--no-vignettes’
* checking for file ‘coMET/DESCRIPTION’ ... OK
* checking extension type ... Package
* this is package ‘coMET’ version ‘1.22.0’
* checking package namespace information ... OK
* checking package dependencies ... OK
* checking if this is a source package ... OK
* checking if there is a namespace ... OK
* checking for hidden files and directories ... OK
* checking for portable file names ... OK
* checking for sufficient/correct file permissions ... OK
* checking whether package ‘coMET’ can be installed ... OK
* checking installed package size ... NOTE
installed size is 18.9Mb
sub-directories of 1Mb or more:
data 7.5Mb
extdata 10.7Mb
* checking package directory ... OK
* checking ‘build’ directory ... OK
* checking DESCRIPTION meta-information ... OK
* checking top-level files ... NOTE
File
LICENSE
is not mentioned in the DESCRIPTION file.
* checking for left-over files ... OK
* checking index information ... OK
* checking package subdirectories ... OK
* checking R files for non-ASCII characters ... OK
* checking R files for syntax errors ... OK
* checking whether the package can be loaded ... OK
* checking whether the package can be loaded with stated dependencies ... OK
* checking whether the package can be unloaded cleanly ... OK
* checking whether the namespace can be loaded with stated dependencies ... OK
* checking whether the namespace can be unloaded cleanly ... OK
* checking dependencies in R code ... OK
* checking S3 generic/method consistency ... OK
* checking replacement functions ... OK
* checking foreign function calls ... OK
* checking R code for possible problems ... NOTE
draw.plot.annotation : <anonymous>: no visible global function
definition for 'ggplotGrob'
draw.plot.annotation: no visible global function definition for
'viewTracks'
draw.plot.annotation: no visible global function definition for
'trackList'
eQTL: no visible binding for global variable 'chromosome_stop'
eQTL: no visible binding for global variable 'chromosome_start'
eQTL: no visible binding for global variable 'chromosome_name'
eQTL_GTEx: no visible binding for global variable 'snp_pos'
eQTL_GTEx: no visible binding for global variable 'snp_chrom'
eQTL_GTEx: no visible binding for global variable 'gene_start'
eQTL_GTEx: no visible binding for global variable 'gene_stop'
eQTL_GTEx: no visible binding for global variable 'gene_chr'
geneExpression_GTEx: no visible global function definition for 'as'
metQTL: no visible binding for global variable 'chromosome_stop'
metQTL: no visible binding for global variable 'chromosome_start'
metQTL: no visible binding for global variable 'chromosome_name'
psiQTL_GTEx: no visible binding for global variable 'pos_snp'
psiQTL_GTEx: no visible binding for global variable 'chr_snp'
psiQTL_GTEx: no visible binding for global variable 'pos_middle_exon'
psiQTL_GTEx: no visible binding for global variable 'chr_exon'
Undefined global functions or variables:
as chr_exon chr_snp chromosome_name chromosome_start chromosome_stop
gene_chr gene_start gene_stop ggplotGrob pos_middle_exon pos_snp
snp_chrom snp_pos trackList viewTracks
Consider adding
importFrom("methods", "as")
to your NAMESPACE file (and ensure that your DESCRIPTION Imports field
contains 'methods').
* checking Rd files ... OK
* checking Rd metadata ... OK
* checking Rd cross-references ... OK
* checking for missing documentation entries ... OK
* checking for code/documentation mismatches ... OK
* checking Rd \usage sections ... OK
* checking Rd contents ... OK
* checking for unstated dependencies in examples ... OK
* checking contents of ‘data’ directory ... OK
* checking data for non-ASCII characters ... OK
* checking data for ASCII and uncompressed saves ... OK
* checking files in ‘vignettes’ ... OK
* checking examples ... OK
Examples with CPU (user + system) or elapsed time > 5s
user system elapsed
comet.web 12.392 0.068 54.203
imprintedGenes_GTEx 7.312 0.012 7.384
HistoneAll_UCSC 5.844 0.000 5.854
coMET-package 5.564 0.044 17.495
chromatinHMMAll_UCSC 5.488 0.008 5.502
* checking for unstated dependencies in ‘tests’ ... OK
* checking tests ...
Running ‘runTests.R’
OK
* checking for unstated dependencies in vignettes ... OK
* checking package vignettes in ‘inst/doc’ ... OK
* checking running R code from vignettes ... SKIPPED
* checking re-building of vignette outputs ... SKIPPED
* checking PDF version of manual ... OK
* DONE
Status: 3 NOTEs
See
‘/home/biocbuild/bbs-3.12-bioc/meat/coMET.Rcheck/00check.log’
for details.
coMET.Rcheck/00install.out
############################################################################## ############################################################################## ### ### Running command: ### ### /home/biocbuild/bbs-3.12-bioc/R/bin/R CMD INSTALL coMET ### ############################################################################## ############################################################################## * installing to library ‘/home/biocbuild/bbs-3.12-bioc/R/library’ * installing *source* package ‘coMET’ ... ** using staged installation ** R ** data ** inst ** byte-compile and prepare package for lazy loading ** help *** installing help indices ** building package indices ** installing vignettes ** testing if installed package can be loaded from temporary location ** testing if installed package can be loaded from final location ** testing if installed package keeps a record of temporary installation path * DONE (coMET)
coMET.Rcheck/tests/runTests.Rout
R version 4.0.5 (2021-03-31) -- "Shake and Throw"
Copyright (C) 2021 The R Foundation for Statistical Computing
Platform: x86_64-pc-linux-gnu (64-bit)
R is free software and comes with ABSOLUTELY NO WARRANTY.
You are welcome to redistribute it under certain conditions.
Type 'license()' or 'licence()' for distribution details.
R is a collaborative project with many contributors.
Type 'contributors()' for more information and
'citation()' on how to cite R or R packages in publications.
Type 'demo()' for some demos, 'help()' for on-line help, or
'help.start()' for an HTML browser interface to help.
Type 'q()' to quit R.
> require("coMET") || stop("unable to load Package:coMET")
Loading required package: coMET
Loading required package: grid
Loading required package: biomaRt
Loading required package: Gviz
Loading required package: S4Vectors
Loading required package: stats4
Loading required package: BiocGenerics
Loading required package: parallel
Attaching package: 'BiocGenerics'
The following objects are masked from 'package:parallel':
clusterApply, clusterApplyLB, clusterCall, clusterEvalQ,
clusterExport, clusterMap, parApply, parCapply, parLapply,
parLapplyLB, parRapply, parSapply, parSapplyLB
The following objects are masked from 'package:stats':
IQR, mad, sd, var, xtabs
The following objects are masked from 'package:base':
Filter, Find, Map, Position, Reduce, anyDuplicated, append,
as.data.frame, basename, cbind, colnames, dirname, do.call,
duplicated, eval, evalq, get, grep, grepl, intersect, is.unsorted,
lapply, mapply, match, mget, order, paste, pmax, pmax.int, pmin,
pmin.int, rank, rbind, rownames, sapply, setdiff, sort, table,
tapply, union, unique, unsplit, which.max, which.min
Attaching package: 'S4Vectors'
The following object is masked from 'package:base':
expand.grid
Loading required package: IRanges
Loading required package: GenomicRanges
Loading required package: GenomeInfoDb
Loading required package: psych
Attaching package: 'psych'
The following object is masked from 'package:IRanges':
reflect
[1] TRUE
> BiocGenerics:::testPackage("coMET")
RUNIT TEST PROTOCOL -- Thu May 6 00:29:56 2021
***********************************************
Number of test functions: 1
Number of errors: 0
Number of failures: 0
1 Test Suite :
coMET RUnit Tests - 1 test function, 0 errors, 0 failures
Number of test functions: 1
Number of errors: 0
Number of failures: 0
>
> proc.time()
user system elapsed
17.988 0.436 19.923
coMET.Rcheck/coMET-Ex.timings
| name | user | system | elapsed | |
| COSMIC_UCSC | 2.124 | 0.012 | 2.135 | |
| ChIPTF_ENCODE | 0.96 | 0.04 | 1.00 | |
| ClinVarCnv_UCSC | 0.688 | 0.048 | 0.736 | |
| ClinVarMain_UCSC | 0.764 | 0.016 | 0.782 | |
| CoreillCNV_UCSC | 0.652 | 0.004 | 0.658 | |
| DNAse_UCSC | 0.796 | 0.000 | 0.799 | |
| DNaseI_FANTOM | 0.724 | 0.004 | 0.728 | |
| DNaseI_RoadMap | 0.244 | 0.004 | 0.251 | |
| GAD_UCSC | 0.636 | 0.000 | 0.640 | |
| GWAScatalog_UCSC | 0.420 | 0.000 | 0.424 | |
| GeneReviews_UCSC | 0.688 | 0.000 | 0.689 | |
| HiCdata2matrix | 0.024 | 0.004 | 0.029 | |
| HistoneAll_UCSC | 5.844 | 0.000 | 5.854 | |
| HistoneOne_UCSC | 0.528 | 0.004 | 0.536 | |
| ISCA_UCSC | 0.460 | 0.000 | 0.463 | |
| TFBS_FANTOM | 0.624 | 0.000 | 0.626 | |
| bindingMotifsBiomart_ENSEMBL | 0.2 | 0.0 | 0.2 | |
| chrUCSC2ENSEMBL | 0 | 0 | 0 | |
| chromHMM_RoadMap | 0.852 | 0.000 | 0.864 | |
| chromatinHMMAll_UCSC | 5.488 | 0.008 | 5.502 | |
| chromatinHMMOne_UCSC | 0.736 | 0.000 | 0.735 | |
| coMET-package | 5.564 | 0.044 | 17.495 | |
| comet | 3.544 | 0.008 | 3.562 | |
| comet.list | 1.252 | 0.000 | 1.260 | |
| comet.web | 12.392 | 0.068 | 54.203 | |
| cpgIslands_UCSC | 0.252 | 0.000 | 0.254 | |
| dgfootprints_RoadMap | 0.860 | 0.012 | 0.877 | |
| eQTL | 1.764 | 0.000 | 1.771 | |
| eQTL_GTEx | 1.448 | 0.000 | 1.447 | |
| gcContent_UCSC | 1.568 | 0.004 | 1.574 | |
| genesName_ENSEMBL | 0.008 | 0.000 | 0.005 | |
| genes_ENSEMBL | 1.184 | 0.004 | 1.192 | |
| imprintedGenes_GTEx | 7.312 | 0.012 | 7.384 | |
| interestGenes_ENSEMBL | 0.932 | 0.000 | 0.936 | |
| interestTranscript_ENSEMBL | 1.160 | 0.004 | 1.163 | |
| knownGenes_UCSC | 1.46 | 0.00 | 1.46 | |
| metQTL | 1.116 | 0.004 | 1.119 | |
| miRNATargetRegionsBiomart_ENSEMBL | 0.064 | 0.004 | 0.068 | |
| otherRegulatoryRegionsBiomart_ENSEMBL | 0.180 | 0.004 | 0.185 | |
| psiQTL_GTEx | 1.600 | 0.004 | 1.606 | |
| refGenes_UCSC | 1.292 | 0.000 | 1.300 | |
| regulationBiomart_ENSEMBL | 0.556 | 0.000 | 0.557 | |
| regulatoryEvidenceBiomart_ENSEMBL | 0.248 | 0.000 | 0.245 | |
| regulatoryFeaturesBiomart_ENSEMBL | 0.212 | 0.004 | 0.215 | |
| regulatorySegmentsBiomart_ENSEMBL | 0.152 | 0.000 | 0.152 | |
| repeatMasker_UCSC | 0.728 | 0.000 | 0.728 | |
| segmentalDups_UCSC | 0.440 | 0.004 | 0.446 | |
| snpBiomart_ENSEMBL | 0.508 | 0.000 | 0.508 | |
| snpLocations_UCSC | 1.704 | 0.004 | 1.708 | |
| structureBiomart_ENSEMBL | 0.784 | 0.004 | 0.789 | |
| transcript_ENSEMBL | 2.716 | 0.012 | 2.733 | |
| xenorefGenes_UCSC | 0.888 | 0.004 | 0.895 | |