| Back to Multiple platform build/check report for BioC 3.12 |
|
This page was generated on 2021-05-06 12:30:25 -0400 (Thu, 06 May 2021).
|
To the developers/maintainers of the cnvGSA package: Please make sure to use the following settings in order to reproduce any error or warning you see on this page. |
| Package 340/1974 | Hostname | OS / Arch | INSTALL | BUILD | CHECK | BUILD BIN | ||||||||
| cnvGSA 1.34.0 (landing page) Joseph Lugo
| malbec1 | Linux (Ubuntu 18.04.5 LTS) / x86_64 | OK | OK | OK | |||||||||
| tokay1 | Windows Server 2012 R2 Standard / x64 | OK | OK | OK | OK | |||||||||
| merida1 | macOS 10.14.6 Mojave / x86_64 | OK | OK | OK | OK | |||||||||
| Package: cnvGSA |
| Version: 1.34.0 |
| Command: rm -rf cnvGSA.buildbin-libdir && mkdir cnvGSA.buildbin-libdir && C:\Users\biocbuild\bbs-3.12-bioc\R\bin\R.exe CMD INSTALL --merge-multiarch --build --library=cnvGSA.buildbin-libdir cnvGSA_1.34.0.tar.gz |
| StartedAt: 2021-05-06 08:45:35 -0400 (Thu, 06 May 2021) |
| EndedAt: 2021-05-06 08:46:29 -0400 (Thu, 06 May 2021) |
| EllapsedTime: 54.3 seconds |
| RetCode: 0 |
| Status: OK |
| PackageFile: cnvGSA_1.34.0.zip |
| PackageFileSize: 385 KiB |
##############################################################################
##############################################################################
###
### Running command:
###
### rm -rf cnvGSA.buildbin-libdir && mkdir cnvGSA.buildbin-libdir && C:\Users\biocbuild\bbs-3.12-bioc\R\bin\R.exe CMD INSTALL --merge-multiarch --build --library=cnvGSA.buildbin-libdir cnvGSA_1.34.0.tar.gz
###
##############################################################################
##############################################################################
install for i386
* installing *source* package 'cnvGSA' ...
** using staged installation
** R
** inst
** byte-compile and prepare package for lazy loading
** help
*** installing help indices
converting help for package 'cnvGSA'
finding HTML links ... done
CnvGSAInput-class html
CnvGSAOutput-class html
cnvGSA-package html
cnvGSAIn html
cnvGSAgsTables html
cnvGSAlogRegTest html
f.enrFiles html
f.makeViz html
f.readConfig html
** building package indices
** installing vignettes
** testing if installed package can be loaded from temporary location
** testing if installed package can be loaded from final location
** testing if installed package keeps a record of temporary installation path
install for x64
* installing *source* package 'cnvGSA' ...
** testing if installed package can be loaded
* MD5 sums
packaged installation of 'cnvGSA' as cnvGSA_1.34.0.zip
* DONE (cnvGSA)