| Back to Multiple platform build/check report for BioC 3.12 |
|
This page was generated on 2021-05-06 12:34:34 -0400 (Thu, 06 May 2021).
|
To the developers/maintainers of the cmapR package: Please make sure to use the following settings in order to reproduce any error or warning you see on this page. |
| Package 329/1974 | Hostname | OS / Arch | INSTALL | BUILD | CHECK | BUILD BIN | ||||||||
| cmapR 1.2.1 (landing page) Ted Natoli
| malbec1 | Linux (Ubuntu 18.04.5 LTS) / x86_64 | OK | OK | OK | |||||||||
| tokay1 | Windows Server 2012 R2 Standard / x64 | OK | OK | OK | OK | |||||||||
| merida1 | macOS 10.14.6 Mojave / x86_64 | OK | OK | OK | OK | |||||||||
| Package: cmapR |
| Version: 1.2.1 |
| Command: /Library/Frameworks/R.framework/Versions/Current/Resources/bin/R CMD check --install=check:cmapR.install-out.txt --library=/Library/Frameworks/R.framework/Versions/Current/Resources/library --no-vignettes --timings cmapR_1.2.1.tar.gz |
| StartedAt: 2021-05-06 00:25:01 -0400 (Thu, 06 May 2021) |
| EndedAt: 2021-05-06 00:28:55 -0400 (Thu, 06 May 2021) |
| EllapsedTime: 234.3 seconds |
| RetCode: 0 |
| Status: OK |
| CheckDir: cmapR.Rcheck |
| Warnings: 0 |
##############################################################################
##############################################################################
###
### Running command:
###
### /Library/Frameworks/R.framework/Versions/Current/Resources/bin/R CMD check --install=check:cmapR.install-out.txt --library=/Library/Frameworks/R.framework/Versions/Current/Resources/library --no-vignettes --timings cmapR_1.2.1.tar.gz
###
##############################################################################
##############################################################################
* using log directory ‘/Users/biocbuild/bbs-3.12-bioc/meat/cmapR.Rcheck’
* using R version 4.0.5 (2021-03-31)
* using platform: x86_64-apple-darwin17.0 (64-bit)
* using session charset: UTF-8
* using option ‘--no-vignettes’
* checking for file ‘cmapR/DESCRIPTION’ ... OK
* checking extension type ... Package
* this is package ‘cmapR’ version ‘1.2.1’
* checking package namespace information ... OK
* checking package dependencies ... OK
* checking if this is a source package ... OK
* checking if there is a namespace ... OK
* checking for hidden files and directories ... NOTE
Found the following hidden files and directories:
.dockerignore
docs/build/html/.buildinfo
These were most likely included in error. See section ‘Package
structure’ in the ‘Writing R Extensions’ manual.
* checking for portable file names ... OK
* checking for sufficient/correct file permissions ... OK
* checking whether package ‘cmapR’ can be installed ... OK
* checking installed package size ... NOTE
installed size is 5.1Mb
sub-directories of 1Mb or more:
data 2.3Mb
extdata 2.1Mb
* checking package directory ... OK
* checking ‘build’ directory ... OK
* checking DESCRIPTION meta-information ... OK
* checking top-level files ... OK
* checking for left-over files ... OK
* checking index information ... OK
* checking package subdirectories ... OK
* checking R files for non-ASCII characters ... OK
* checking R files for syntax errors ... OK
* checking whether the package can be loaded ... OK
* checking whether the package can be loaded with stated dependencies ... OK
* checking whether the package can be unloaded cleanly ... OK
* checking whether the namespace can be loaded with stated dependencies ... OK
* checking whether the namespace can be unloaded cleanly ... OK
* checking dependencies in R code ... OK
* checking S3 generic/method consistency ... OK
* checking replacement functions ... OK
* checking foreign function calls ... OK
* checking R code for possible problems ... OK
* checking Rd files ... OK
* checking Rd metadata ... OK
* checking Rd cross-references ... OK
* checking for missing documentation entries ... OK
* checking for code/documentation mismatches ... OK
* checking Rd \usage sections ... OK
* checking Rd contents ... OK
* checking for unstated dependencies in examples ... OK
* checking contents of ‘data’ directory ... OK
* checking data for non-ASCII characters ... OK
* checking data for ASCII and uncompressed saves ... OK
* checking line endings in Makefiles ... OK
* checking for GNU extensions in Makefiles ... OK
* checking include directives in Makefiles ... OK
* checking files in ‘vignettes’ ... OK
* checking examples ... OK
* checking for unstated dependencies in ‘tests’ ... OK
* checking tests ...
Running ‘testthat.R’
OK
* checking for unstated dependencies in vignettes ... OK
* checking package vignettes in ‘inst/doc’ ... OK
* checking running R code from vignettes ... SKIPPED
* checking re-building of vignette outputs ... SKIPPED
* checking PDF version of manual ... OK
* DONE
Status: 2 NOTEs
See
‘/Users/biocbuild/bbs-3.12-bioc/meat/cmapR.Rcheck/00check.log’
for details.
cmapR.Rcheck/00install.out
############################################################################## ############################################################################## ### ### Running command: ### ### /Library/Frameworks/R.framework/Versions/Current/Resources/bin/R CMD INSTALL cmapR ### ############################################################################## ############################################################################## * installing to library ‘/Library/Frameworks/R.framework/Versions/4.0/Resources/library’ * installing *source* package ‘cmapR’ ... ** using staged installation ** R ** data *** moving datasets to lazyload DB ** inst ** byte-compile and prepare package for lazy loading ** help *** installing help indices ** building package indices ** installing vignettes ** testing if installed package can be loaded from temporary location ** testing if installed package can be loaded from final location ** testing if installed package keeps a record of temporary installation path * DONE (cmapR)
cmapR.Rcheck/tests/testthat.Rout
R version 4.0.5 (2021-03-31) -- "Shake and Throw"
Copyright (C) 2021 The R Foundation for Statistical Computing
Platform: x86_64-apple-darwin17.0 (64-bit)
R is free software and comes with ABSOLUTELY NO WARRANTY.
You are welcome to redistribute it under certain conditions.
Type 'license()' or 'licence()' for distribution details.
R is a collaborative project with many contributors.
Type 'contributors()' for more information and
'citation()' on how to cite R or R packages in publications.
Type 'demo()' for some demos, 'help()' for on-line help, or
'help.start()' for an HTML browser interface to help.
Type 'q()' to quit R.
> library(testthat)
> library(cmapR)
>
> test_check("cmapR")
Saving file to foo.gct
Dimensions of matrix: [10x5]
Setting precision to 4
Saved.
Saving file to foo.gct
Dimensions of matrix: [10x5]
Setting precision to 4
Saved.
Saving file to foo.gct
Dimensions of matrix: [10x5]
Setting precision to 4
Saved.
Saving file to ./foo_n272x978.gct
Dimensions of matrix: [978x272]
Setting precision to 4
Saved.
[ FAIL 0 | WARN 0 | SKIP 0 | PASS 168 ]
>
> proc.time()
user system elapsed
22.341 1.149 23.516
cmapR.Rcheck/cmapR-Ex.timings
| name | user | system | elapsed | |
| GCT | 0.312 | 0.033 | 0.348 | |
| align_matrices | 0.004 | 0.003 | 0.007 | |
| annotate_gct | 0.288 | 0.033 | 0.321 | |
| append_dim | 0.000 | 0.000 | 0.001 | |
| check_colnames | 0.001 | 0.002 | 0.003 | |
| check_dups | 0.000 | 0.000 | 0.001 | |
| distil | 0.002 | 0.000 | 0.002 | |
| extract_gct | 0.095 | 0.008 | 0.104 | |
| fix_datatypes | 0.034 | 0.002 | 0.036 | |
| ids | 0.039 | 0.004 | 0.043 | |
| is.wholenumber | 0 | 0 | 0 | |
| lxb2mat | 0.735 | 0.037 | 0.773 | |
| mat | 0.002 | 0.000 | 0.002 | |
| melt_gct | 2.224 | 0.118 | 2.345 | |
| merge_gct | 0.213 | 0.010 | 0.222 | |
| merge_with_precedence | 0.009 | 0.001 | 0.009 | |
| meta | 0.003 | 0.001 | 0.003 | |
| na_pad_matrix | 0.001 | 0.004 | 0.006 | |
| parse_gctx | 0.351 | 0.017 | 0.368 | |
| parse_gmt | 0.058 | 0.005 | 0.063 | |
| parse_gmx | 0.029 | 0.002 | 0.031 | |
| parse_grp | 0.004 | 0.000 | 0.006 | |
| process_ids | 0.011 | 0.002 | 0.013 | |
| rank_gct | 0.124 | 0.013 | 0.136 | |
| read_gctx_ids | 0.013 | 0.003 | 0.015 | |
| read_gctx_meta | 0.225 | 0.028 | 0.254 | |
| robust_zscore | 0.001 | 0.001 | 0.002 | |
| subset_gct | 0.093 | 0.014 | 0.108 | |
| threshold | 0 | 0 | 0 | |
| transpose_gct | 0.085 | 0.007 | 0.092 | |
| update_gctx | 0 | 0 | 0 | |
| write_gct | 2.370 | 0.269 | 2.642 | |
| write_gctx | 0.362 | 0.037 | 0.401 | |
| write_gctx_meta | 0 | 0 | 0 | |
| write_gmt | 0 | 0 | 0 | |
| write_grp | 0 | 0 | 0 | |
| write_tbl | 0.000 | 0.001 | 0.000 | |