| Back to Multiple platform build/check report for BioC 3.12 |
|
This page was generated on 2021-05-06 12:34:32 -0400 (Thu, 06 May 2021).
|
To the developers/maintainers of the chromVAR package: Please make sure to use the following settings in order to reproduce any error or warning you see on this page. |
| Package 301/1974 | Hostname | OS / Arch | INSTALL | BUILD | CHECK | BUILD BIN | ||||||||
| chromVAR 1.12.0 (landing page) Alicia Schep
| malbec1 | Linux (Ubuntu 18.04.5 LTS) / x86_64 | OK | OK | OK | |||||||||
| tokay1 | Windows Server 2012 R2 Standard / x64 | OK | OK | WARNINGS | OK | |||||||||
| merida1 | macOS 10.14.6 Mojave / x86_64 | OK | OK | OK | OK | |||||||||
| Package: chromVAR |
| Version: 1.12.0 |
| Command: /Library/Frameworks/R.framework/Versions/Current/Resources/bin/R CMD check --install=check:chromVAR.install-out.txt --library=/Library/Frameworks/R.framework/Versions/Current/Resources/library --no-vignettes --timings chromVAR_1.12.0.tar.gz |
| StartedAt: 2021-05-06 00:16:10 -0400 (Thu, 06 May 2021) |
| EndedAt: 2021-05-06 00:24:30 -0400 (Thu, 06 May 2021) |
| EllapsedTime: 499.3 seconds |
| RetCode: 0 |
| Status: OK |
| CheckDir: chromVAR.Rcheck |
| Warnings: 0 |
##############################################################################
##############################################################################
###
### Running command:
###
### /Library/Frameworks/R.framework/Versions/Current/Resources/bin/R CMD check --install=check:chromVAR.install-out.txt --library=/Library/Frameworks/R.framework/Versions/Current/Resources/library --no-vignettes --timings chromVAR_1.12.0.tar.gz
###
##############################################################################
##############################################################################
* using log directory ‘/Users/biocbuild/bbs-3.12-bioc/meat/chromVAR.Rcheck’
* using R version 4.0.5 (2021-03-31)
* using platform: x86_64-apple-darwin17.0 (64-bit)
* using session charset: UTF-8
* using option ‘--no-vignettes’
* checking for file ‘chromVAR/DESCRIPTION’ ... OK
* checking extension type ... Package
* this is package ‘chromVAR’ version ‘1.12.0’
* checking package namespace information ... OK
* checking package dependencies ... OK
* checking if this is a source package ... OK
* checking if there is a namespace ... OK
* checking for hidden files and directories ... OK
* checking for portable file names ... OK
* checking for sufficient/correct file permissions ... OK
* checking whether package ‘chromVAR’ can be installed ... OK
* checking installed package size ... OK
* checking package directory ... OK
* checking ‘build’ directory ... OK
* checking DESCRIPTION meta-information ... OK
* checking top-level files ... OK
* checking for left-over files ... OK
* checking index information ... OK
* checking package subdirectories ... OK
* checking R files for non-ASCII characters ... OK
* checking R files for syntax errors ... OK
* checking whether the package can be loaded ... OK
* checking whether the package can be loaded with stated dependencies ... OK
* checking whether the package can be unloaded cleanly ... OK
* checking whether the namespace can be loaded with stated dependencies ... OK
* checking whether the namespace can be unloaded cleanly ... OK
* checking dependencies in R code ... OK
* checking S3 generic/method consistency ... OK
* checking replacement functions ... OK
* checking foreign function calls ... OK
* checking R code for possible problems ... OK
* checking Rd files ... OK
* checking Rd metadata ... OK
* checking Rd cross-references ... OK
* checking for missing documentation entries ... OK
* checking for code/documentation mismatches ... OK
* checking Rd \usage sections ... OK
* checking Rd contents ... OK
* checking for unstated dependencies in examples ... OK
* checking contents of ‘data’ directory ... OK
* checking data for non-ASCII characters ... OK
* checking data for ASCII and uncompressed saves ... OK
* checking line endings in C/C++/Fortran sources/headers ... OK
* checking line endings in Makefiles ... OK
* checking compilation flags in Makevars ... OK
* checking for GNU extensions in Makefiles ... OK
* checking for portable use of $(BLAS_LIBS) and $(LAPACK_LIBS) ... OK
* checking use of PKG_*FLAGS in Makefiles ... OK
* checking compiled code ... NOTE
Note: information on .o files is not available
* checking files in ‘vignettes’ ... OK
* checking examples ... OK
Examples with CPU (user + system) or elapsed time > 5s
user system elapsed
deviationsCovariability 28.955 1.084 30.231
plotVariability 24.657 0.088 24.773
computeVariability 23.023 0.083 23.134
getJasparMotifs 8.366 0.187 8.562
pwmDistance 8.065 0.147 8.221
getCounts 6.003 0.501 6.520
* checking for unstated dependencies in ‘tests’ ... OK
* checking tests ...
Running ‘testthat.R’
OK
* checking for unstated dependencies in vignettes ... OK
* checking package vignettes in ‘inst/doc’ ... OK
* checking running R code from vignettes ... SKIPPED
* checking re-building of vignette outputs ... SKIPPED
* checking PDF version of manual ... OK
* DONE
Status: 1 NOTE
See
‘/Users/biocbuild/bbs-3.12-bioc/meat/chromVAR.Rcheck/00check.log’
for details.
chromVAR.Rcheck/00install.out
##############################################################################
##############################################################################
###
### Running command:
###
### /Library/Frameworks/R.framework/Versions/Current/Resources/bin/R CMD INSTALL chromVAR
###
##############################################################################
##############################################################################
* installing to library ‘/Library/Frameworks/R.framework/Versions/4.0/Resources/library’
* installing *source* package ‘chromVAR’ ...
** using staged installation
** libs
clang++ -mmacosx-version-min=10.13 -std=gnu++11 -I"/Library/Frameworks/R.framework/Resources/include" -DNDEBUG -I'/Library/Frameworks/R.framework/Versions/4.0/Resources/library/Rcpp/include' -I'/Library/Frameworks/R.framework/Versions/4.0/Resources/library/RcppArmadillo/include' -I/usr/local/include -fPIC -Wall -g -O2 -c RcppExports.cpp -o RcppExports.o
In file included from RcppExports.cpp:4:
In file included from /Library/Frameworks/R.framework/Versions/4.0/Resources/library/RcppArmadillo/include/RcppArmadillo.h:34:
In file included from /Library/Frameworks/R.framework/Versions/4.0/Resources/library/Rcpp/include/Rcpp.h:57:
/Library/Frameworks/R.framework/Versions/4.0/Resources/library/Rcpp/include/Rcpp/DataFrame.h:136:18: warning: unused variable 'data' [-Wunused-variable]
SEXP data = Parent::get__();
^
1 warning generated.
clang++ -mmacosx-version-min=10.13 -std=gnu++11 -I"/Library/Frameworks/R.framework/Resources/include" -DNDEBUG -I'/Library/Frameworks/R.framework/Versions/4.0/Resources/library/Rcpp/include' -I'/Library/Frameworks/R.framework/Versions/4.0/Resources/library/RcppArmadillo/include' -I/usr/local/include -fPIC -Wall -g -O2 -c pwm_similarity.cpp -o pwm_similarity.o
In file included from pwm_similarity.cpp:2:
In file included from /Library/Frameworks/R.framework/Versions/4.0/Resources/library/RcppArmadillo/include/RcppArmadillo.h:34:
In file included from /Library/Frameworks/R.framework/Versions/4.0/Resources/library/Rcpp/include/Rcpp.h:57:
/Library/Frameworks/R.framework/Versions/4.0/Resources/library/Rcpp/include/Rcpp/DataFrame.h:136:18: warning: unused variable 'data' [-Wunused-variable]
SEXP data = Parent::get__();
^
1 warning generated.
clang++ -mmacosx-version-min=10.13 -std=gnu++11 -I"/Library/Frameworks/R.framework/Resources/include" -DNDEBUG -I'/Library/Frameworks/R.framework/Versions/4.0/Resources/library/Rcpp/include' -I'/Library/Frameworks/R.framework/Versions/4.0/Resources/library/RcppArmadillo/include' -I/usr/local/include -fPIC -Wall -g -O2 -c utils.cpp -o utils.o
In file included from utils.cpp:2:
In file included from /Library/Frameworks/R.framework/Versions/4.0/Resources/library/RcppArmadillo/include/RcppArmadillo.h:34:
In file included from /Library/Frameworks/R.framework/Versions/4.0/Resources/library/Rcpp/include/Rcpp.h:57:
/Library/Frameworks/R.framework/Versions/4.0/Resources/library/Rcpp/include/Rcpp/DataFrame.h:136:18: warning: unused variable 'data' [-Wunused-variable]
SEXP data = Parent::get__();
^
1 warning generated.
clang++ -mmacosx-version-min=10.13 -std=gnu++11 -dynamiclib -Wl,-headerpad_max_install_names -undefined dynamic_lookup -single_module -multiply_defined suppress -L/Library/Frameworks/R.framework/Resources/lib -L/usr/local/lib -o chromVAR.so RcppExports.o pwm_similarity.o utils.o -L/Library/Frameworks/R.framework/Resources/lib -lRlapack -L/Library/Frameworks/R.framework/Resources/lib -lRblas -L/usr/local/gfortran/lib/gcc/x86_64-apple-darwin18/8.2.0 -L/usr/local/gfortran/lib -lgfortran -lquadmath -lm -F/Library/Frameworks/R.framework/.. -framework R -Wl,-framework -Wl,CoreFoundation
installing to /Library/Frameworks/R.framework/Versions/4.0/Resources/library/00LOCK-chromVAR/00new/chromVAR/libs
** R
** data
*** moving datasets to lazyload DB
** inst
** byte-compile and prepare package for lazy loading
** help
*** installing help indices
** building package indices
** installing vignettes
** testing if installed package can be loaded from temporary location
** checking absolute paths in shared objects and dynamic libraries
** testing if installed package can be loaded from final location
** testing if installed package keeps a record of temporary installation path
* DONE (chromVAR)
chromVAR.Rcheck/tests/testthat.Rout
R version 4.0.5 (2021-03-31) -- "Shake and Throw"
Copyright (C) 2021 The R Foundation for Statistical Computing
Platform: x86_64-apple-darwin17.0 (64-bit)
R is free software and comes with ABSOLUTELY NO WARRANTY.
You are welcome to redistribute it under certain conditions.
Type 'license()' or 'licence()' for distribution details.
R is a collaborative project with many contributors.
Type 'contributors()' for more information and
'citation()' on how to cite R or R packages in publications.
Type 'demo()' for some demos, 'help()' for on-line help, or
'help.start()' for an HTML browser interface to help.
Type 'q()' to quit R.
> library(testthat)
> library(chromVAR)
> BiocParallel::register(BiocParallel::SerialParam())
> test_check("chromVAR")
[ FAIL 0 | WARN 0 | SKIP 0 | PASS 65 ]
>
> proc.time()
user system elapsed
27.536 1.440 28.988
chromVAR.Rcheck/chromVAR-Ex.timings
| name | user | system | elapsed | |
| addGCBias | 1.732 | 0.049 | 1.782 | |
| annotationMatches | 0.023 | 0.003 | 0.026 | |
| chromVAR_theme | 0.025 | 0.003 | 0.028 | |
| computeDeviations | 3.749 | 0.088 | 3.848 | |
| computeExpectations | 0.031 | 0.000 | 0.031 | |
| computeVariability | 23.023 | 0.083 | 23.134 | |
| counts | 0.014 | 0.001 | 0.015 | |
| deviationScores | 0.011 | 0.001 | 0.012 | |
| deviations | 0.012 | 0.001 | 0.013 | |
| deviationsCovariability | 28.955 | 1.084 | 30.231 | |
| deviationsTsne | 0.071 | 0.002 | 0.073 | |
| differentialDeviations | 0.014 | 0.001 | 0.014 | |
| differentialVariability | 0.028 | 0.001 | 0.028 | |
| example_counts | 0.001 | 0.001 | 0.002 | |
| filterPeaks | 0.250 | 0.005 | 0.255 | |
| filterSamples | 0.064 | 0.004 | 0.068 | |
| filterSamplesPlot | 0.111 | 0.005 | 0.116 | |
| getAnnotations | 0.548 | 0.013 | 0.562 | |
| getBackgroundPeaks | 0.599 | 0.012 | 0.612 | |
| getCisGroups | 0.417 | 0.009 | 0.426 | |
| getCounts | 6.003 | 0.501 | 6.520 | |
| getFragmentsPerPeak | 0.017 | 0.001 | 0.017 | |
| getFragmentsPerSample | 0.014 | 0.001 | 0.015 | |
| getJasparMotifs | 8.366 | 0.187 | 8.562 | |
| getPeaks | 0.163 | 0.002 | 0.165 | |
| getPermutedData | 1.304 | 0.028 | 1.333 | |
| getSampleCorrelation | 0.019 | 0.001 | 0.020 | |
| getSampleDepths | 0.161 | 0.002 | 0.163 | |
| getSampleDistance | 0.017 | 0.000 | 0.018 | |
| getTotalFragments | 0.017 | 0.001 | 0.017 | |
| makeBiasBins | 0.066 | 0.001 | 0.067 | |
| makePermutedSets | 1.272 | 0.079 | 1.354 | |
| matchKmers | 1.463 | 0.079 | 1.544 | |
| mini_counts | 0.001 | 0.001 | 0.002 | |
| mini_dev | 0.001 | 0.002 | 0.002 | |
| mini_ix | 0.001 | 0.001 | 0.002 | |
| plotVariability | 24.657 | 0.088 | 24.773 | |
| pwmDistance | 8.065 | 0.147 | 8.221 | |
| rbind-chromVARDeviations-method | 0.082 | 0.001 | 0.082 | |