| Back to Multiple platform build/check report for BioC 3.12 |
|
This page was generated on 2021-05-06 12:30:02 -0400 (Thu, 06 May 2021).
|
To the developers/maintainers of the biocthis package: Please make sure to use the following settings in order to reproduce any error or warning you see on this page. |
| Package 172/1974 | Hostname | OS / Arch | INSTALL | BUILD | CHECK | BUILD BIN | ||||||||
| biocthis 1.0.10 (landing page) Leonardo Collado-Torres
| malbec1 | Linux (Ubuntu 18.04.5 LTS) / x86_64 | OK | OK | OK | |||||||||
| tokay1 | Windows Server 2012 R2 Standard / x64 | OK | OK | OK | OK | |||||||||
| merida1 | macOS 10.14.6 Mojave / x86_64 | OK | OK | OK | OK | |||||||||
| Package: biocthis |
| Version: 1.0.10 |
| Command: C:\cygwin\bin\curl.exe -O http://172.29.0.3/BBS/3.12/bioc/src/contrib/biocthis_1.0.10.tar.gz && rm -rf biocthis.buildbin-libdir && mkdir biocthis.buildbin-libdir && C:\Users\biocbuild\bbs-3.12-bioc\R\bin\R.exe CMD INSTALL --merge-multiarch --build --library=biocthis.buildbin-libdir biocthis_1.0.10.tar.gz && C:\Users\biocbuild\bbs-3.12-bioc\R\bin\R.exe CMD INSTALL biocthis_1.0.10.zip && rm biocthis_1.0.10.tar.gz biocthis_1.0.10.zip |
| StartedAt: 2021-05-05 17:38:14 -0400 (Wed, 05 May 2021) |
| EndedAt: 2021-05-05 17:38:57 -0400 (Wed, 05 May 2021) |
| EllapsedTime: 42.9 seconds |
| RetCode: 0 |
| Status: OK |
##############################################################################
##############################################################################
###
### Running command:
###
### C:\cygwin\bin\curl.exe -O http://172.29.0.3/BBS/3.12/bioc/src/contrib/biocthis_1.0.10.tar.gz && rm -rf biocthis.buildbin-libdir && mkdir biocthis.buildbin-libdir && C:\Users\biocbuild\bbs-3.12-bioc\R\bin\R.exe CMD INSTALL --merge-multiarch --build --library=biocthis.buildbin-libdir biocthis_1.0.10.tar.gz && C:\Users\biocbuild\bbs-3.12-bioc\R\bin\R.exe CMD INSTALL biocthis_1.0.10.zip && rm biocthis_1.0.10.tar.gz biocthis_1.0.10.zip
###
##############################################################################
##############################################################################
% Total % Received % Xferd Average Speed Time Time Time Current
Dload Upload Total Spent Left Speed
0 0 0 0 0 0 0 0 --:--:-- --:--:-- --:--:-- 0
100 46272 100 46272 0 0 2760k 0 --:--:-- --:--:-- --:--:-- 3012k
install for i386
* installing *source* package 'biocthis' ...
** using staged installation
** R
** inst
** byte-compile and prepare package for lazy loading
** help
*** installing help indices
converting help for package 'biocthis'
finding HTML links ... done
bioc_style html
biocthis_example_pkg html
use_bioc_citation html
use_bioc_coc html
use_bioc_description html
use_bioc_github_action html
use_bioc_issue_template html
use_bioc_news_md html
use_bioc_pkg_templates html
use_bioc_readme_rmd html
use_bioc_support html
use_bioc_vignette html
** building package indices
** installing vignettes
** testing if installed package can be loaded from temporary location
** testing if installed package can be loaded from final location
** testing if installed package keeps a record of temporary installation path
install for x64
* installing *source* package 'biocthis' ...
** testing if installed package can be loaded
* MD5 sums
packaged installation of 'biocthis' as biocthis_1.0.10.zip
* DONE (biocthis)
* installing to library 'C:/Users/biocbuild/bbs-3.12-bioc/R/library'
package 'biocthis' successfully unpacked and MD5 sums checked