| Back to Multiple platform build/check report for BioC 3.12 |
|
This page was generated on 2021-05-06 12:29:50 -0400 (Thu, 06 May 2021).
|
To the developers/maintainers of the affylmGUI package: Please make sure to use the following settings in order to reproduce any error or warning you see on this page. |
| Package 32/1974 | Hostname | OS / Arch | INSTALL | BUILD | CHECK | BUILD BIN | ||||||||
| affylmGUI 1.64.0 (landing page) Gordon Smyth
| malbec1 | Linux (Ubuntu 18.04.5 LTS) / x86_64 | OK | OK | OK | |||||||||
| tokay1 | Windows Server 2012 R2 Standard / x64 | OK | OK | OK | OK | |||||||||
| merida1 | macOS 10.14.6 Mojave / x86_64 | OK | OK | OK | OK | |||||||||
| Package: affylmGUI |
| Version: 1.64.0 |
| Command: C:\cygwin\bin\curl.exe -O http://172.29.0.3/BBS/3.12/bioc/src/contrib/affylmGUI_1.64.0.tar.gz && rm -rf affylmGUI.buildbin-libdir && mkdir affylmGUI.buildbin-libdir && C:\Users\biocbuild\bbs-3.12-bioc\R\bin\R.exe CMD INSTALL --merge-multiarch --build --library=affylmGUI.buildbin-libdir affylmGUI_1.64.0.tar.gz && C:\Users\biocbuild\bbs-3.12-bioc\R\bin\R.exe CMD INSTALL affylmGUI_1.64.0.zip && rm affylmGUI_1.64.0.tar.gz affylmGUI_1.64.0.zip |
| StartedAt: 2021-05-05 17:13:55 -0400 (Wed, 05 May 2021) |
| EndedAt: 2021-05-05 17:15:16 -0400 (Wed, 05 May 2021) |
| EllapsedTime: 81.3 seconds |
| RetCode: 0 |
| Status: OK |
##############################################################################
##############################################################################
###
### Running command:
###
### C:\cygwin\bin\curl.exe -O http://172.29.0.3/BBS/3.12/bioc/src/contrib/affylmGUI_1.64.0.tar.gz && rm -rf affylmGUI.buildbin-libdir && mkdir affylmGUI.buildbin-libdir && C:\Users\biocbuild\bbs-3.12-bioc\R\bin\R.exe CMD INSTALL --merge-multiarch --build --library=affylmGUI.buildbin-libdir affylmGUI_1.64.0.tar.gz && C:\Users\biocbuild\bbs-3.12-bioc\R\bin\R.exe CMD INSTALL affylmGUI_1.64.0.zip && rm affylmGUI_1.64.0.tar.gz affylmGUI_1.64.0.zip
###
##############################################################################
##############################################################################
% Total % Received % Xferd Average Speed Time Time Time Current
Dload Upload Total Spent Left Speed
0 0 0 0 0 0 0 0 --:--:-- --:--:-- --:--:-- 0
100 1612k 100 1612k 0 0 48.0M 0 --:--:-- --:--:-- --:--:-- 49.2M
install for i386
* installing *source* package 'affylmGUI' ...
** using staged installation
** R
** inst
** byte-compile and prepare package for lazy loading
** help
*** installing help indices
converting help for package 'affylmGUI'
finding HTML links ... done
affylmGU-package html
finding level-2 HTML links ... done
affylmGUI html
internal html
** building package indices
** installing vignettes
'affylmGUI.Rnw'
'extract.Rnw'
** testing if installed package can be loaded from temporary location
** testing if installed package can be loaded from final location
** testing if installed package keeps a record of temporary installation path
install for x64
* installing *source* package 'affylmGUI' ...
** testing if installed package can be loaded
* MD5 sums
packaged installation of 'affylmGUI' as affylmGUI_1.64.0.zip
* DONE (affylmGUI)
* installing to library 'C:/Users/biocbuild/bbs-3.12-bioc/R/library'
package 'affylmGUI' successfully unpacked and MD5 sums checked