| Back to Multiple platform build/check report for BioC 3.12 |
|
This page was generated on 2021-05-06 12:29:50 -0400 (Thu, 06 May 2021).
|
To the developers/maintainers of the affycomp package: Please make sure to use the following settings in order to reproduce any error or warning you see on this page. |
| Package 25/1974 | Hostname | OS / Arch | INSTALL | BUILD | CHECK | BUILD BIN | ||||||||
| affycomp 1.66.0 (landing page) Rafael A. Irizarry
| malbec1 | Linux (Ubuntu 18.04.5 LTS) / x86_64 | OK | OK | OK | |||||||||
| tokay1 | Windows Server 2012 R2 Standard / x64 | OK | OK | WARNINGS | OK | |||||||||
| merida1 | macOS 10.14.6 Mojave / x86_64 | OK | OK | OK | OK | |||||||||
| Package: affycomp |
| Version: 1.66.0 |
| Command: C:\cygwin\bin\curl.exe -O http://172.29.0.3/BBS/3.12/bioc/src/contrib/affycomp_1.66.0.tar.gz && rm -rf affycomp.buildbin-libdir && mkdir affycomp.buildbin-libdir && C:\Users\biocbuild\bbs-3.12-bioc\R\bin\R.exe CMD INSTALL --merge-multiarch --build --library=affycomp.buildbin-libdir affycomp_1.66.0.tar.gz && C:\Users\biocbuild\bbs-3.12-bioc\R\bin\R.exe CMD INSTALL affycomp_1.66.0.zip && rm affycomp_1.66.0.tar.gz affycomp_1.66.0.zip |
| StartedAt: 2021-05-05 16:59:41 -0400 (Wed, 05 May 2021) |
| EndedAt: 2021-05-05 17:00:38 -0400 (Wed, 05 May 2021) |
| EllapsedTime: 57.0 seconds |
| RetCode: 0 |
| Status: OK |
##############################################################################
##############################################################################
###
### Running command:
###
### C:\cygwin\bin\curl.exe -O http://172.29.0.3/BBS/3.12/bioc/src/contrib/affycomp_1.66.0.tar.gz && rm -rf affycomp.buildbin-libdir && mkdir affycomp.buildbin-libdir && C:\Users\biocbuild\bbs-3.12-bioc\R\bin\R.exe CMD INSTALL --merge-multiarch --build --library=affycomp.buildbin-libdir affycomp_1.66.0.tar.gz && C:\Users\biocbuild\bbs-3.12-bioc\R\bin\R.exe CMD INSTALL affycomp_1.66.0.zip && rm affycomp_1.66.0.tar.gz affycomp_1.66.0.zip
###
##############################################################################
##############################################################################
% Total % Received % Xferd Average Speed Time Time Time Current
Dload Upload Total Spent Left Speed
0 0 0 0 0 0 0 0 --:--:-- --:--:-- --:--:-- 0
0 7135k 0 4135 0 0 276k 0 0:00:25 --:--:-- 0:00:25 269k
100 7135k 100 7135k 0 0 75.0M 0 --:--:-- --:--:-- --:--:-- 74.9M
install for i386
* installing *source* package 'affycomp' ...
** using staged installation
** R
** data
** inst
** byte-compile and prepare package for lazy loading
** help
*** installing help indices
converting help for package 'affycomp'
finding HTML links ... done
SD html
affycomp.compfigs.auxiliary html
affycomp.figures.auxiliary html
affycomp.table html
affycompPlot html
assessAll html
assessDilution html
assessSD html
assessSpikeIn html
assessSpikeIn2 html
dilution.phenodata html
exprset.log html
hgu133a.spikein.phenodata html
mas5.assessment html
Rd warning: C:/Users/biocbuild/bbs-3.12-bioc/tmpdir/RtmpyY3FCX/R.INSTALLdb829efb4b/affycomp/man/mas5.assessment.Rd:10: file link 'ExpressionSet' in package 'Biobase' does not exist and so has been treated as a topic
readin html
remove.hgu133a.xhyb html
spikein.phenodata html
xhyb html
** building package indices
** installing vignettes
** testing if installed package can be loaded from temporary location
** testing if installed package can be loaded from final location
** testing if installed package keeps a record of temporary installation path
install for x64
* installing *source* package 'affycomp' ...
** testing if installed package can be loaded
* MD5 sums
packaged installation of 'affycomp' as affycomp_1.66.0.zip
* DONE (affycomp)
* installing to library 'C:/Users/biocbuild/bbs-3.12-bioc/R/library'
package 'affycomp' successfully unpacked and MD5 sums checked