| Back to Multiple platform build/check report for BioC 3.12 |
|
This page was generated on 2021-05-06 12:37:21 -0400 (Thu, 06 May 2021).
|
To the developers/maintainers of the XCIR package: Please make sure to use the following settings in order to reproduce any error or warning you see on this page. |
| Package 1959/1974 | Hostname | OS / Arch | INSTALL | BUILD | CHECK | BUILD BIN | ||||||||
| XCIR 1.4.0 (landing page) Renan Sauteraud
| malbec1 | Linux (Ubuntu 18.04.5 LTS) / x86_64 | OK | OK | OK | |||||||||
| tokay1 | Windows Server 2012 R2 Standard / x64 | OK | OK | OK | OK | |||||||||
| merida1 | macOS 10.14.6 Mojave / x86_64 | OK | OK | OK | OK | |||||||||
| Package: XCIR |
| Version: 1.4.0 |
| Command: /Library/Frameworks/R.framework/Versions/Current/Resources/bin/R CMD check --install=check:XCIR.install-out.txt --library=/Library/Frameworks/R.framework/Versions/Current/Resources/library --no-vignettes --timings XCIR_1.4.0.tar.gz |
| StartedAt: 2021-05-06 07:20:43 -0400 (Thu, 06 May 2021) |
| EndedAt: 2021-05-06 07:27:11 -0400 (Thu, 06 May 2021) |
| EllapsedTime: 388.6 seconds |
| RetCode: 0 |
| Status: OK |
| CheckDir: XCIR.Rcheck |
| Warnings: 0 |
##############################################################################
##############################################################################
###
### Running command:
###
### /Library/Frameworks/R.framework/Versions/Current/Resources/bin/R CMD check --install=check:XCIR.install-out.txt --library=/Library/Frameworks/R.framework/Versions/Current/Resources/library --no-vignettes --timings XCIR_1.4.0.tar.gz
###
##############################################################################
##############################################################################
* using log directory ‘/Users/biocbuild/bbs-3.12-bioc/meat/XCIR.Rcheck’
* using R version 4.0.5 (2021-03-31)
* using platform: x86_64-apple-darwin17.0 (64-bit)
* using session charset: UTF-8
* using option ‘--no-vignettes’
* checking for file ‘XCIR/DESCRIPTION’ ... OK
* checking extension type ... Package
* this is package ‘XCIR’ version ‘1.4.0’
* checking package namespace information ... OK
* checking package dependencies ... OK
* checking if this is a source package ... OK
* checking if there is a namespace ... OK
* checking for hidden files and directories ... OK
* checking for portable file names ... OK
* checking for sufficient/correct file permissions ... OK
* checking whether package ‘XCIR’ can be installed ... OK
* checking installed package size ... OK
* checking package directory ... OK
* checking ‘build’ directory ... OK
* checking DESCRIPTION meta-information ... OK
* checking top-level files ... OK
* checking for left-over files ... OK
* checking index information ... OK
* checking package subdirectories ... OK
* checking R files for non-ASCII characters ... OK
* checking R files for syntax errors ... OK
* checking whether the package can be loaded ... OK
* checking whether the package can be loaded with stated dependencies ... OK
* checking whether the package can be unloaded cleanly ... OK
* checking whether the namespace can be loaded with stated dependencies ... OK
* checking whether the namespace can be unloaded cleanly ... OK
* checking dependencies in R code ... OK
* checking S3 generic/method consistency ... OK
* checking replacement functions ... OK
* checking foreign function calls ... OK
* checking R code for possible problems ... OK
* checking Rd files ... OK
* checking Rd metadata ... OK
* checking Rd cross-references ... OK
* checking for missing documentation entries ... OK
* checking for code/documentation mismatches ... OK
* checking Rd \usage sections ... OK
* checking Rd contents ... OK
* checking for unstated dependencies in examples ... OK
* checking files in ‘vignettes’ ... OK
* checking examples ... OK
Examples with CPU (user + system) or elapsed time > 5s
user system elapsed
betaBinomXI 9.976 0.240 10.221
sample_clean 9.115 0.231 9.346
getXCIstate 8.486 0.256 8.743
plotQC 8.490 0.203 8.693
addAnno 5.738 0.187 9.638
mart_genes 4.766 0.039 12.858
annotateX 3.919 0.061 7.802
getGenicDP 3.884 0.086 7.706
readVCF4 3.838 0.029 7.505
readRNASNPs 3.832 0.029 7.713
* checking for unstated dependencies in vignettes ... OK
* checking package vignettes in ‘inst/doc’ ... OK
* checking running R code from vignettes ... SKIPPED
* checking re-building of vignette outputs ... SKIPPED
* checking PDF version of manual ... OK
* DONE
Status: OK
XCIR.Rcheck/00install.out
############################################################################## ############################################################################## ### ### Running command: ### ### /Library/Frameworks/R.framework/Versions/Current/Resources/bin/R CMD INSTALL XCIR ### ############################################################################## ############################################################################## * installing to library ‘/Library/Frameworks/R.framework/Versions/4.0/Resources/library’ * installing *source* package ‘XCIR’ ... ** using staged installation ** R ** inst ** byte-compile and prepare package for lazy loading ** help *** installing help indices ** building package indices ** installing vignettes ** testing if installed package can be loaded from temporary location ** testing if installed package can be loaded from final location ** testing if installed package keeps a record of temporary installation path * DONE (XCIR)
XCIR.Rcheck/XCIR-Ex.timings
| name | user | system | elapsed | |
| BetaConversion | 0.001 | 0.001 | 0.002 | |
| addAnno | 5.738 | 0.187 | 9.638 | |
| annotateX | 3.919 | 0.061 | 7.802 | |
| betaBinomXI | 9.976 | 0.240 | 10.221 | |
| consensusXCI | 0.052 | 0.009 | 0.063 | |
| getGenicDP | 3.884 | 0.086 | 7.706 | |
| getXCIstate | 8.486 | 0.256 | 8.743 | |
| mart_genes | 4.766 | 0.039 | 12.858 | |
| plotQC | 8.490 | 0.203 | 8.693 | |
| readRNASNPs | 3.832 | 0.029 | 7.713 | |
| readVCF4 | 3.838 | 0.029 | 7.505 | |
| readXCI | 0.001 | 0.000 | 0.002 | |
| sample_clean | 9.115 | 0.231 | 9.346 | |