| Back to Multiple platform build/check report for BioC 3.12 |
|
This page was generated on 2021-05-06 12:34:12 -0400 (Thu, 06 May 2021).
|
To the developers/maintainers of the XBSeq package: Please make sure to use the following settings in order to reproduce any error or warning you see on this page. |
| Package 1958/1974 | Hostname | OS / Arch | INSTALL | BUILD | CHECK | BUILD BIN | ||||||||
| XBSeq 1.22.0 (landing page) Yuanhang Liu
| malbec1 | Linux (Ubuntu 18.04.5 LTS) / x86_64 | OK | OK | OK | |||||||||
| tokay1 | Windows Server 2012 R2 Standard / x64 | OK | OK | OK | OK | |||||||||
| merida1 | macOS 10.14.6 Mojave / x86_64 | OK | OK | OK | OK | |||||||||
| Package: XBSeq |
| Version: 1.22.0 |
| Command: C:\cygwin\bin\curl.exe -O http://172.29.0.3/BBS/3.12/bioc/src/contrib/XBSeq_1.22.0.tar.gz && rm -rf XBSeq.buildbin-libdir && mkdir XBSeq.buildbin-libdir && C:\Users\biocbuild\bbs-3.12-bioc\R\bin\R.exe CMD INSTALL --merge-multiarch --build --library=XBSeq.buildbin-libdir XBSeq_1.22.0.tar.gz && C:\Users\biocbuild\bbs-3.12-bioc\R\bin\R.exe CMD INSTALL XBSeq_1.22.0.zip && rm XBSeq_1.22.0.tar.gz XBSeq_1.22.0.zip |
| StartedAt: 2021-05-05 18:17:40 -0400 (Wed, 05 May 2021) |
| EndedAt: 2021-05-05 18:18:34 -0400 (Wed, 05 May 2021) |
| EllapsedTime: 54.3 seconds |
| RetCode: 0 |
| Status: OK |
##############################################################################
##############################################################################
###
### Running command:
###
### C:\cygwin\bin\curl.exe -O http://172.29.0.3/BBS/3.12/bioc/src/contrib/XBSeq_1.22.0.tar.gz && rm -rf XBSeq.buildbin-libdir && mkdir XBSeq.buildbin-libdir && C:\Users\biocbuild\bbs-3.12-bioc\R\bin\R.exe CMD INSTALL --merge-multiarch --build --library=XBSeq.buildbin-libdir XBSeq_1.22.0.tar.gz && C:\Users\biocbuild\bbs-3.12-bioc\R\bin\R.exe CMD INSTALL XBSeq_1.22.0.zip && rm XBSeq_1.22.0.tar.gz XBSeq_1.22.0.zip
###
##############################################################################
##############################################################################
% Total % Received % Xferd Average Speed Time Time Time Current
Dload Upload Total Spent Left Speed
0 0 0 0 0 0 0 0 --:--:-- --:--:-- --:--:-- 0
100 866k 100 866k 0 0 37.8M 0 --:--:-- --:--:-- --:--:-- 40.2M
install for i386
* installing *source* package 'XBSeq' ...
** using staged installation
** R
** data
** inst
** byte-compile and prepare package for lazy loading
** help
*** installing help indices
converting help for package 'XBSeq'
finding HTML links ... done
ExampleData html
MAplot html
XBSeq-package html
XBSeq html
XBSeqDataSet-class html
finding level-2 HTML links ... done
XBSeqTest html
XBplot html
apaUsage html
conditions html
counts html
dispEst html
dispTable html
estimateRealCount html
estimateSCV html
fitInfo html
getSignalVars html
plotSCVEsts html
** building package indices
** installing vignettes
'XBSeq.Rmd' using 'UTF-8'
** testing if installed package can be loaded from temporary location
** testing if installed package can be loaded from final location
** testing if installed package keeps a record of temporary installation path
install for x64
* installing *source* package 'XBSeq' ...
** testing if installed package can be loaded
* MD5 sums
packaged installation of 'XBSeq' as XBSeq_1.22.0.zip
* DONE (XBSeq)
* installing to library 'C:/Users/biocbuild/bbs-3.12-bioc/R/library'
package 'XBSeq' successfully unpacked and MD5 sums checked