| Back to Multiple platform build/check report for BioC 3.12 |
|
This page was generated on 2021-05-06 12:29:37 -0400 (Thu, 06 May 2021).
|
To the developers/maintainers of the VegaMC package: Please make sure to use the following settings in order to reproduce any error or warning you see on this page. |
| Package 1937/1974 | Hostname | OS / Arch | INSTALL | BUILD | CHECK | BUILD BIN | ||||||||
| VegaMC 3.28.0 (landing page) Sandro Morganella
| malbec1 | Linux (Ubuntu 18.04.5 LTS) / x86_64 | OK | OK | OK | |||||||||
| tokay1 | Windows Server 2012 R2 Standard / x64 | OK | OK | OK | OK | |||||||||
| merida1 | macOS 10.14.6 Mojave / x86_64 | OK | OK | WARNINGS | OK | |||||||||
| Package: VegaMC |
| Version: 3.28.0 |
| Command: /home/biocbuild/bbs-3.12-bioc/R/bin/R CMD check --install=check:VegaMC.install-out.txt --library=/home/biocbuild/bbs-3.12-bioc/R/library --no-vignettes --timings VegaMC_3.28.0.tar.gz |
| StartedAt: 2021-05-06 07:01:05 -0400 (Thu, 06 May 2021) |
| EndedAt: 2021-05-06 07:04:52 -0400 (Thu, 06 May 2021) |
| EllapsedTime: 226.6 seconds |
| RetCode: 0 |
| Status: OK |
| CheckDir: VegaMC.Rcheck |
| Warnings: 0 |
##############################################################################
##############################################################################
###
### Running command:
###
### /home/biocbuild/bbs-3.12-bioc/R/bin/R CMD check --install=check:VegaMC.install-out.txt --library=/home/biocbuild/bbs-3.12-bioc/R/library --no-vignettes --timings VegaMC_3.28.0.tar.gz
###
##############################################################################
##############################################################################
* using log directory ‘/home/biocbuild/bbs-3.12-bioc/meat/VegaMC.Rcheck’
* using R version 4.0.5 (2021-03-31)
* using platform: x86_64-pc-linux-gnu (64-bit)
* using session charset: UTF-8
* using option ‘--no-vignettes’
* checking for file ‘VegaMC/DESCRIPTION’ ... OK
* checking extension type ... Package
* this is package ‘VegaMC’ version ‘3.28.0’
* checking package namespace information ... OK
* checking package dependencies ... OK
* checking if this is a source package ... OK
* checking if there is a namespace ... OK
* checking for hidden files and directories ... OK
* checking for portable file names ... OK
* checking for sufficient/correct file permissions ... OK
* checking whether package ‘VegaMC’ can be installed ... OK
* checking installed package size ... NOTE
installed size is 5.4Mb
sub-directories of 1Mb or more:
example 4.9Mb
* checking package directory ... OK
* checking ‘build’ directory ... OK
* checking DESCRIPTION meta-information ... OK
* checking top-level files ... OK
* checking for left-over files ... OK
* checking index information ... OK
* checking package subdirectories ... OK
* checking R files for non-ASCII characters ... OK
* checking R files for syntax errors ... OK
* checking whether the package can be loaded ... OK
* checking whether the package can be loaded with stated dependencies ... OK
* checking whether the package can be unloaded cleanly ... OK
* checking whether the namespace can be loaded with stated dependencies ... OK
* checking whether the namespace can be unloaded cleanly ... OK
* checking dependencies in R code ... NOTE
Namespace in Imports field not imported from: ‘methods’
All declared Imports should be used.
* checking S3 generic/method consistency ... OK
* checking replacement functions ... OK
* checking foreign function calls ... OK
* checking R code for possible problems ... NOTE
getGenes: no visible global function definition for ‘write.table’
qvalue: no visible global function definition for ‘smooth.spline’
qvalue: no visible global function definition for ‘predict’
vegaMC,character: no visible global function definition for
‘read.table’
vegaMC,character: no visible global function definition for
‘write.table’
Undefined global functions or variables:
predict read.table smooth.spline write.table
Consider adding
importFrom("stats", "predict", "smooth.spline")
importFrom("utils", "read.table", "write.table")
to your NAMESPACE file.
* checking Rd files ... OK
* checking Rd metadata ... OK
* checking Rd cross-references ... OK
* checking for missing documentation entries ... OK
* checking for code/documentation mismatches ... OK
* checking Rd \usage sections ... OK
* checking Rd contents ... OK
* checking for unstated dependencies in examples ... OK
* checking line endings in C/C++/Fortran sources/headers ... OK
* checking compiled code ... NOTE
Note: information on .o files is not available
File ‘/home/biocbuild/bbs-3.12-bioc/R/library/VegaMC/libs/VegaMC.so’:
Found ‘rand’, possibly from ‘rand’ (C)
Compiled code should not call entry points which might terminate R nor
write to stdout/stderr instead of to the console, nor use Fortran I/O
nor system RNGs. The detected symbols are linked into the code but
might come from libraries and not actually be called.
See ‘Writing portable packages’ in the ‘Writing R Extensions’ manual.
* checking files in ‘vignettes’ ... OK
* checking examples ... OK
* checking for unstated dependencies in vignettes ... OK
* checking package vignettes in ‘inst/doc’ ... OK
* checking running R code from vignettes ... SKIPPED
* checking re-building of vignette outputs ... SKIPPED
* checking PDF version of manual ... OK
* DONE
Status: 4 NOTEs
See
‘/home/biocbuild/bbs-3.12-bioc/meat/VegaMC.Rcheck/00check.log’
for details.
VegaMC.Rcheck/00install.out
##############################################################################
##############################################################################
###
### Running command:
###
### /home/biocbuild/bbs-3.12-bioc/R/bin/R CMD INSTALL VegaMC
###
##############################################################################
##############################################################################
* installing to library ‘/home/biocbuild/bbs-3.12-bioc/R/library’
* installing *source* package ‘VegaMC’ ...
** using staged installation
** libs
gcc -I"/home/biocbuild/bbs-3.12-bioc/R/include" -DNDEBUG -I/usr/local/include -fpic -g -O2 -Wall -c run_vegaMC.c -o run_vegaMC.o
run_vegaMC.c: In function ‘read_params’:
run_vegaMC.c:618:18: warning: unused variable ‘brkt’ [-Wunused-variable]
char *elem, *brkt;
^~~~
run_vegaMC.c: In function ‘load_data’:
run_vegaMC.c:534:32: warning: ‘chr’ may be used uninitialized in this function [-Wmaybe-uninitialized]
temp_probe->chromosome = chr;
~~~~~~~~~~~~~~~~~~~~~~~^~~~~
run_vegaMC.c:535:30: warning: ‘position’ may be used uninitialized in this function [-Wmaybe-uninitialized]
temp_probe->position = position;
~~~~~~~~~~~~~~~~~~~~~^~~~~~~~~~
run_vegaMC.c:564:14: warning: ‘first_probe’ may be used uninitialized in this function [-Wmaybe-uninitialized]
prev_chr = temp_probe->chromosome;
~~~~~~~~~^~~~~~~~~~~~~~~~~~~~~~~~
run_vegaMC.c: In function ‘call_VegaMC’:
run_vegaMC.c:461:29: warning: ‘first_seg’ may be used uninitialized in this function [-Wmaybe-uninitialized]
for (i = 0; i < (tmp->num_regions); i++) {
~~~~^~~~~~~~~~~~~~
run_vegaMC.c:435:32: warning: ‘prev_seg’ may be used uninitialized in this function [-Wmaybe-uninitialized]
prev_seg->next = tmp;
~~~~~~~~~~~~~~~^~~~~
gcc -I"/home/biocbuild/bbs-3.12-bioc/R/include" -DNDEBUG -I/usr/local/include -fpic -g -O2 -Wall -c sort_data.c -o sort_data.o
gcc -I"/home/biocbuild/bbs-3.12-bioc/R/include" -DNDEBUG -I/usr/local/include -fpic -g -O2 -Wall -c vegaMC.c -o vegaMC.o
vegaMC.c: In function ‘heap_delete’:
vegaMC.c:235:10: warning: variable ‘deleted’ set but not used [-Wunused-but-set-variable]
node deleted;
^~~~~~~
vegaMC.c: In function ‘init_trivial_segmentation’:
vegaMC.c:592:15: warning: variable ‘index’ set but not used [-Wunused-but-set-variable]
int i, j, index;
^~~~~
gcc -shared -L/home/biocbuild/bbs-3.12-bioc/R/lib -L/usr/local/lib -o VegaMC.so run_vegaMC.o sort_data.o vegaMC.o -L/home/biocbuild/bbs-3.12-bioc/R/lib -lR
installing to /home/biocbuild/bbs-3.12-bioc/R/library/00LOCK-VegaMC/00new/VegaMC/libs
** R
** inst
** byte-compile and prepare package for lazy loading
** help
*** installing help indices
** building package indices
** installing vignettes
** testing if installed package can be loaded from temporary location
** checking absolute paths in shared objects and dynamic libraries
** testing if installed package can be loaded from final location
** testing if installed package keeps a record of temporary installation path
* DONE (VegaMC)
VegaMC.Rcheck/VegaMC-Ex.timings
| name | user | system | elapsed | |
| VegaMC-package | 0.248 | 0.020 | 0.334 | |
| sortData | 0.408 | 0.020 | 0.429 | |
| vegaMC-methods | 0.148 | 0.008 | 0.158 | |