| Back to Multiple platform build/check report for BioC 3.12 |
|
This page was generated on 2021-05-06 12:33:25 -0400 (Thu, 06 May 2021).
|
To the developers/maintainers of the SBGNview package: Please make sure to use the following settings in order to reproduce any error or warning you see on this page. |
| Package 1621/1974 | Hostname | OS / Arch | INSTALL | BUILD | CHECK | BUILD BIN | ||||||||
| SBGNview 1.4.1 (landing page) Weijun Luo
| malbec1 | Linux (Ubuntu 18.04.5 LTS) / x86_64 | OK | OK | OK | |||||||||
| tokay1 | Windows Server 2012 R2 Standard / x64 | OK | OK | OK | OK | |||||||||
| merida1 | macOS 10.14.6 Mojave / x86_64 | OK | OK | OK | OK | |||||||||
| Package: SBGNview |
| Version: 1.4.1 |
| Command: C:\cygwin\bin\curl.exe -O http://172.29.0.3/BBS/3.12/bioc/src/contrib/SBGNview_1.4.1.tar.gz && rm -rf SBGNview.buildbin-libdir && mkdir SBGNview.buildbin-libdir && C:\Users\biocbuild\bbs-3.12-bioc\R\bin\R.exe CMD INSTALL --merge-multiarch --build --library=SBGNview.buildbin-libdir SBGNview_1.4.1.tar.gz && C:\Users\biocbuild\bbs-3.12-bioc\R\bin\R.exe CMD INSTALL SBGNview_1.4.1.zip && rm SBGNview_1.4.1.tar.gz SBGNview_1.4.1.zip |
| StartedAt: 2021-05-05 17:41:10 -0400 (Wed, 05 May 2021) |
| EndedAt: 2021-05-05 17:42:14 -0400 (Wed, 05 May 2021) |
| EllapsedTime: 63.8 seconds |
| RetCode: 0 |
| Status: OK |
##############################################################################
##############################################################################
###
### Running command:
###
### C:\cygwin\bin\curl.exe -O http://172.29.0.3/BBS/3.12/bioc/src/contrib/SBGNview_1.4.1.tar.gz && rm -rf SBGNview.buildbin-libdir && mkdir SBGNview.buildbin-libdir && C:\Users\biocbuild\bbs-3.12-bioc\R\bin\R.exe CMD INSTALL --merge-multiarch --build --library=SBGNview.buildbin-libdir SBGNview_1.4.1.tar.gz && C:\Users\biocbuild\bbs-3.12-bioc\R\bin\R.exe CMD INSTALL SBGNview_1.4.1.zip && rm SBGNview_1.4.1.tar.gz SBGNview_1.4.1.zip
###
##############################################################################
##############################################################################
% Total % Received % Xferd Average Speed Time Time Time Current
Dload Upload Total Spent Left Speed
0 0 0 0 0 0 0 0 --:--:-- --:--:-- --:--:-- 0
100 1659k 100 1659k 0 0 9782k 0 --:--:-- --:--:-- --:--:-- 9819k
install for i386
* installing *source* package 'SBGNview' ...
** using staged installation
** R
** data
** inst
** byte-compile and prepare package for lazy loading
** help
*** installing help indices
converting help for package 'SBGNview'
finding HTML links ... done
SBGNhub.id.mapping.tables html
SBGNview html
arc-class html
changeDataId html
changeIds html
downloadSbgnFile html
findPathways html
glyph-class html
highlightArcs html
highlightNodes html
highlightPath html
loadMappingTable html
mapped.ids html
outputFile-set html
outputFile html
pathways.info html
pathways.stats html
plus-.SBGNview html
print.SBGNview html
renderSbgn html
sbgn.gsets html
sbgnNodes html
spline.arc-class html
** building package indices
** installing vignettes
** testing if installed package can be loaded from temporary location
** testing if installed package can be loaded from final location
** testing if installed package keeps a record of temporary installation path
install for x64
* installing *source* package 'SBGNview' ...
** testing if installed package can be loaded
* MD5 sums
packaged installation of 'SBGNview' as SBGNview_1.4.1.zip
* DONE (SBGNview)
* installing to library 'C:/Users/biocbuild/bbs-3.12-bioc/R/library'
package 'SBGNview' successfully unpacked and MD5 sums checked