| Back to Multiple platform build/check report for BioC 3.12 |
|
This page was generated on 2021-05-06 12:33:23 -0400 (Thu, 06 May 2021).
|
To the developers/maintainers of the RTNsurvival package: Please make sure to use the following settings in order to reproduce any error or warning you see on this page. |
| Package 1595/1974 | Hostname | OS / Arch | INSTALL | BUILD | CHECK | BUILD BIN | ||||||||
| RTNsurvival 1.14.1 (landing page) Clarice Groeneveld
| malbec1 | Linux (Ubuntu 18.04.5 LTS) / x86_64 | OK | OK | OK | |||||||||
| tokay1 | Windows Server 2012 R2 Standard / x64 | OK | OK | OK | OK | |||||||||
| merida1 | macOS 10.14.6 Mojave / x86_64 | OK | OK | OK | OK | |||||||||
| Package: RTNsurvival |
| Version: 1.14.1 |
| Command: C:\cygwin\bin\curl.exe -O http://172.29.0.3/BBS/3.12/bioc/src/contrib/RTNsurvival_1.14.1.tar.gz && rm -rf RTNsurvival.buildbin-libdir && mkdir RTNsurvival.buildbin-libdir && C:\Users\biocbuild\bbs-3.12-bioc\R\bin\R.exe CMD INSTALL --merge-multiarch --build --library=RTNsurvival.buildbin-libdir RTNsurvival_1.14.1.tar.gz && C:\Users\biocbuild\bbs-3.12-bioc\R\bin\R.exe CMD INSTALL RTNsurvival_1.14.1.zip && rm RTNsurvival_1.14.1.tar.gz RTNsurvival_1.14.1.zip |
| StartedAt: 2021-05-05 19:15:59 -0400 (Wed, 05 May 2021) |
| EndedAt: 2021-05-05 19:16:56 -0400 (Wed, 05 May 2021) |
| EllapsedTime: 57.6 seconds |
| RetCode: 0 |
| Status: OK |
##############################################################################
##############################################################################
###
### Running command:
###
### C:\cygwin\bin\curl.exe -O http://172.29.0.3/BBS/3.12/bioc/src/contrib/RTNsurvival_1.14.1.tar.gz && rm -rf RTNsurvival.buildbin-libdir && mkdir RTNsurvival.buildbin-libdir && C:\Users\biocbuild\bbs-3.12-bioc\R\bin\R.exe CMD INSTALL --merge-multiarch --build --library=RTNsurvival.buildbin-libdir RTNsurvival_1.14.1.tar.gz && C:\Users\biocbuild\bbs-3.12-bioc\R\bin\R.exe CMD INSTALL RTNsurvival_1.14.1.zip && rm RTNsurvival_1.14.1.tar.gz RTNsurvival_1.14.1.zip
###
##############################################################################
##############################################################################
% Total % Received % Xferd Average Speed Time Time Time Current
Dload Upload Total Spent Left Speed
0 0 0 0 0 0 0 0 --:--:-- --:--:-- --:--:-- 0
100 276k 100 276k 0 0 10.6M 0 --:--:-- --:--:-- --:--:-- 11.2M
install for i386
* installing *source* package 'RTNsurvival' ...
** using staged installation
** R
** data
*** moving datasets to lazyload DB
** inst
** byte-compile and prepare package for lazy loading
** help
*** installing help indices
converting help for package 'RTNsurvival'
finding HTML links ... done
RTNsurvival-package html
TNS-class html
finding level-2 HTML links ... done
TNS.data html
hclust_semisupervised html
tni2tnsPreprocess-methods html
tnsAREA3-methods html
tnsCox-methods html
tnsCoxInteraction-methods html
tnsGSEA2-methods html
tnsGet-methods html
tnsInteraction-methods html
tnsKM-methods html
tnsKmInteraction-methods html
tnsPlotCovariates-methods html
tnsPlotCox-methods html
tnsPlotCoxInteraction-methods html
tnsPlotGSEA2-methods html
tnsPlotKM-methods html
tnsPlotKmInteraction-methods html
tnsPlotSRE-methods html
tnsSRD-methods html
tnsSRE-methods html
tnsStratification html
** building package indices
** installing vignettes
** testing if installed package can be loaded from temporary location
** testing if installed package can be loaded from final location
** testing if installed package keeps a record of temporary installation path
install for x64
* installing *source* package 'RTNsurvival' ...
** testing if installed package can be loaded
* MD5 sums
packaged installation of 'RTNsurvival' as RTNsurvival_1.14.1.zip
* DONE (RTNsurvival)
* installing to library 'C:/Users/biocbuild/bbs-3.12-bioc/R/library'
package 'RTNsurvival' successfully unpacked and MD5 sums checked