| Back to Multiple platform build/check report for BioC 3.12 |
|
This page was generated on 2021-05-06 12:36:13 -0400 (Thu, 06 May 2021).
|
To the developers/maintainers of the ProteoMM package: Please make sure to use the following settings in order to reproduce any error or warning you see on this page. |
| Package 1405/1974 | Hostname | OS / Arch | INSTALL | BUILD | CHECK | BUILD BIN | ||||||||
| ProteoMM 1.8.0 (landing page) Yuliya V Karpievitch
| malbec1 | Linux (Ubuntu 18.04.5 LTS) / x86_64 | OK | OK | OK | |||||||||
| tokay1 | Windows Server 2012 R2 Standard / x64 | OK | OK | OK | OK | |||||||||
| merida1 | macOS 10.14.6 Mojave / x86_64 | OK | OK | OK | OK | |||||||||
| Package: ProteoMM |
| Version: 1.8.0 |
| Command: /Library/Frameworks/R.framework/Versions/Current/Resources/bin/R CMD check --install=check:ProteoMM.install-out.txt --library=/Library/Frameworks/R.framework/Versions/Current/Resources/library --no-vignettes --timings ProteoMM_1.8.0.tar.gz |
| StartedAt: 2021-05-06 04:58:44 -0400 (Thu, 06 May 2021) |
| EndedAt: 2021-05-06 05:01:22 -0400 (Thu, 06 May 2021) |
| EllapsedTime: 158.3 seconds |
| RetCode: 0 |
| Status: OK |
| CheckDir: ProteoMM.Rcheck |
| Warnings: 0 |
##############################################################################
##############################################################################
###
### Running command:
###
### /Library/Frameworks/R.framework/Versions/Current/Resources/bin/R CMD check --install=check:ProteoMM.install-out.txt --library=/Library/Frameworks/R.framework/Versions/Current/Resources/library --no-vignettes --timings ProteoMM_1.8.0.tar.gz
###
##############################################################################
##############################################################################
* using log directory ‘/Users/biocbuild/bbs-3.12-bioc/meat/ProteoMM.Rcheck’
* using R version 4.0.5 (2021-03-31)
* using platform: x86_64-apple-darwin17.0 (64-bit)
* using session charset: UTF-8
* using option ‘--no-vignettes’
* checking for file ‘ProteoMM/DESCRIPTION’ ... OK
* this is package ‘ProteoMM’ version ‘1.8.0’
* package encoding: UTF-8
* checking package namespace information ... OK
* checking package dependencies ... OK
* checking if this is a source package ... OK
* checking if there is a namespace ... OK
* checking for hidden files and directories ... OK
* checking for portable file names ... OK
* checking for sufficient/correct file permissions ... OK
* checking whether package ‘ProteoMM’ can be installed ... OK
* checking installed package size ... OK
* checking package directory ... OK
* checking ‘build’ directory ... OK
* checking DESCRIPTION meta-information ... NOTE
License components which are templates and need '+ file LICENSE':
MIT
* checking top-level files ... OK
* checking for left-over files ... OK
* checking index information ... OK
* checking package subdirectories ... OK
* checking R files for non-ASCII characters ... OK
* checking R files for syntax errors ... OK
* checking whether the package can be loaded ... OK
* checking whether the package can be loaded with stated dependencies ... OK
* checking whether the package can be unloaded cleanly ... OK
* checking whether the namespace can be loaded with stated dependencies ... OK
* checking whether the namespace can be unloaded cleanly ... OK
* checking dependencies in R code ... OK
* checking S3 generic/method consistency ... OK
* checking replacement functions ... OK
* checking foreign function calls ... OK
* checking R code for possible problems ... OK
* checking Rd files ... OK
* checking Rd metadata ... OK
* checking Rd cross-references ... OK
* checking for missing documentation entries ... OK
* checking for code/documentation mismatches ... OK
* checking Rd \usage sections ... OK
* checking Rd contents ... OK
* checking for unstated dependencies in examples ... OK
* checking contents of ‘data’ directory ... OK
* checking data for non-ASCII characters ... OK
* checking data for ASCII and uncompressed saves ... OK
* checking files in ‘vignettes’ ... OK
* checking examples ... OK
Examples with CPU (user + system) or elapsed time > 5s
user system elapsed
prot_level_multi_part 30.835 0.169 31.040
prot_level_multiMat_PresAbs 9.463 0.100 9.600
subset_proteins 9.264 0.127 9.404
peptideLevel_PresAbsDE 7.874 0.076 7.960
get_presAbs_prots 7.064 0.077 7.155
MBimpute 6.095 0.110 6.213
plot_volcano_wLab 5.939 0.048 5.996
peptideLevel_DE 5.830 0.088 5.924
plot_volcano 5.055 0.054 5.113
* checking for unstated dependencies in vignettes ... OK
* checking package vignettes in ‘inst/doc’ ... OK
* checking running R code from vignettes ... SKIPPED
* checking re-building of vignette outputs ... SKIPPED
* checking PDF version of manual ... OK
* DONE
Status: 1 NOTE
See
‘/Users/biocbuild/bbs-3.12-bioc/meat/ProteoMM.Rcheck/00check.log’
for details.
ProteoMM.Rcheck/00install.out
############################################################################## ############################################################################## ### ### Running command: ### ### /Library/Frameworks/R.framework/Versions/Current/Resources/bin/R CMD INSTALL ProteoMM ### ############################################################################## ############################################################################## * installing to library ‘/Library/Frameworks/R.framework/Versions/4.0/Resources/library’ * installing *source* package ‘ProteoMM’ ... ** using staged installation ** R ** data *** moving datasets to lazyload DB ** byte-compile and prepare package for lazy loading ** help *** installing help indices ** building package indices ** installing vignettes ** testing if installed package can be loaded from temporary location ** testing if installed package can be loaded from final location ** testing if installed package keeps a record of temporary installation path * DONE (ProteoMM)
ProteoMM.Rcheck/ProteoMM-Ex.timings
| name | user | system | elapsed | |
| MBimpute | 6.095 | 0.110 | 6.213 | |
| convert_log2 | 0.007 | 0.002 | 0.009 | |
| eig_norm1 | 4.302 | 0.056 | 4.364 | |
| eig_norm2 | 4.769 | 0.036 | 4.816 | |
| eigen_pi | 0.017 | 0.002 | 0.019 | |
| g.test | 0.003 | 0.000 | 0.003 | |
| get_presAbs_prots | 7.064 | 0.077 | 7.155 | |
| makeLMFormula | 0.000 | 0.001 | 0.000 | |
| make_intencities | 0.006 | 0.001 | 0.008 | |
| make_meta | 0.006 | 0.001 | 0.008 | |
| peptideLevel_DE | 5.830 | 0.088 | 5.924 | |
| peptideLevel_PresAbsDE | 7.874 | 0.076 | 7.960 | |
| plot_3_pep_trends_NOfile | 3.660 | 0.030 | 3.776 | |
| plot_volcano | 5.055 | 0.054 | 5.113 | |
| plot_volcano_wLab | 5.939 | 0.048 | 5.996 | |
| prot_level_multiMat_PresAbs | 9.463 | 0.100 | 9.600 | |
| prot_level_multi_part | 30.835 | 0.169 | 31.040 | |
| subset_proteins | 9.264 | 0.127 | 9.404 | |