| Back to Multiple platform build/check report for BioC 3.12 |
|
This page was generated on 2021-05-06 12:28:36 -0400 (Thu, 06 May 2021).
|
To the developers/maintainers of the PhyloProfile package: Please make sure to use the following settings in order to reproduce any error or warning you see on this page. |
| Package 1343/1974 | Hostname | OS / Arch | INSTALL | BUILD | CHECK | BUILD BIN | ||||||||
| PhyloProfile 1.4.11 (landing page) Vinh Tran
| malbec1 | Linux (Ubuntu 18.04.5 LTS) / x86_64 | OK | OK | OK | |||||||||
| tokay1 | Windows Server 2012 R2 Standard / x64 | OK | OK | OK | OK | |||||||||
| merida1 | macOS 10.14.6 Mojave / x86_64 | OK | OK | OK | OK | |||||||||
| Package: PhyloProfile |
| Version: 1.4.11 |
| Command: /home/biocbuild/bbs-3.12-bioc/R/bin/R CMD check --install=check:PhyloProfile.install-out.txt --library=/home/biocbuild/bbs-3.12-bioc/R/library --no-vignettes --timings PhyloProfile_1.4.11.tar.gz |
| StartedAt: 2021-05-06 04:29:54 -0400 (Thu, 06 May 2021) |
| EndedAt: 2021-05-06 04:32:51 -0400 (Thu, 06 May 2021) |
| EllapsedTime: 176.8 seconds |
| RetCode: 0 |
| Status: OK |
| CheckDir: PhyloProfile.Rcheck |
| Warnings: 0 |
############################################################################## ############################################################################## ### ### Running command: ### ### /home/biocbuild/bbs-3.12-bioc/R/bin/R CMD check --install=check:PhyloProfile.install-out.txt --library=/home/biocbuild/bbs-3.12-bioc/R/library --no-vignettes --timings PhyloProfile_1.4.11.tar.gz ### ############################################################################## ############################################################################## * using log directory ‘/home/biocbuild/bbs-3.12-bioc/meat/PhyloProfile.Rcheck’ * using R version 4.0.5 (2021-03-31) * using platform: x86_64-pc-linux-gnu (64-bit) * using session charset: UTF-8 * using option ‘--no-vignettes’ * checking for file ‘PhyloProfile/DESCRIPTION’ ... OK * this is package ‘PhyloProfile’ version ‘1.4.11’ * package encoding: UTF-8 * checking package namespace information ... OK * checking package dependencies ... OK * checking if this is a source package ... OK * checking if there is a namespace ... OK * checking for hidden files and directories ... OK * checking for portable file names ... OK * checking for sufficient/correct file permissions ... OK * checking whether package ‘PhyloProfile’ can be installed ... OK * checking installed package size ... OK * checking package directory ... OK * checking ‘build’ directory ... OK * checking DESCRIPTION meta-information ... OK * checking top-level files ... OK * checking for left-over files ... OK * checking index information ... OK * checking package subdirectories ... OK * checking R files for non-ASCII characters ... OK * checking R files for syntax errors ... OK * checking whether the package can be loaded ... OK * checking whether the package can be loaded with stated dependencies ... OK * checking whether the package can be unloaded cleanly ... OK * checking whether the namespace can be loaded with stated dependencies ... OK * checking whether the namespace can be unloaded cleanly ... OK * checking dependencies in R code ... OK * checking S3 generic/method consistency ... OK * checking replacement functions ... OK * checking foreign function calls ... OK * checking R code for possible problems ... OK * checking Rd files ... OK * checking Rd metadata ... OK * checking Rd cross-references ... OK * checking for missing documentation entries ... OK * checking for code/documentation mismatches ... OK * checking Rd \usage sections ... OK * checking Rd contents ... OK * checking for unstated dependencies in examples ... OK * checking contents of ‘data’ directory ... OK * checking data for non-ASCII characters ... OK * checking data for ASCII and uncompressed saves ... OK * checking files in ‘vignettes’ ... OK * checking examples ... OK * checking for unstated dependencies in ‘tests’ ... OK * checking tests ... Running ‘testthat.R’ OK * checking for unstated dependencies in vignettes ... OK * checking package vignettes in ‘inst/doc’ ... OK * checking running R code from vignettes ... SKIPPED * checking re-building of vignette outputs ... SKIPPED * checking PDF version of manual ... OK * DONE Status: OK
PhyloProfile.Rcheck/00install.out
############################################################################## ############################################################################## ### ### Running command: ### ### /home/biocbuild/bbs-3.12-bioc/R/bin/R CMD INSTALL PhyloProfile ### ############################################################################## ############################################################################## * installing to library ‘/home/biocbuild/bbs-3.12-bioc/R/library’ * installing *source* package ‘PhyloProfile’ ... ** using staged installation ** R ** data ** inst ** byte-compile and prepare package for lazy loading ** help *** installing help indices ** building package indices ** installing vignettes ** testing if installed package can be loaded from temporary location ** testing if installed package can be loaded from final location ** testing if installed package keeps a record of temporary installation path * DONE (PhyloProfile)
PhyloProfile.Rcheck/tests/testthat.Rout
R version 4.0.5 (2021-03-31) -- "Shake and Throw"
Copyright (C) 2021 The R Foundation for Statistical Computing
Platform: x86_64-pc-linux-gnu (64-bit)
R is free software and comes with ABSOLUTELY NO WARRANTY.
You are welcome to redistribute it under certain conditions.
Type 'license()' or 'licence()' for distribution details.
R is a collaborative project with many contributors.
Type 'contributors()' for more information and
'citation()' on how to cite R or R packages in publications.
Type 'demo()' for some demos, 'help()' for on-line help, or
'help.start()' for an HTML browser interface to help.
Type 'q()' to quit R.
> library(testthat)
> library(PhyloProfile)
>
> test_check("PhyloProfile")
[ FAIL 0 | WARN 0 | SKIP 0 | PASS 20 ]
>
> proc.time()
user system elapsed
9.268 0.216 9.677
PhyloProfile.Rcheck/PhyloProfile-Ex.timings
| name | user | system | elapsed | |
| calcPresSpec | 0.044 | 0.000 | 0.044 | |
| checkInputValidity | 0.016 | 0.000 | 0.019 | |
| checkNewick | 0.004 | 0.000 | 0.004 | |
| checkOmaID | 0 | 0 | 0 | |
| clusterDataDend | 0.072 | 0.004 | 0.076 | |
| compareMedianTaxonGroups | 0.044 | 0.004 | 0.050 | |
| compareTaxonGroups | 0.068 | 0.000 | 0.067 | |
| createArchiPlot | 0.736 | 0.000 | 0.757 | |
| createGeneAgePlot | 0.256 | 0.000 | 0.257 | |
| createLongMatrix | 0.032 | 0.004 | 0.039 | |
| createPercentageDistributionData | 0.152 | 0.016 | 0.171 | |
| createProfileFromOma | 0 | 0 | 0 | |
| createRootedTree | 0.020 | 0.000 | 0.021 | |
| createVarDistPlot | 0.232 | 0.000 | 0.233 | |
| createVariableDistributionData | 0.008 | 0.004 | 0.014 | |
| createVariableDistributionDataSubset | 0.012 | 0.000 | 0.014 | |
| dataCustomizedPlot | 0.020 | 0.000 | 0.019 | |
| dataFeatureTaxGroup | 0.024 | 0.000 | 0.022 | |
| dataMainPlot | 0.020 | 0.004 | 0.024 | |
| dataVarDistTaxGroup | 0.012 | 0.000 | 0.008 | |
| estimateGeneAge | 0.232 | 0.008 | 0.242 | |
| fastaParser | 0.068 | 0.000 | 0.105 | |
| featureDistTaxPlot | 0.272 | 0.000 | 0.277 | |
| filterProfileData | 0.168 | 0.012 | 0.184 | |
| fromInputToProfile | 0.220 | 0.004 | 0.240 | |
| geneAgePlotDf | 0.008 | 0.000 | 0.008 | |
| generateSinglePlot | 0.464 | 0.000 | 0.462 | |
| getAllDomainsOma | 0 | 0 | 0 | |
| getAllFastaOma | 0 | 0 | 0 | |
| getCommonAncestor | 0.064 | 0.000 | 0.062 | |
| getCoreGene | 0.132 | 0.008 | 0.140 | |
| getDataClustering | 0.016 | 0.000 | 0.015 | |
| getDataForOneOma | 0 | 0 | 0 | |
| getDendrogram | 0.068 | 0.000 | 0.068 | |
| getDistanceMatrix | 0.02 | 0.00 | 0.02 | |
| getDomainFolder | 0.000 | 0.000 | 0.001 | |
| getFastaFromFasInput | 0.024 | 0.000 | 0.024 | |
| getFastaFromFile | 0.020 | 0.000 | 0.019 | |
| getFastaFromFolder | 0.012 | 0.000 | 0.013 | |
| getIDsRank | 0.048 | 0.000 | 0.057 | |
| getInputTaxaID | 0.004 | 0.000 | 0.004 | |
| getInputTaxaName | 0.02 | 0.00 | 0.02 | |
| getNameList | 0.036 | 0.008 | 0.046 | |
| getOmaDataForOneOrtholog | 0.004 | 0.000 | 0.000 | |
| getOmaDomainFromURL | 0 | 0 | 0 | |
| getOmaMembers | 0.000 | 0.000 | 0.001 | |
| getQualColForVector | 0.004 | 0.000 | 0.000 | |
| getSelectedFastaOma | 0 | 0 | 0 | |
| getSelectedTaxonNames | 0.052 | 0.000 | 0.052 | |
| getTaxonomyInfo | 0.024 | 0.000 | 0.025 | |
| getTaxonomyMatrix | 0.172 | 0.036 | 0.209 | |
| getTaxonomyRanks | 0.000 | 0.000 | 0.001 | |
| gridArrangeSharedLegend | 1.200 | 0.000 | 1.206 | |
| heatmapPlotting | 0.276 | 0.012 | 0.289 | |
| highlightProfilePlot | 0.348 | 0.036 | 0.382 | |
| mainTaxonomyRank | 0.000 | 0.000 | 0.001 | |
| pairDomainPlotting | 0 | 0 | 0 | |
| parseDomainInput | 0.020 | 0.008 | 0.028 | |
| parseInfoProfile | 0.096 | 0.012 | 0.112 | |
| processNcbiTaxonomy | 0.084 | 0.040 | 1.685 | |
| qualitativeColours | 0.000 | 0.004 | 0.001 | |
| rankIndexing | 0 | 0 | 0 | |
| reduceProfile | 0.012 | 0.004 | 0.017 | |
| runPhyloProfile | 0.076 | 0.044 | 0.125 | |
| singleDomainPlotting | 0 | 0 | 0 | |
| sortDomains | 0.000 | 0.000 | 0.001 | |
| sortInputTaxa | 0.128 | 0.012 | 0.141 | |
| sortTaxaFromTree | 0.024 | 0.000 | 0.024 | |
| taxonomyTableCreator | 0.184 | 0.016 | 0.357 | |
| varDistTaxPlot | 0.924 | 0.028 | 0.953 | |
| wideToLong | 0.016 | 0.000 | 0.014 | |
| xmlParser | 0.024 | 0.000 | 0.063 | |