| Back to Multiple platform build/check report for BioC 3.12 |
|
This page was generated on 2021-05-06 12:36:01 -0400 (Thu, 06 May 2021).
|
To the developers/maintainers of the Onassis package: Please make sure to use the following settings in order to reproduce any error or warning you see on this page. |
| Package 1261/1974 | Hostname | OS / Arch | INSTALL | BUILD | CHECK | BUILD BIN | ||||||||
| Onassis 1.12.0 (landing page) Eugenia Galeota
| malbec1 | Linux (Ubuntu 18.04.5 LTS) / x86_64 | OK | OK | OK | |||||||||
| tokay1 | Windows Server 2012 R2 Standard / x64 | OK | OK | OK | OK | |||||||||
| merida1 | macOS 10.14.6 Mojave / x86_64 | OK | OK | OK | OK | |||||||||
| Package: Onassis |
| Version: 1.12.0 |
| Command: /Library/Frameworks/R.framework/Versions/Current/Resources/bin/R CMD check --install=check:Onassis.install-out.txt --library=/Library/Frameworks/R.framework/Versions/Current/Resources/library --no-vignettes --timings Onassis_1.12.0.tar.gz |
| StartedAt: 2021-05-06 04:22:45 -0400 (Thu, 06 May 2021) |
| EndedAt: 2021-05-06 04:25:28 -0400 (Thu, 06 May 2021) |
| EllapsedTime: 163.3 seconds |
| RetCode: 0 |
| Status: OK |
| CheckDir: Onassis.Rcheck |
| Warnings: 0 |
##############################################################################
##############################################################################
###
### Running command:
###
### /Library/Frameworks/R.framework/Versions/Current/Resources/bin/R CMD check --install=check:Onassis.install-out.txt --library=/Library/Frameworks/R.framework/Versions/Current/Resources/library --no-vignettes --timings Onassis_1.12.0.tar.gz
###
##############################################################################
##############################################################################
* using log directory ‘/Users/biocbuild/bbs-3.12-bioc/meat/Onassis.Rcheck’
* using R version 4.0.5 (2021-03-31)
* using platform: x86_64-apple-darwin17.0 (64-bit)
* using session charset: UTF-8
* using option ‘--no-vignettes’
* checking for file ‘Onassis/DESCRIPTION’ ... OK
* this is package ‘Onassis’ version ‘1.12.0’
* package encoding: UTF-8
* checking package namespace information ... OK
* checking package dependencies ... OK
* checking if this is a source package ... OK
* checking if there is a namespace ... OK
* checking for hidden files and directories ... NOTE
Found the following hidden files and directories:
.BBSoptions
These were most likely included in error. See section ‘Package
structure’ in the ‘Writing R Extensions’ manual.
* checking for portable file names ... OK
* checking for sufficient/correct file permissions ... OK
* checking whether package ‘Onassis’ can be installed ... OK
* checking installed package size ... OK
* checking package directory ... OK
* checking ‘build’ directory ... OK
* checking DESCRIPTION meta-information ... NOTE
Package listed in more than one of Depends, Imports, Suggests, Enhances:
‘data.table’
A package should be listed in only one of these fields.
* checking top-level files ... OK
* checking for left-over files ... OK
* checking index information ... OK
* checking package subdirectories ... OK
* checking R files for non-ASCII characters ... OK
* checking R files for syntax errors ... OK
* checking whether the package can be loaded ... OK
* checking whether the package can be loaded with stated dependencies ... OK
* checking whether the package can be unloaded cleanly ... OK
* checking whether the namespace can be loaded with stated dependencies ... OK
* checking whether the namespace can be unloaded cleanly ... OK
* checking dependencies in R code ... NOTE
Namespaces in Imports field not imported from:
‘DT’ ‘Rtsne’ ‘clusteval’ ‘dendextend’ ‘ggfortify’ ‘ggplot2’ ‘knitr’
‘stats’
All declared Imports should be used.
* checking S3 generic/method consistency ... OK
* checking replacement functions ... OK
* checking foreign function calls ... OK
* checking R code for possible problems ... NOTE
annotate,data.frame-character-character: no visible binding for global
variable ‘sample_id’
annotateDF,EntityFinder-data.frame-character-CMoptions: no visible
binding for global variable ‘ID’
annotateDF,EntityFinder-data.frame-character-CMoptions: no visible
binding for global variable ‘NEW’
collapse,Onassis: no visible global function definition for ‘as.dist’
collapse,Onassis: no visible global function definition for ‘hclust’
collapse,Onassis: no visible global function definition for ‘cutree’
compare,Onassis: no visible global function definition for ‘p.adjust’
Undefined global functions or variables:
ID NEW as.dist cutree hclust p.adjust sample_id
Consider adding
importFrom("stats", "as.dist", "cutree", "hclust", "p.adjust")
to your NAMESPACE file.
* checking Rd files ... OK
* checking Rd metadata ... OK
* checking Rd cross-references ... OK
* checking for missing documentation entries ... OK
* checking for code/documentation mismatches ... OK
* checking Rd \usage sections ... OK
* checking Rd contents ... OK
* checking for unstated dependencies in examples ... OK
* checking files in ‘vignettes’ ... OK
* checking examples ... OK
Examples with CPU (user + system) or elapsed time > 5s
user system elapsed
EntityFinder 18.621 1.50 5.875
compare 13.098 0.69 11.694
annotate 8.448 0.52 2.843
collapse 7.899 0.49 3.809
sim 5.796 0.38 4.213
* checking for unstated dependencies in vignettes ... OK
* checking package vignettes in ‘inst/doc’ ... OK
* checking running R code from vignettes ... SKIPPED
* checking re-building of vignette outputs ... SKIPPED
* checking PDF version of manual ... OK
* DONE
Status: 4 NOTEs
See
‘/Users/biocbuild/bbs-3.12-bioc/meat/Onassis.Rcheck/00check.log’
for details.
Onassis.Rcheck/00install.out
############################################################################## ############################################################################## ### ### Running command: ### ### /Library/Frameworks/R.framework/Versions/Current/Resources/bin/R CMD INSTALL Onassis ### ############################################################################## ############################################################################## * installing to library ‘/Library/Frameworks/R.framework/Versions/4.0/Resources/library’ * installing *source* package ‘Onassis’ ... ** using staged installation ** R ** inst ** byte-compile and prepare package for lazy loading ** help *** installing help indices ** building package indices ** installing vignettes ** testing if installed package can be loaded from temporary location ** testing if installed package can be loaded from final location ** testing if installed package keeps a record of temporary installation path * DONE (Onassis)
Onassis.Rcheck/Onassis-Ex.timings
| name | user | system | elapsed | |
| CMdictionary-class | 0.002 | 0.001 | 0.002 | |
| CMdictionary | 0.000 | 0.001 | 0.000 | |
| CMoptions-class | 0.009 | 0.002 | 0.010 | |
| CMoptions | 0.007 | 0.001 | 0.008 | |
| CaseMatch | 0.013 | 0.002 | 0.016 | |
| EntityFinder-class | 0.125 | 0.020 | 0.087 | |
| EntityFinder | 18.621 | 1.500 | 5.875 | |
| FindAllMatches | 0.016 | 0.002 | 0.018 | |
| GEOHandler-functions | 0.001 | 0.000 | 0.000 | |
| Onassis | 0.001 | 0.000 | 0.001 | |
| OrderIndependentLookup | 0.014 | 0.003 | 0.018 | |
| SearchStrategy | 0.012 | 0.002 | 0.014 | |
| Similarity-class | 0.004 | 0.001 | 0.006 | |
| Similarity | 0.881 | 0.129 | 0.542 | |
| Stemmer | 0.013 | 0.003 | 0.015 | |
| StopWords | 0.014 | 0.003 | 0.017 | |
| SynonymType | 0.014 | 0.003 | 0.017 | |
| annotate | 8.448 | 0.520 | 2.843 | |
| annotateDF | 2.922 | 0.222 | 0.751 | |
| collapse | 7.899 | 0.490 | 3.809 | |
| compare | 13.098 | 0.690 | 11.694 | |
| dictInfo | 0.001 | 0.000 | 0.001 | |
| dictRef | 0.003 | 0.001 | 0.004 | |
| dictTypes | 0.003 | 0.001 | 0.004 | |
| dict_location | 0.001 | 0.000 | 0.002 | |
| dictionary | 0.001 | 0.000 | 0.001 | |
| entities | 0.002 | 0.001 | 0.002 | |
| experiment_types | 0.001 | 0.000 | 0.001 | |
| filterTerms | 0.068 | 0.001 | 0.070 | |
| filterconcepts | 0.850 | 0.102 | 0.531 | |
| findEntities | 1.942 | 0.145 | 0.610 | |
| findHealthy | 0.173 | 0.002 | 0.073 | |
| getGEOMetadata | 0.002 | 0.001 | 0.001 | |
| groupConfig | 0.195 | 0.002 | 0.089 | |
| groupsim | 0.390 | 0.008 | 0.328 | |
| groupwiseConfigRef | 0.083 | 0.002 | 0.070 | |
| icConfig | 0.002 | 0.001 | 0.002 | |
| listCMOptions | 0.002 | 0.001 | 0.004 | |
| listSimilarities | 0.072 | 0.000 | 0.073 | |
| mergeonassis | 1.859 | 0.213 | 1.069 | |
| multisim | 3.237 | 0.227 | 1.592 | |
| ontology | 0.023 | 0.001 | 0.012 | |
| organism_types | 0.000 | 0.000 | 0.001 | |
| pairsim | 0.252 | 0.002 | 0.135 | |
| pairwiseConfig | 0.242 | 0.002 | 0.120 | |
| pairwiseConfigRef | 0.101 | 0.000 | 0.051 | |
| paramValueIndex | 0.035 | 0.003 | 0.018 | |
| samplesim | 1.331 | 0.179 | 0.899 | |
| scores | 0.001 | 0.000 | 0.002 | |
| sim | 5.796 | 0.380 | 4.213 | |
| simil | 0.000 | 0.000 | 0.001 | |
| similarityInstance | 0.003 | 0.000 | 0.002 | |
| typeSystemRef | 0.010 | 0.000 | 0.011 | |