| Back to Multiple platform build/check report for BioC 3.12 |
|
This page was generated on 2021-05-06 12:28:26 -0400 (Thu, 06 May 2021).
|
To the developers/maintainers of the OLIN package: Please make sure to use the following settings in order to reproduce any error or warning you see on this page. |
| Package 1248/1974 | Hostname | OS / Arch | INSTALL | BUILD | CHECK | BUILD BIN | ||||||||
| OLIN 1.68.0 (landing page) Matthias Futschik
| malbec1 | Linux (Ubuntu 18.04.5 LTS) / x86_64 | OK | OK | OK | |||||||||
| tokay1 | Windows Server 2012 R2 Standard / x64 | OK | OK | OK | OK | |||||||||
| merida1 | macOS 10.14.6 Mojave / x86_64 | OK | OK | OK | OK | |||||||||
| Package: OLIN |
| Version: 1.68.0 |
| Command: /home/biocbuild/bbs-3.12-bioc/R/bin/R CMD check --install=check:OLIN.install-out.txt --library=/home/biocbuild/bbs-3.12-bioc/R/library --no-vignettes --timings OLIN_1.68.0.tar.gz |
| StartedAt: 2021-05-06 04:06:30 -0400 (Thu, 06 May 2021) |
| EndedAt: 2021-05-06 04:07:38 -0400 (Thu, 06 May 2021) |
| EllapsedTime: 68.0 seconds |
| RetCode: 0 |
| Status: OK |
| CheckDir: OLIN.Rcheck |
| Warnings: 0 |
##############################################################################
##############################################################################
###
### Running command:
###
### /home/biocbuild/bbs-3.12-bioc/R/bin/R CMD check --install=check:OLIN.install-out.txt --library=/home/biocbuild/bbs-3.12-bioc/R/library --no-vignettes --timings OLIN_1.68.0.tar.gz
###
##############################################################################
##############################################################################
* using log directory ‘/home/biocbuild/bbs-3.12-bioc/meat/OLIN.Rcheck’
* using R version 4.0.5 (2021-03-31)
* using platform: x86_64-pc-linux-gnu (64-bit)
* using session charset: UTF-8
* using option ‘--no-vignettes’
* checking for file ‘OLIN/DESCRIPTION’ ... OK
* this is package ‘OLIN’ version ‘1.68.0’
* checking package namespace information ... OK
* checking package dependencies ... OK
* checking if this is a source package ... OK
* checking if there is a namespace ... OK
* checking for hidden files and directories ... OK
* checking for portable file names ... OK
* checking for sufficient/correct file permissions ... OK
* checking whether package ‘OLIN’ can be installed ... OK
* checking installed package size ... OK
* checking package directory ... OK
* checking ‘build’ directory ... OK
* checking DESCRIPTION meta-information ... NOTE
Malformed Description field: should contain one or more complete sentences.
Packages listed in more than one of Depends, Imports, Suggests, Enhances:
‘marray’ ‘methods’
A package should be listed in only one of these fields.
* checking top-level files ... OK
* checking for left-over files ... OK
* checking index information ... OK
* checking package subdirectories ... OK
* checking R files for non-ASCII characters ... OK
* checking R files for syntax errors ... OK
* checking whether the package can be loaded ... OK
* checking whether the package can be loaded with stated dependencies ... OK
* checking whether the package can be unloaded cleanly ... OK
* checking whether the namespace can be loaded with stated dependencies ... OK
* checking whether the namespace can be unloaded cleanly ... OK
* checking dependencies in R code ... NOTE
'library' or 'require' call to ‘convert’ in package code.
Please use :: or requireNamespace() instead.
See section 'Suggested packages' in the 'Writing R Extensions' manual.
Package in Depends field not imported from: ‘locfit’
These packages need to be imported from (in the NAMESPACE file)
for when this namespace is loaded but not attached.
* checking S3 generic/method consistency ... OK
* checking replacement functions ... OK
* checking foreign function calls ... OK
* checking R code for possible problems ... NOTE
ino: no visible global function definition for ‘locfit’
ino: no visible global function definition for ‘predict’
lin: no visible global function definition for ‘locfit’
lin: no visible global function definition for ‘predict’
oin: no visible global function definition for ‘gcvplot’
oin: no visible global function definition for ‘locfit’
oin: no visible global function definition for ‘predict’
olin: no visible global function definition for ‘gcv’
olin: no visible global function definition for ‘locfit’
olin: no visible global function definition for ‘predict’
Undefined global functions or variables:
gcv gcvplot locfit predict
Consider adding
importFrom("stats", "predict")
to your NAMESPACE file.
* checking Rd files ... OK
* checking Rd metadata ... OK
* checking Rd cross-references ... OK
* checking for missing documentation entries ... OK
* checking for code/documentation mismatches ... OK
* checking Rd \usage sections ... OK
* checking Rd contents ... OK
* checking for unstated dependencies in examples ... OK
* checking contents of ‘data’ directory ... OK
* checking data for non-ASCII characters ... OK
* checking data for ASCII and uncompressed saves ... OK
* checking files in ‘vignettes’ ... OK
* checking examples ... OK
Examples with CPU (user + system) or elapsed time > 5s
user system elapsed
olin 23.716 0.024 23.768
* checking for unstated dependencies in vignettes ... OK
* checking package vignettes in ‘inst/doc’ ... OK
* checking running R code from vignettes ... SKIPPED
* checking re-building of vignette outputs ... SKIPPED
* checking PDF version of manual ... OK
* DONE
Status: 3 NOTEs
See
‘/home/biocbuild/bbs-3.12-bioc/meat/OLIN.Rcheck/00check.log’
for details.
OLIN.Rcheck/00install.out
############################################################################## ############################################################################## ### ### Running command: ### ### /home/biocbuild/bbs-3.12-bioc/R/bin/R CMD INSTALL OLIN ### ############################################################################## ############################################################################## * installing to library ‘/home/biocbuild/bbs-3.12-bioc/R/library’ * installing *source* package ‘OLIN’ ... ** using staged installation ** R ** data ** inst ** byte-compile and prepare package for lazy loading ** help *** installing help indices ** building package indices ** installing vignettes ** testing if installed package can be loaded from temporary location ** testing if installed package can be loaded from final location ** testing if installed package keeps a record of temporary installation path * DONE (OLIN)
OLIN.Rcheck/OLIN-Ex.timings
| name | user | system | elapsed | |
| anovaint | 0.160 | 0.016 | 0.177 | |
| anovapin | 0.072 | 0.012 | 0.082 | |
| anovaplate | 0.072 | 0.008 | 0.081 | |
| anovaspatial | 0.188 | 0.004 | 0.193 | |
| backgroundCorrect2 | 0.752 | 0.032 | 0.785 | |
| bas | 0.212 | 0.004 | 0.214 | |
| colorbar.mxy | 0.044 | 0.000 | 0.047 | |
| fdr.int | 0 | 0 | 0 | |
| fdr.int2 | 0.000 | 0.000 | 0.001 | |
| fdr.spatial | 0 | 0 | 0 | |
| fdr.spatial2 | 0 | 0 | 0 | |
| fgbg.visu | 0.092 | 0.012 | 0.104 | |
| ino | 0.336 | 0.008 | 0.341 | |
| lin | 0.752 | 0.000 | 0.754 | |
| m2v | 0.064 | 0.000 | 0.063 | |
| ma.matrix | 0.392 | 0.000 | 0.392 | |
| ma.vector | 0.496 | 0.008 | 0.505 | |
| mxy.abs.plot | 0.284 | 0.012 | 0.299 | |
| mxy.plot | 0.064 | 0.000 | 0.067 | |
| mxy2.plot | 0.048 | 0.008 | 0.053 | |
| oin | 1.300 | 0.012 | 1.313 | |
| olin | 23.716 | 0.024 | 23.768 | |
| p.int | 0 | 0 | 0 | |
| p.int2 | 0 | 0 | 0 | |
| p.spatial | 0 | 0 | 0 | |
| p.spatial2 | 0 | 0 | 0 | |
| sig.mask | 0 | 0 | 0 | |
| sigint.plot | 0 | 0 | 0 | |
| sigint.plot2 | 0 | 0 | 0 | |
| sigxy.plot | 0.000 | 0.000 | 0.001 | |
| sigxy.plot2 | 0 | 0 | 0 | |
| v2m | 0.084 | 0.008 | 0.091 | |